Workbook
Name ActiveStatus: '⚙️ Reference Lists'!$H$62:$H$68
Name Departments: '⚙️ Reference Lists'!$B$8:$B$27
Name Grades: '⚙️ Reference Lists'!$B$44:$B$64
Name JobRoles: '⚙️ Reference Lists'!$E$8:$E$46
Name MandatoryTypes: '⚙️ Reference Lists'!$H$52:$H$58
Name RenewalMethods: '⚙️ Reference Lists'!$H$31:$H$48
Name Sites: '⚙️ Reference Lists'!$E$50:$E$66
Name TrainingCategories: '⚙️ Reference Lists'!$H$8:$H$27
Name WorkerTypes: '⚙️ Reference Lists'!$B$31:$B$40

Sheet 📋 Cover & Instructions
C2: P O W E R E D B Y C H O R U S
C3: Workforce training, compliance & competence matrix
C4: Training & Competence Management
B6: A B O U T T H I S S P R E A D S H E E T
B7: This Training Matrix has been designed for large utilities and infrastructure organisations to track employee and subcontractor training, compliance, and competence. It provides at-a-glance visibility of workforce qualification status, expiry alerts, and role-based requirements.
B9: Remember: No matter how good a spreadsheet and matrix is, it will only ever be as good as the information at the last time it was updated - it isn't a live view. Chorus picks up exactly where the spreadsheet runs out of road. Expiries flagged automatically, one live version every stakeholder sees, subcontractors tracked the same way as your direct workforce.
B11: You've already done the hard part, you've got your training data in order. Chorus just makes sure it stays that way without someone chasing it by hand.
B12: Want to see it running against your own data?
B13: S H E E T G U I D E
B14: 🔑 Legend & Key | C14: Colour codes, status definitions, and data entry guidance.
B15: 🗺️ Visual Summary | C15: Simple matrix view of traing validity
B16: 📊 Training Matrix | C16: Main workforce training tracker. Enter/update qualification data here.
B17: 📈 Dashboard | C17: Auto-calculated summary: compliance rates, expiry alerts, role breakdowns.
B18: 👥 Worker Register | C18: Master list of all employees and subcontractors with role/department data.
B19: 📚 Training Catalogue | C19: Full list of required training courses, validity periods, and regulatory refs.
B20: ⚠️ Expiry Alerts | C20: Auto-filtered view of all certifications expiring within 90 days.
B21: ⚙️ Reference Lists | C21: All dropdown source data in one place. Customise departments, job roles, sites, grades and more here.
B22: ⚙️ Alert Data | C22: Data tab for Expiry Alerts, input length of certifcation data here
B24: ⚠ DISCLAIMER: This template is provided as a management aid. It does not replace statutory obligations under the Health & Safety at Work Act 1974, CDM 2015, or sector-specific regulations. Always verify compliance requirements with your legal and HSE advisors.

Sheet 🔑 Legend & Key
B2: Legend, Key and Data Entry Guidance
B4: C E R T I F I C A T I O N S T A T U S C O D E S
B5: ✅ VALID | C5: Certification current and in date
B6: ⚠️ EXPIRING SOON | C6: Expires within 60 days - action required
B7: ❌ EXPIRED | C7: Certification has expired - worker must not operate
B8: 📅 NOT YET DUE | C8: Training not yet required for this role
B9: — NOT APPLICABLE | C9: This qualification is not required for this role
B10: 🔶 SUBCONTRACTOR | C10: Row denotes a subcontractor worker
B12: D A T A E N T R Y G U I D A N C E
B13: Certification Date | C13: Enter in DD/MM/YYYY format. The Status column will reflect currency based on validity period.
B14: Worker Type | C14: Use the drop-down: Employee / Subcontractor / Agency / Apprentice. Subcontractors are highlighted gold.
B15: Compliance % | C15: Auto-calculated based on VALID certs vs total applicable. Green ≥90%, Amber ≥70%, Red <70%.
B16: N/A cells | C16: Leave as N/A if a course is not applicable to the worker's role. Do NOT enter a date.
B17: Leavers | C17: Change 'Active?' to NO in the Worker Register. Consider archiving the row rather than deleting.
B18: New Workers | C18: Add to Worker Register first, then add a row to the Training Matrix referencing their Worker ID.
B19: Subcontractors | C19: Ensure contract end dates are populated. Cross-reference with NRSWA and Gas Safe requirements.
B20: Toolbox Talks | C20: Record date of most recent monthly briefing in the TBT column. Validity = 31 days.

Sheet 🗺️ Visual Summary
A1: TRAINING COMPLIANCE VISUAL SUMMARY | Live reference from Training Matrix
A2: Name | B2: Worker Type | C2: Department / Role | D2: Compliance % | E2: ='📊 Training Matrix'!J3 -> HS-001 H&S Induction | F2: ='📊 Training Matrix'!L3 -> HS-002 Working at Height | G2: ='📊 Training Matrix'!N3 -> HS-003 Confined Space | H2: ='📊 Training Matrix'!P3 -> HS-004 Manual Handling | I2: ='📊 Training Matrix'!R3 -> HS-005 First Aid (FAW) | J2: ='📊 Training Matrix'!T3 -> HS-006 Asbestos Aware. | K2: ='📊 Training Matrix'!V3 -> EL-001 C&G 2391 Inspect | L2: ='📊 Training Matrix'!X3 -> EL-002 18th Edition | M2: ='📊 Training Matrix'!Z3 -> EL-003 HV Auth. Person | N2: ='📊 Training Matrix'!AB3 -> EL-004 LV Switching | O2: ='📊 Training Matrix'!AD3 -> CV-005 NRSWA Supvsr | P2: ='📊 Training Matrix'!AF3 -> CV-006 NRSWA Operative | Q2: ='📊 Training Matrix'!AH3 -> CV-002 CSCS Blue | R2: ='📊 Training Matrix'!AJ3 -> GS-001 Gas Safe Reg. | S2: ='📊 Training Matrix'!AL3 -> GS-002 ACS Gas (CCN1) | T2: ='📊 Training Matrix'!AN3 -> WA-001 WIAPS Cert. | U2: ='📊 Training Matrix'!AP3 -> DR-004 CPCS Excavator | V2: ='📊 Training Matrix'!AR3 -> MG-002 SMSTS | W2: ='📊 Training Matrix'!AT3 -> MG-003 SSSTS | X2: ='📊 Training Matrix'!AV3 -> IT-002 GDPR
A3: 🔶 Hannah Martin | B3: Subcontractor | C3: IT & Systems › IT Manager | D3: ='📊 Training Matrix'!$I$5 -> 0.6 | E3: {=IFERROR(CHOOSE(MATCH('📊 Training Matrix'!$K$5,{"VALID","EXPIRING","EXPIRED","NOT TRAINED","N/A"},0),"✓","!","✗","○","—"),"—")} -> ✓ | F3: {=IFERROR(CHOOSE(MATCH('📊 Training Matrix'!$M$5,{"VALID","EXPIRING","EXPIRED","NOT TRAINED","N/A"},0),"✓","!","✗","○","—"),"—")} -> ✓ | G3: {=IFERROR(CHOOSE(MATCH('📊 Training Matrix'!$O$5,{"VALID","EXPIRING","EXPIRED","NOT TRAINED","N/A"},0),"✓","!","✗","○","—"),"—")} -> ○ | H3: {=IFERROR(CHOOSE(MATCH('📊 Training Matrix'!$Q$5,{"VALID","EXPIRING","EXPIRED","NOT TRAINED","N/A"},0),"✓","!","✗","○","—"),"—")} -> ✗ | I3: {=IFERROR(CHOOSE(MATCH('📊 Training Matrix'!$S$5,{"VALID","EXPIRING","EXPIRED","NOT TRAINED","N/A"},0),"✓","!","✗","○","—"),"—")} -> ✗ | J3: {=IFERROR(CHOOSE(MATCH('📊 Training Matrix'!$U$5,{"VALID","EXPIRING","EXPIRED","NOT TRAINED","N/A"},0),"✓","!","✗","○","—"),"—")} -> ○ | K3: {=IFERROR(CHOOSE(MATCH('📊 Training Matrix'!$W$5,{"VALID","EXPIRING","EXPIRED","NOT TRAINED","N/A"},0),"✓","!","✗","○","—"),"—")} -> ○ | L3: {=IFERROR(CHOOSE(MATCH('📊 Training Matrix'!$Y$5,{"VALID","EXPIRING","EXPIRED","NOT TRAINED","N/A"},0),"✓","!","✗","○","—"),"—")} -> ○ | M3: {=IFERROR(CHOOSE(MATCH('📊 Training Matrix'!$AA$5,{"VALID","EXPIRING","EXPIRED","NOT TRAINED","N/A"},0),"✓","!","✗","○","—"),"—")} -> ○ | N3: {=IFERROR(CHOOSE(MATCH('📊 Training Matrix'!$AC$5,{"VALID","EXPIRING","EXPIRED","NOT TRAINED","N/A"},0),"✓","!","✗","○","—"),"—")} -> ○ | O3: {=IFERROR(CHOOSE(MATCH('📊 Training Matrix'!$AE$5,{"VALID","EXPIRING","EXPIRED","NOT TRAINED","N/A"},0),"✓","!","✗","○","—"),"—")} -> ○ | P3: {=IFERROR(CHOOSE(MATCH('📊 Training Matrix'!$AG$5,{"VALID","EXPIRING","EXPIRED","NOT TRAINED","N/A"},0),"✓","!","✗","○","—"),"—")} -> ○ | Q3: {=IFERROR(CHOOSE(MATCH('📊 Training Matrix'!$AI$5,{"VALID","EXPIRING","EXPIRED","NOT TRAINED","N/A"},0),"✓","!","✗","○","—"),"—")} -> ○ | R3: {=IFERROR(CHOOSE(MATCH('📊 Training Matrix'!$AK$5,{"VALID","EXPIRING","EXPIRED","NOT TRAINED","N/A"},0),"✓","!","✗","○","—"),"—")} -> ○ | S3: {=IFERROR(CHOOSE(MATCH('📊 Training Matrix'!$AM$5,{"VALID","EXPIRING","EXPIRED","NOT TRAINED","N/A"},0),"✓","!","✗","○","—"),"—")} -> ○ | T3: {=IFERROR(CHOOSE(MATCH('📊 Training Matrix'!$AO$5,{"VALID","EXPIRING","EXPIRED","NOT TRAINED","N/A"},0),"✓","!","✗","○","—"),"—")} -> ○ | U3: {=IFERROR(CHOOSE(MATCH('📊 Training Matrix'!$AQ$5,{"VALID","EXPIRING","EXPIRED","NOT TRAINED","N/A"},0),"✓","!","✗","○","—"),"—")} -> ○ | V3: {=IFERROR(CHOOSE(MATCH('📊 Training Matrix'!$AS$5,{"VALID","EXPIRING","EXPIRED","NOT TRAINED","N/A"},0),"✓","!","✗","○","—"),"—")} -> ○ | W3: {=IFERROR(CHOOSE(MATCH('📊 Training Matrix'!$AU$5,{"VALID","EXPIRING","EXPIRED","NOT TRAINED","N/A"},0),"✓","!","✗","○","—"),"—")} -> ○ | X3: {=IFERROR(CHOOSE(MATCH('📊 Training Matrix'!$AW$5,{"VALID","EXPIRING","EXPIRED","NOT TRAINED","N/A"},0),"✓","!","✗","○","—"),"—")} -> ✓
A4: Simon Adams | B4: Employee | C4: HSEQ › HSEQ Manager | D4: ='📊 Training Matrix'!$I$6 -> 0.5 | E4: {=IFERROR(CHOOSE(MATCH('📊 Training Matrix'!$K$6,{"VALID","EXPIRING","EXPIRED","NOT TRAINED","N/A"},0),"✓","!","✗","○","—"),"—")} -> ✓ | F4: {=IFERROR(CHOOSE(MATCH('📊 Training Matrix'!$M$6,{"VALID","EXPIRING","EXPIRED","NOT TRAINED","N/A"},0),"✓","!","✗","○","—"),"—")} -> ○ | G4: {=IFERROR(CHOOSE(MATCH('📊 Training Matrix'!$O$6,{"VALID","EXPIRING","EXPIRED","NOT TRAINED","N/A"},0),"✓","!","✗","○","—"),"—")} -> ○ | H4: {=IFERROR(CHOOSE(MATCH('📊 Training Matrix'!$Q$6,{"VALID","EXPIRING","EXPIRED","NOT TRAINED","N/A"},0),"✓","!","✗","○","—"),"—")} -> ! | I4: {=IFERROR(CHOOSE(MATCH('📊 Training Matrix'!$S$6,{"VALID","EXPIRING","EXPIRED","NOT TRAINED","N/A"},0),"✓","!","✗","○","—"),"—")} -> ✗ | J4: {=IFERROR(CHOOSE(MATCH('📊 Training Matrix'!$U$6,{"VALID","EXPIRING","EXPIRED","NOT TRAINED","N/A"},0),"✓","!","✗","○","—"),"—")} -> ○ | K4: {=IFERROR(CHOOSE(MATCH('📊 Training Matrix'!$W$6,{"VALID","EXPIRING","EXPIRED","NOT TRAINED","N/A"},0),"✓","!","✗","○","—"),"—")} -> ○ | L4: {=IFERROR(CHOOSE(MATCH('📊 Training Matrix'!$Y$6,{"VALID","EXPIRING","EXPIRED","NOT TRAINED","N/A"},0),"✓","!","✗","○","—"),"—")} -> ○ | M4: {=IFERROR(CHOOSE(MATCH('📊 Training Matrix'!$AA$6,{"VALID","EXPIRING","EXPIRED","NOT TRAINED","N/A"},0),"✓","!","✗","○","—"),"—")} -> ○ | N4: {=IFERROR(CHOOSE(MATCH('📊 Training Matrix'!$AC$6,{"VALID","EXPIRING","EXPIRED","NOT TRAINED","N/A"},0),"✓","!","✗","○","—"),"—")} -> ○ | O4: {=IFERROR(CHOOSE(MATCH('📊 Training Matrix'!$AE$6,{"VALID","EXPIRING","EXPIRED","NOT TRAINED","N/A"},0),"✓","!","✗","○","—"),"—")} -> ○ | P4: {=IFERROR(CHOOSE(MATCH('📊 Training Matrix'!$AG$6,{"VALID","EXPIRING","EXPIRED","NOT TRAINED","N/A"},0),"✓","!","✗","○","—"),"—")} -> ○ | Q4: {=IFERROR(CHOOSE(MATCH('📊 Training Matrix'!$AI$6,{"VALID","EXPIRING","EXPIRED","NOT TRAINED","N/A"},0),"✓","!","✗","○","—"),"—")} -> ○ | R4: {=IFERROR(CHOOSE(MATCH('📊 Training Matrix'!$AK$6,{"VALID","EXPIRING","EXPIRED","NOT TRAINED","N/A"},0),"✓","!","✗","○","—"),"—")} -> ○ | S4: {=IFERROR(CHOOSE(MATCH('📊 Training Matrix'!$AM$6,{"VALID","EXPIRING","EXPIRED","NOT TRAINED","N/A"},0),"✓","!","✗","○","—"),"—")} -> ○ | T4: {=IFERROR(CHOOSE(MATCH('📊 Training Matrix'!$AO$6,{"VALID","EXPIRING","EXPIRED","NOT TRAINED","N/A"},0),"✓","!","✗","○","—"),"—")} -> ○ | U4: {=IFERROR(CHOOSE(MATCH('📊 Training Matrix'!$AQ$6,{"VALID","EXPIRING","EXPIRED","NOT TRAINED","N/A"},0),"✓","!","✗","○","—"),"—")} -> ○ | V4: {=IFERROR(CHOOSE(MATCH('📊 Training Matrix'!$AS$6,{"VALID","EXPIRING","EXPIRED","NOT TRAINED","N/A"},0),"✓","!","✗","○","—"),"—")} -> ○ | W4: {=IFERROR(CHOOSE(MATCH('📊 Training Matrix'!$AU$6,{"VALID","EXPIRING","EXPIRED","NOT TRAINED","N/A"},0),"✓","!","✗","○","—"),"—")} -> ○ | X4: {=IFERROR(CHOOSE(MATCH('📊 Training Matrix'!$AW$6,{"VALID","EXPIRING","EXPIRED","NOT TRAINED","N/A"},0),"✓","!","✗","○","—"),"—")} -> ✓
A5: Sophie Miller | B5: Employee | C5: Civil Works › Site Supervisor | D5: ='📊 Training Matrix'!$I$7 -> 0.6 | E5: {=IFERROR(CHOOSE(MATCH('📊 Training Matrix'!$K$7,{"VALID","EXPIRING","EXPIRED","NOT TRAINED","N/A"},0),"✓","!","✗","○","—"),"—")} -> ○ | F5: {=IFERROR(CHOOSE(MATCH('📊 Training Matrix'!$M$7,{"VALID","EXPIRING","EXPIRED","NOT TRAINED","N/A"},0),"✓","!","✗","○","—"),"—")} -> ○ | G5: {=IFERROR(CHOOSE(MATCH('📊 Training Matrix'!$O$7,{"VALID","EXPIRING","EXPIRED","NOT TRAINED","N/A"},0),"✓","!","✗","○","—"),"—")} -> ○ | H5: {=IFERROR(CHOOSE(MATCH('📊 Training Matrix'!$Q$7,{"VALID","EXPIRING","EXPIRED","NOT TRAINED","N/A"},0),"✓","!","✗","○","—"),"—")} -> ✓ | I5: {=IFERROR(CHOOSE(MATCH('📊 Training Matrix'!$S$7,{"VALID","EXPIRING","EXPIRED","NOT TRAINED","N/A"},0),"✓","!","✗","○","—"),"—")} -> ✓ | J5: {=IFERROR(CHOOSE(MATCH('📊 Training Matrix'!$U$7,{"VALID","EXPIRING","EXPIRED","NOT TRAINED","N/A"},0),"✓","!","✗","○","—"),"—")} -> ○ | K5: {=IFERROR(CHOOSE(MATCH('📊 Training Matrix'!$W$7,{"VALID","EXPIRING","EXPIRED","NOT TRAINED","N/A"},0),"✓","!","✗","○","—"),"—")} -> ○ | L5: {=IFERROR(CHOOSE(MATCH('📊 Training Matrix'!$Y$7,{"VALID","EXPIRING","EXPIRED","NOT TRAINED","N/A"},0),"✓","!","✗","○","—"),"—")} -> ○ | M5: {=IFERROR(CHOOSE(MATCH('📊 Training Matrix'!$AA$7,{"VALID","EXPIRING","EXPIRED","NOT TRAINED","N/A"},0),"✓","!","✗","○","—"),"—")} -> ○ | N5: {=IFERROR(CHOOSE(MATCH('📊 Training Matrix'!$AC$7,{"VALID","EXPIRING","EXPIRED","NOT TRAINED","N/A"},0),"✓","!","✗","○","—"),"—")} -> ○ | O5: {=IFERROR(CHOOSE(MATCH('📊 Training Matrix'!$AE$7,{"VALID","EXPIRING","EXPIRED","NOT TRAINED","N/A"},0),"✓","!","✗","○","—"),"—")} -> ✗ | P5: {=IFERROR(CHOOSE(MATCH('📊 Training Matrix'!$AG$7,{"VALID","EXPIRING","EXPIRED","NOT TRAINED","N/A"},0),"✓","!","✗","○","—"),"—")} -> ○ | Q5: {=IFERROR(CHOOSE(MATCH('📊 Training Matrix'!$AI$7,{"VALID","EXPIRING","EXPIRED","NOT TRAINED","N/A"},0),"✓","!","✗","○","—"),"—")} -> ○ | R5: {=IFERROR(CHOOSE(MATCH('📊 Training Matrix'!$AK$7,{"VALID","EXPIRING","EXPIRED","NOT TRAINED","N/A"},0),"✓","!","✗","○","—"),"—")} -> ○ | S5: {=IFERROR(CHOOSE(MATCH('📊 Training Matrix'!$AM$7,{"VALID","EXPIRING","EXPIRED","NOT TRAINED","N/A"},0),"✓","!","✗","○","—"),"—")} -> ○ | T5: {=IFERROR(CHOOSE(MATCH('📊 Training Matrix'!$AO$7,{"VALID","EXPIRING","EXPIRED","NOT TRAINED","N/A"},0),"✓","!","✗","○","—"),"—")} -> ○ | U5: {=IFERROR(CHOOSE(MATCH('📊 Training Matrix'!$AQ$7,{"VALID","EXPIRING","EXPIRED","NOT TRAINED","N/A"},0),"✓","!","✗","○","—"),"—")} -> ○ | V5: {=IFERROR(CHOOSE(MATCH('📊 Training Matrix'!$AS$7,{"VALID","EXPIRING","EXPIRED","NOT TRAINED","N/A"},0),"✓","!","✗","○","—"),"—")} -> ○ | W5: {=IFERROR(CHOOSE(MATCH('📊 Training Matrix'!$AU$7,{"VALID","EXPIRING","EXPIRED","NOT TRAINED","N/A"},0),"✓","!","✗","○","—"),"—")} -> ✗ | X5: {=IFERROR(CHOOSE(MATCH('📊 Training Matrix'!$AW$7,{"VALID","EXPIRING","EXPIRED","NOT TRAINED","N/A"},0),"✓","!","✗","○","—"),"—")} -> ✓
A6: Steve Garcia | B6: Employee | C6: HSEQ › HSEQ Manager | D6: ='📊 Training Matrix'!$I$8 -> 0.5 | E6: {=IFERROR(CHOOSE(MATCH('📊 Training Matrix'!$K$8,{"VALID","EXPIRING","EXPIRED","NOT TRAINED","N/A"},0),"✓","!","✗","○","—"),"—")} -> ✓ | F6: {=IFERROR(CHOOSE(MATCH('📊 Training Matrix'!$M$8,{"VALID","EXPIRING","EXPIRED","NOT TRAINED","N/A"},0),"✓","!","✗","○","—"),"—")} -> ○ | G6: {=IFERROR(CHOOSE(MATCH('📊 Training Matrix'!$O$8,{"VALID","EXPIRING","EXPIRED","NOT TRAINED","N/A"},0),"✓","!","✗","○","—"),"—")} -> ○ | H6: {=IFERROR(CHOOSE(MATCH('📊 Training Matrix'!$Q$8,{"VALID","EXPIRING","EXPIRED","NOT TRAINED","N/A"},0),"✓","!","✗","○","—"),"—")} -> ✗ | I6: {=IFERROR(CHOOSE(MATCH('📊 Training Matrix'!$S$8,{"VALID","EXPIRING","EXPIRED","NOT TRAINED","N/A"},0),"✓","!","✗","○","—"),"—")} -> ✗ | J6: {=IFERROR(CHOOSE(MATCH('📊 Training Matrix'!$U$8,{"VALID","EXPIRING","EXPIRED","NOT TRAINED","N/A"},0),"✓","!","✗","○","—"),"—")} -> ○ | K6: {=IFERROR(CHOOSE(MATCH('📊 Training Matrix'!$W$8,{"VALID","EXPIRING","EXPIRED","NOT TRAINED","N/A"},0),"✓","!","✗","○","—"),"—")} -> ○ | L6: {=IFERROR(CHOOSE(MATCH('📊 Training Matrix'!$Y$8,{"VALID","EXPIRING","EXPIRED","NOT TRAINED","N/A"},0),"✓","!","✗","○","—"),"—")} -> ○ | M6: {=IFERROR(CHOOSE(MATCH('📊 Training Matrix'!$AA$8,{"VALID","EXPIRING","EXPIRED","NOT TRAINED","N/A"},0),"✓","!","✗","○","—"),"—")} -> ○ | N6: {=IFERROR(CHOOSE(MATCH('📊 Training Matrix'!$AC$8,{"VALID","EXPIRING","EXPIRED","NOT TRAINED","N/A"},0),"✓","!","✗","○","—"),"—")} -> ○ | O6: {=IFERROR(CHOOSE(MATCH('📊 Training Matrix'!$AE$8,{"VALID","EXPIRING","EXPIRED","NOT TRAINED","N/A"},0),"✓","!","✗","○","—"),"—")} -> ○ | P6: {=IFERROR(CHOOSE(MATCH('📊 Training Matrix'!$AG$8,{"VALID","EXPIRING","EXPIRED","NOT TRAINED","N/A"},0),"✓","!","✗","○","—"),"—")} -> ○ | Q6: {=IFERROR(CHOOSE(MATCH('📊 Training Matrix'!$AI$8,{"VALID","EXPIRING","EXPIRED","NOT TRAINED","N/A"},0),"✓","!","✗","○","—"),"—")} -> ○ | R6: {=IFERROR(CHOOSE(MATCH('📊 Training Matrix'!$AK$8,{"VALID","EXPIRING","EXPIRED","NOT TRAINED","N/A"},0),"✓","!","✗","○","—"),"—")} -> ○ | S6: {=IFERROR(CHOOSE(MATCH('📊 Training Matrix'!$AM$8,{"VALID","EXPIRING","EXPIRED","NOT TRAINED","N/A"},0),"✓","!","✗","○","—"),"—")} -> ○ | T6: {=IFERROR(CHOOSE(MATCH('📊 Training Matrix'!$AO$8,{"VALID","EXPIRING","EXPIRED","NOT TRAINED","N/A"},0),"✓","!","✗","○","—"),"—")} -> ○ | U6: {=IFERROR(CHOOSE(MATCH('📊 Training Matrix'!$AQ$8,{"VALID","EXPIRING","EXPIRED","NOT TRAINED","N/A"},0),"✓","!","✗","○","—"),"—")} -> ○ | V6: {=IFERROR(CHOOSE(MATCH('📊 Training Matrix'!$AS$8,{"VALID","EXPIRING","EXPIRED","NOT TRAINED","N/A"},0),"✓","!","✗","○","—"),"—")} -> ○ | W6: {=IFERROR(CHOOSE(MATCH('📊 Training Matrix'!$AU$8,{"VALID","EXPIRING","EXPIRED","NOT TRAINED","N/A"},0),"✓","!","✗","○","—"),"—")} -> ○ | X6: {=IFERROR(CHOOSE(MATCH('📊 Training Matrix'!$AW$8,{"VALID","EXPIRING","EXPIRED","NOT TRAINED","N/A"},0),"✓","!","✗","○","—"),"—")} -> ✓
A7: Steve Young | B7: Employee | C7: Field Engineering › Senior Field Engineer | D7: ='📊 Training Matrix'!$I$9 -> 0.5 | E7: {=IFERROR(CHOOSE(MATCH('📊 Training Matrix'!$K$9,{"VALID","EXPIRING","EXPIRED","NOT TRAINED","N/A"},0),"✓","!","✗","○","—"),"—")} -> ✓ | F7: {=IFERROR(CHOOSE(MATCH('📊 Training Matrix'!$M$9,{"VALID","EXPIRING","EXPIRED","NOT TRAINED","N/A"},0),"✓","!","✗","○","—"),"—")} -> ○ | G7: {=IFERROR(CHOOSE(MATCH('📊 Training Matrix'!$O$9,{"VALID","EXPIRING","EXPIRED","NOT TRAINED","N/A"},0),"✓","!","✗","○","—"),"—")} -> ✗ | H7: {=IFERROR(CHOOSE(MATCH('📊 Training Matrix'!$Q$9,{"VALID","EXPIRING","EXPIRED","NOT TRAINED","N/A"},0),"✓","!","✗","○","—"),"—")} -> ✓ | I7: {=IFERROR(CHOOSE(MATCH('📊 Training Matrix'!$S$9,{"VALID","EXPIRING","EXPIRED","NOT TRAINED","N/A"},0),"✓","!","✗","○","—"),"—")} -> ✗ | J7: {=IFERROR(CHOOSE(MATCH('📊 Training Matrix'!$U$9,{"VALID","EXPIRING","EXPIRED","NOT TRAINED","N/A"},0),"✓","!","✗","○","—"),"—")} -> ✓ | K7: {=IFERROR(CHOOSE(MATCH('📊 Training Matrix'!$W$9,{"VALID","EXPIRING","EXPIRED","NOT TRAINED","N/A"},0),"✓","!","✗","○","—"),"—")} -> ○ | L7: {=IFERROR(CHOOSE(MATCH('📊 Training Matrix'!$Y$9,{"VALID","EXPIRING","EXPIRED","NOT TRAINED","N/A"},0),"✓","!","✗","○","—"),"—")} -> ○ | M7: {=IFERROR(CHOOSE(MATCH('📊 Training Matrix'!$AA$9,{"VALID","EXPIRING","EXPIRED","NOT TRAINED","N/A"},0),"✓","!","✗","○","—"),"—")} -> ○ | N7: {=IFERROR(CHOOSE(MATCH('📊 Training Matrix'!$AC$9,{"VALID","EXPIRING","EXPIRED","NOT TRAINED","N/A"},0),"✓","!","✗","○","—"),"—")} -> ○ | O7: {=IFERROR(CHOOSE(MATCH('📊 Training Matrix'!$AE$9,{"VALID","EXPIRING","EXPIRED","NOT TRAINED","N/A"},0),"✓","!","✗","○","—"),"—")} -> ○ | P7: {=IFERROR(CHOOSE(MATCH('📊 Training Matrix'!$AG$9,{"VALID","EXPIRING","EXPIRED","NOT TRAINED","N/A"},0),"✓","!","✗","○","—"),"—")} -> ○ | Q7: {=IFERROR(CHOOSE(MATCH('📊 Training Matrix'!$AI$9,{"VALID","EXPIRING","EXPIRED","NOT TRAINED","N/A"},0),"✓","!","✗","○","—"),"—")} -> ○ | R7: {=IFERROR(CHOOSE(MATCH('📊 Training Matrix'!$AK$9,{"VALID","EXPIRING","EXPIRED","NOT TRAINED","N/A"},0),"✓","!","✗","○","—"),"—")} -> ○ | S7: {=IFERROR(CHOOSE(MATCH('📊 Training Matrix'!$AM$9,{"VALID","EXPIRING","EXPIRED","NOT TRAINED","N/A"},0),"✓","!","✗","○","—"),"—")} -> ○ | T7: {=IFERROR(CHOOSE(MATCH('📊 Training Matrix'!$AO$9,{"VALID","EXPIRING","EXPIRED","NOT TRAINED","N/A"},0),"✓","!","✗","○","—"),"—")} -> ○ | U7: {=IFERROR(CHOOSE(MATCH('📊 Training Matrix'!$AQ$9,{"VALID","EXPIRING","EXPIRED","NOT TRAINED","N/A"},0),"✓","!","✗","○","—"),"—")} -> ○ | V7: {=IFERROR(CHOOSE(MATCH('📊 Training Matrix'!$AS$9,{"VALID","EXPIRING","EXPIRED","NOT TRAINED","N/A"},0),"✓","!","✗","○","—"),"—")} -> ○ | W7: {=IFERROR(CHOOSE(MATCH('📊 Training Matrix'!$AU$9,{"VALID","EXPIRING","EXPIRED","NOT TRAINED","N/A"},0),"✓","!","✗","○","—"),"—")} -> ○ | X7: {=IFERROR(CHOOSE(MATCH('📊 Training Matrix'!$AW$9,{"VALID","EXPIRING","EXPIRED","NOT TRAINED","N/A"},0),"✓","!","✗","○","—"),"—")} -> !
A8: 🔶 Nadia Green | B8: Subcontractor | C8: HSEQ › Environmental Coordinator | D8: ='📊 Training Matrix'!$I$10 -> 0 | E8: {=IFERROR(CHOOSE(MATCH('📊 Training Matrix'!$K$10,{"VALID","EXPIRING","EXPIRED","NOT TRAINED","N/A"},0),"✓","!","✗","○","—"),"—")} -> ✗ | F8: {=IFERROR(CHOOSE(MATCH('📊 Training Matrix'!$M$10,{"VALID","EXPIRING","EXPIRED","NOT TRAINED","N/A"},0),"✓","!","✗","○","—"),"—")} -> ○ | G8: {=IFERROR(CHOOSE(MATCH('📊 Training Matrix'!$O$10,{"VALID","EXPIRING","EXPIRED","NOT TRAINED","N/A"},0),"✓","!","✗","○","—"),"—")} -> ○ | H8: {=IFERROR(CHOOSE(MATCH('📊 Training Matrix'!$Q$10,{"VALID","EXPIRING","EXPIRED","NOT TRAINED","N/A"},0),"✓","!","✗","○","—"),"—")} -> ✗ | I8: {=IFERROR(CHOOSE(MATCH('📊 Training Matrix'!$S$10,{"VALID","EXPIRING","EXPIRED","NOT TRAINED","N/A"},0),"✓","!","✗","○","—"),"—")} -> ✗ | J8: {=IFERROR(CHOOSE(MATCH('📊 Training Matrix'!$U$10,{"VALID","EXPIRING","EXPIRED","NOT TRAINED","N/A"},0),"✓","!","✗","○","—"),"—")} -> ○ | K8: {=IFERROR(CHOOSE(MATCH('📊 Training Matrix'!$W$10,{"VALID","EXPIRING","EXPIRED","NOT TRAINED","N/A"},0),"✓","!","✗","○","—"),"—")} -> ○ | L8: {=IFERROR(CHOOSE(MATCH('📊 Training Matrix'!$Y$10,{"VALID","EXPIRING","EXPIRED","NOT TRAINED","N/A"},0),"✓","!","✗","○","—"),"—")} -> ○ | M8: {=IFERROR(CHOOSE(MATCH('📊 Training Matrix'!$AA$10,{"VALID","EXPIRING","EXPIRED","NOT TRAINED","N/A"},0),"✓","!","✗","○","—"),"—")} -> ○ | N8: {=IFERROR(CHOOSE(MATCH('📊 Training Matrix'!$AC$10,{"VALID","EXPIRING","EXPIRED","NOT TRAINED","N/A"},0),"✓","!","✗","○","—"),"—")} -> ○ | O8: {=IFERROR(CHOOSE(MATCH('📊 Training Matrix'!$AE$10,{"VALID","EXPIRING","EXPIRED","NOT TRAINED","N/A"},0),"✓","!","✗","○","—"),"—")} -> ○ | P8: {=IFERROR(CHOOSE(MATCH('📊 Training Matrix'!$AG$10,{"VALID","EXPIRING","EXPIRED","NOT TRAINED","N/A"},0),"✓","!","✗","○","—"),"—")} -> ○ | Q8: {=IFERROR(CHOOSE(MATCH('📊 Training Matrix'!$AI$10,{"VALID","EXPIRING","EXPIRED","NOT TRAINED","N/A"},0),"✓","!","✗","○","—"),"—")} -> ○ | R8: {=IFERROR(CHOOSE(MATCH('📊 Training Matrix'!$AK$10,{"VALID","EXPIRING","EXPIRED","NOT TRAINED","N/A"},0),"✓","!","✗","○","—"),"—")} -> ○ | S8: {=IFERROR(CHOOSE(MATCH('📊 Training Matrix'!$AM$10,{"VALID","EXPIRING","EXPIRED","NOT TRAINED","N/A"},0),"✓","!","✗","○","—"),"—")} -> ○ | T8: {=IFERROR(CHOOSE(MATCH('📊 Training Matrix'!$AO$10,{"VALID","EXPIRING","EXPIRED","NOT TRAINED","N/A"},0),"✓","!","✗","○","—"),"—")} -> ○ | U8: {=IFERROR(CHOOSE(MATCH('📊 Training Matrix'!$AQ$10,{"VALID","EXPIRING","EXPIRED","NOT TRAINED","N/A"},0),"✓","!","✗","○","—"),"—")} -> ○ | V8: {=IFERROR(CHOOSE(MATCH('📊 Training Matrix'!$AS$10,{"VALID","EXPIRING","EXPIRED","NOT TRAINED","N/A"},0),"✓","!","✗","○","—"),"—")} -> ○ | W8: {=IFERROR(CHOOSE(MATCH('📊 Training Matrix'!$AU$10,{"VALID","EXPIRING","EXPIRED","NOT TRAINED","N/A"},0),"✓","!","✗","○","—"),"—")} -> ○ | X8: {=IFERROR(CHOOSE(MATCH('📊 Training Matrix'!$AW$10,{"VALID","EXPIRING","EXPIRED","NOT TRAINED","N/A"},0),"✓","!","✗","○","—"),"—")} -> !
A9: 🔶 Tanya Baker | B9: Subcontractor | C9: Electrical › Electrical Technician | D9: ='📊 Training Matrix'!$I$11 -> 0.33333333 | E9: {=IFERROR(CHOOSE(MATCH('📊 Training Matrix'!$K$11,{"VALID","EXPIRING","EXPIRED","NOT TRAINED","N/A"},0),"✓","!","✗","○","—"),"—")} -> ✗ | F9: {=IFERROR(CHOOSE(MATCH('📊 Training Matrix'!$M$11,{"VALID","EXPIRING","EXPIRED","NOT TRAINED","N/A"},0),"✓","!","✗","○","—"),"—")} -> ✗ | G9: {=IFERROR(CHOOSE(MATCH('📊 Training Matrix'!$O$11,{"VALID","EXPIRING","EXPIRED","NOT TRAINED","N/A"},0),"✓","!","✗","○","—"),"—")} -> ✓ | H9: {=IFERROR(CHOOSE(MATCH('📊 Training Matrix'!$Q$11,{"VALID","EXPIRING","EXPIRED","NOT TRAINED","N/A"},0),"✓","!","✗","○","—"),"—")} -> ✗ | I9: {=IFERROR(CHOOSE(MATCH('📊 Training Matrix'!$S$11,{"VALID","EXPIRING","EXPIRED","NOT TRAINED","N/A"},0),"✓","!","✗","○","—"),"—")} -> ✗ | J9: {=IFERROR(CHOOSE(MATCH('📊 Training Matrix'!$U$11,{"VALID","EXPIRING","EXPIRED","NOT TRAINED","N/A"},0),"✓","!","✗","○","—"),"—")} -> ○ | K9: {=IFERROR(CHOOSE(MATCH('📊 Training Matrix'!$W$11,{"VALID","EXPIRING","EXPIRED","NOT TRAINED","N/A"},0),"✓","!","✗","○","—"),"—")} -> ✓ | L9: {=IFERROR(CHOOSE(MATCH('📊 Training Matrix'!$Y$11,{"VALID","EXPIRING","EXPIRED","NOT TRAINED","N/A"},0),"✓","!","✗","○","—"),"—")} -> ✗ | M9: {=IFERROR(CHOOSE(MATCH('📊 Training Matrix'!$AA$11,{"VALID","EXPIRING","EXPIRED","NOT TRAINED","N/A"},0),"✓","!","✗","○","—"),"—")} -> ○ | N9: {=IFERROR(CHOOSE(MATCH('📊 Training Matrix'!$AC$11,{"VALID","EXPIRING","EXPIRED","NOT TRAINED","N/A"},0),"✓","!","✗","○","—"),"—")} -> ✗ | O9: {=IFERROR(CHOOSE(MATCH('📊 Training Matrix'!$AE$11,{"VALID","EXPIRING","EXPIRED","NOT TRAINED","N/A"},0),"✓","!","✗","○","—"),"—")} -> ○ | P9: {=IFERROR(CHOOSE(MATCH('📊 Training Matrix'!$AG$11,{"VALID","EXPIRING","EXPIRED","NOT TRAINED","N/A"},0),"✓","!","✗","○","—"),"—")} -> ○ | Q9: {=IFERROR(CHOOSE(MATCH('📊 Training Matrix'!$AI$11,{"VALID","EXPIRING","EXPIRED","NOT TRAINED","N/A"},0),"✓","!","✗","○","—"),"—")} -> ✓ | R9: {=IFERROR(CHOOSE(MATCH('📊 Training Matrix'!$AK$11,{"VALID","EXPIRING","EXPIRED","NOT TRAINED","N/A"},0),"✓","!","✗","○","—"),"—")} -> ○ | S9: {=IFERROR(CHOOSE(MATCH('📊 Training Matrix'!$AM$11,{"VALID","EXPIRING","EXPIRED","NOT TRAINED","N/A"},0),"✓","!","✗","○","—"),"—")} -> ○ | T9: {=IFERROR(CHOOSE(MATCH('📊 Training Matrix'!$AO$11,{"VALID","EXPIRING","EXPIRED","NOT TRAINED","N/A"},0),"✓","!","✗","○","—"),"—")} -> ○ | U9: {=IFERROR(CHOOSE(MATCH('📊 Training Matrix'!$AQ$11,{"VALID","EXPIRING","EXPIRED","NOT TRAINED","N/A"},0),"✓","!","✗","○","—"),"—")} -> ○ | V9: {=IFERROR(CHOOSE(MATCH('📊 Training Matrix'!$AS$11,{"VALID","EXPIRING","EXPIRED","NOT TRAINED","N/A"},0),"✓","!","✗","○","—"),"—")} -> ○ | W9: {=IFERROR(CHOOSE(MATCH('📊 Training Matrix'!$AU$11,{"VALID","EXPIRING","EXPIRED","NOT TRAINED","N/A"},0),"✓","!","✗","○","—"),"—")} -> ○ | X9: {=IFERROR(CHOOSE(MATCH('📊 Training Matrix'!$AW$11,{"VALID","EXPIRING","EXPIRED","NOT TRAINED","N/A"},0),"✓","!","✗","○","—"),"—")} -> ○
A10: David Turner | B10: Employee | C10: Control Room › Dispatch Coordinator | D10: ='📊 Training Matrix'!$I$12 -> 0.5 | E10: {=IFERROR(CHOOSE(MATCH('📊 Training Matrix'!$K$12,{"VALID","EXPIRING","EXPIRED","NOT TRAINED","N/A"},0),"✓","!","✗","○","—"),"—")} -> ✓ | F10: {=IFERROR(CHOOSE(MATCH('📊 Training Matrix'!$M$12,{"VALID","EXPIRING","EXPIRED","NOT TRAINED","N/A"},0),"✓","!","✗","○","—"),"—")} -> ○ | G10: {=IFERROR(CHOOSE(MATCH('📊 Training Matrix'!$O$12,{"VALID","EXPIRING","EXPIRED","NOT TRAINED","N/A"},0),"✓","!","✗","○","—"),"—")} -> ○ | H10: {=IFERROR(CHOOSE(MATCH('📊 Training Matrix'!$Q$12,{"VALID","EXPIRING","EXPIRED","NOT TRAINED","N/A"},0),"✓","!","✗","○","—"),"—")} -> ✓ | I10: {=IFERROR(CHOOSE(MATCH('📊 Training Matrix'!$S$12,{"VALID","EXPIRING","EXPIRED","NOT TRAINED","N/A"},0),"✓","!","✗","○","—"),"—")} -> ✗ | J10: {=IFERROR(CHOOSE(MATCH('📊 Training Matrix'!$U$12,{"VALID","EXPIRING","EXPIRED","NOT TRAINED","N/A"},0),"✓","!","✗","○","—"),"—")} -> ○ | K10: {=IFERROR(CHOOSE(MATCH('📊 Training Matrix'!$W$12,{"VALID","EXPIRING","EXPIRED","NOT TRAINED","N/A"},0),"✓","!","✗","○","—"),"—")} -> ○ | L10: {=IFERROR(CHOOSE(MATCH('📊 Training Matrix'!$Y$12,{"VALID","EXPIRING","EXPIRED","NOT TRAINED","N/A"},0),"✓","!","✗","○","—"),"—")} -> ○ | M10: {=IFERROR(CHOOSE(MATCH('📊 Training Matrix'!$AA$12,{"VALID","EXPIRING","EXPIRED","NOT TRAINED","N/A"},0),"✓","!","✗","○","—"),"—")} -> ○ | N10: {=IFERROR(CHOOSE(MATCH('📊 Training Matrix'!$AC$12,{"VALID","EXPIRING","EXPIRED","NOT TRAINED","N/A"},0),"✓","!","✗","○","—"),"—")} -> ○ | O10: {=IFERROR(CHOOSE(MATCH('📊 Training Matrix'!$AE$12,{"VALID","EXPIRING","EXPIRED","NOT TRAINED","N/A"},0),"✓","!","✗","○","—"),"—")} -> ○ | P10: {=IFERROR(CHOOSE(MATCH('📊 Training Matrix'!$AG$12,{"VALID","EXPIRING","EXPIRED","NOT TRAINED","N/A"},0),"✓","!","✗","○","—"),"—")} -> ○ | Q10: {=IFERROR(CHOOSE(MATCH('📊 Training Matrix'!$AI$12,{"VALID","EXPIRING","EXPIRED","NOT TRAINED","N/A"},0),"✓","!","✗","○","—"),"—")} -> ○ | R10: {=IFERROR(CHOOSE(MATCH('📊 Training Matrix'!$AK$12,{"VALID","EXPIRING","EXPIRED","NOT TRAINED","N/A"},0),"✓","!","✗","○","—"),"—")} -> ○ | S10: {=IFERROR(CHOOSE(MATCH('📊 Training Matrix'!$AM$12,{"VALID","EXPIRING","EXPIRED","NOT TRAINED","N/A"},0),"✓","!","✗","○","—"),"—")} -> ○ | T10: {=IFERROR(CHOOSE(MATCH('📊 Training Matrix'!$AO$12,{"VALID","EXPIRING","EXPIRED","NOT TRAINED","N/A"},0),"✓","!","✗","○","—"),"—")} -> ○ | U10: {=IFERROR(CHOOSE(MATCH('📊 Training Matrix'!$AQ$12,{"VALID","EXPIRING","EXPIRED","NOT TRAINED","N/A"},0),"✓","!","✗","○","—"),"—")} -> ○ | V10: {=IFERROR(CHOOSE(MATCH('📊 Training Matrix'!$AS$12,{"VALID","EXPIRING","EXPIRED","NOT TRAINED","N/A"},0),"✓","!","✗","○","—"),"—")} -> ○ | W10: {=IFERROR(CHOOSE(MATCH('📊 Training Matrix'!$AU$12,{"VALID","EXPIRING","EXPIRED","NOT TRAINED","N/A"},0),"✓","!","✗","○","—"),"—")} -> ○ | X10: {=IFERROR(CHOOSE(MATCH('📊 Training Matrix'!$AW$12,{"VALID","EXPIRING","EXPIRED","NOT TRAINED","N/A"},0),"✓","!","✗","○","—"),"—")} -> !
A11: Nadia Phillips | B11: Employee | C11: Gas Operations › Gas Technician | D11: ='📊 Training Matrix'!$I$13 -> 0.55555556 | E11: {=IFERROR(CHOOSE(MATCH('📊 Training Matrix'!$K$13,{"VALID","EXPIRING","EXPIRED","NOT TRAINED","N/A"},0),"✓","!","✗","○","—"),"—")} -> ✓ | F11: {=IFERROR(CHOOSE(MATCH('📊 Training Matrix'!$M$13,{"VALID","EXPIRING","EXPIRED","NOT TRAINED","N/A"},0),"✓","!","✗","○","—"),"—")} -> ✗ | G11: {=IFERROR(CHOOSE(MATCH('📊 Training Matrix'!$O$13,{"VALID","EXPIRING","EXPIRED","NOT TRAINED","N/A"},0),"✓","!","✗","○","—"),"—")} -> ✓ | H11: {=IFERROR(CHOOSE(MATCH('📊 Training Matrix'!$Q$13,{"VALID","EXPIRING","EXPIRED","NOT TRAINED","N/A"},0),"✓","!","✗","○","—"),"—")} -> ✗ | I11: {=IFERROR(CHOOSE(MATCH('📊 Training Matrix'!$S$13,{"VALID","EXPIRING","EXPIRED","NOT TRAINED","N/A"},0),"✓","!","✗","○","—"),"—")} -> ✗ | J11: {=IFERROR(CHOOSE(MATCH('📊 Training Matrix'!$U$13,{"VALID","EXPIRING","EXPIRED","NOT TRAINED","N/A"},0),"✓","!","✗","○","—"),"—")} -> ○ | K11: {=IFERROR(CHOOSE(MATCH('📊 Training Matrix'!$W$13,{"VALID","EXPIRING","EXPIRED","NOT TRAINED","N/A"},0),"✓","!","✗","○","—"),"—")} -> ○ | L11: {=IFERROR(CHOOSE(MATCH('📊 Training Matrix'!$Y$13,{"VALID","EXPIRING","EXPIRED","NOT TRAINED","N/A"},0),"✓","!","✗","○","—"),"—")} -> ○ | M11: {=IFERROR(CHOOSE(MATCH('📊 Training Matrix'!$AA$13,{"VALID","EXPIRING","EXPIRED","NOT TRAINED","N/A"},0),"✓","!","✗","○","—"),"—")} -> ○ | N11: {=IFERROR(CHOOSE(MATCH('📊 Training Matrix'!$AC$13,{"VALID","EXPIRING","EXPIRED","NOT TRAINED","N/A"},0),"✓","!","✗","○","—"),"—")} -> ○ | O11: {=IFERROR(CHOOSE(MATCH('📊 Training Matrix'!$AE$13,{"VALID","EXPIRING","EXPIRED","NOT TRAINED","N/A"},0),"✓","!","✗","○","—"),"—")} -> ○ | P11: {=IFERROR(CHOOSE(MATCH('📊 Training Matrix'!$AG$13,{"VALID","EXPIRING","EXPIRED","NOT TRAINED","N/A"},0),"✓","!","✗","○","—"),"—")} -> ○ | Q11: {=IFERROR(CHOOSE(MATCH('📊 Training Matrix'!$AI$13,{"VALID","EXPIRING","EXPIRED","NOT TRAINED","N/A"},0),"✓","!","✗","○","—"),"—")} -> ✗ | R11: {=IFERROR(CHOOSE(MATCH('📊 Training Matrix'!$AK$13,{"VALID","EXPIRING","EXPIRED","NOT TRAINED","N/A"},0),"✓","!","✗","○","—"),"—")} -> ✓ | S11: {=IFERROR(CHOOSE(MATCH('📊 Training Matrix'!$AM$13,{"VALID","EXPIRING","EXPIRED","NOT TRAINED","N/A"},0),"✓","!","✗","○","—"),"—")} -> ✓ | T11: {=IFERROR(CHOOSE(MATCH('📊 Training Matrix'!$AO$13,{"VALID","EXPIRING","EXPIRED","NOT TRAINED","N/A"},0),"✓","!","✗","○","—"),"—")} -> ○ | U11: {=IFERROR(CHOOSE(MATCH('📊 Training Matrix'!$AQ$13,{"VALID","EXPIRING","EXPIRED","NOT TRAINED","N/A"},0),"✓","!","✗","○","—"),"—")} -> ○ | V11: {=IFERROR(CHOOSE(MATCH('📊 Training Matrix'!$AS$13,{"VALID","EXPIRING","EXPIRED","NOT TRAINED","N/A"},0),"✓","!","✗","○","—"),"—")} -> ○ | W11: {=IFERROR(CHOOSE(MATCH('📊 Training Matrix'!$AU$13,{"VALID","EXPIRING","EXPIRED","NOT TRAINED","N/A"},0),"✓","!","✗","○","—"),"—")} -> ○ | X11: {=IFERROR(CHOOSE(MATCH('📊 Training Matrix'!$AW$13,{"VALID","EXPIRING","EXPIRED","NOT TRAINED","N/A"},0),"✓","!","✗","○","—"),"—")} -> ✓
A12: Daniel Turner | B12: Employee | C12: Gas Operations › Gas Engineer | D12: ='📊 Training Matrix'!$I$14 -> 0.6 | E12: {=IFERROR(CHOOSE(MATCH('📊 Training Matrix'!$K$14,{"VALID","EXPIRING","EXPIRED","NOT TRAINED","N/A"},0),"✓","!","✗","○","—"),"—")} -> ✗ | F12: {=IFERROR(CHOOSE(MATCH('📊 Training Matrix'!$M$14,{"VALID","EXPIRING","EXPIRED","NOT TRAINED","N/A"},0),"✓","!","✗","○","—"),"—")} -> ○ | G12: {=IFERROR(CHOOSE(MATCH('📊 Training Matrix'!$O$14,{"VALID","EXPIRING","EXPIRED","NOT TRAINED","N/A"},0),"✓","!","✗","○","—"),"—")} -> ○ | H12: {=IFERROR(CHOOSE(MATCH('📊 Training Matrix'!$Q$14,{"VALID","EXPIRING","EXPIRED","NOT TRAINED","N/A"},0),"✓","!","✗","○","—"),"—")} -> ✗ | I12: {=IFERROR(CHOOSE(MATCH('📊 Training Matrix'!$S$14,{"VALID","EXPIRING","EXPIRED","NOT TRAINED","N/A"},0),"✓","!","✗","○","—"),"—")} -> ✓ | J12: {=IFERROR(CHOOSE(MATCH('📊 Training Matrix'!$U$14,{"VALID","EXPIRING","EXPIRED","NOT TRAINED","N/A"},0),"✓","!","✗","○","—"),"—")} -> ○ | K12: {=IFERROR(CHOOSE(MATCH('📊 Training Matrix'!$W$14,{"VALID","EXPIRING","EXPIRED","NOT TRAINED","N/A"},0),"✓","!","✗","○","—"),"—")} -> ○ | L12: {=IFERROR(CHOOSE(MATCH('📊 Training Matrix'!$Y$14,{"VALID","EXPIRING","EXPIRED","NOT TRAINED","N/A"},0),"✓","!","✗","○","—"),"—")} -> ○ | M12: {=IFERROR(CHOOSE(MATCH('📊 Training Matrix'!$AA$14,{"VALID","EXPIRING","EXPIRED","NOT TRAINED","N/A"},0),"✓","!","✗","○","—"),"—")} -> ○ | N12: {=IFERROR(CHOOSE(MATCH('📊 Training Matrix'!$AC$14,{"VALID","EXPIRING","EXPIRED","NOT TRAINED","N/A"},0),"✓","!","✗","○","—"),"—")} -> ○ | O12: {=IFERROR(CHOOSE(MATCH('📊 Training Matrix'!$AE$14,{"VALID","EXPIRING","EXPIRED","NOT TRAINED","N/A"},0),"✓","!","✗","○","—"),"—")} -> ○ | P12: {=IFERROR(CHOOSE(MATCH('📊 Training Matrix'!$AG$14,{"VALID","EXPIRING","EXPIRED","NOT TRAINED","N/A"},0),"✓","!","✗","○","—"),"—")} -> ○ | Q12: {=IFERROR(CHOOSE(MATCH('📊 Training Matrix'!$AI$14,{"VALID","EXPIRING","EXPIRED","NOT TRAINED","N/A"},0),"✓","!","✗","○","—"),"—")} -> ○ | R12: {=IFERROR(CHOOSE(MATCH('📊 Training Matrix'!$AK$14,{"VALID","EXPIRING","EXPIRED","NOT TRAINED","N/A"},0),"✓","!","✗","○","—"),"—")} -> ✓ | S12: {=IFERROR(CHOOSE(MATCH('📊 Training Matrix'!$AM$14,{"VALID","EXPIRING","EXPIRED","NOT TRAINED","N/A"},0),"✓","!","✗","○","—"),"—")} -> ✓ | T12: {=IFERROR(CHOOSE(MATCH('📊 Training Matrix'!$AO$14,{"VALID","EXPIRING","EXPIRED","NOT TRAINED","N/A"},0),"✓","!","✗","○","—"),"—")} -> ○ | U12: {=IFERROR(CHOOSE(MATCH('📊 Training Matrix'!$AQ$14,{"VALID","EXPIRING","EXPIRED","NOT TRAINED","N/A"},0),"✓","!","✗","○","—"),"—")} -> ○ | V12: {=IFERROR(CHOOSE(MATCH('📊 Training Matrix'!$AS$14,{"VALID","EXPIRING","EXPIRED","NOT TRAINED","N/A"},0),"✓","!","✗","○","—"),"—")} -> ○ | W12: {=IFERROR(CHOOSE(MATCH('📊 Training Matrix'!$AU$14,{"VALID","EXPIRING","EXPIRED","NOT TRAINED","N/A"},0),"✓","!","✗","○","—"),"—")} -> ○ | X12: {=IFERROR(CHOOSE(MATCH('📊 Training Matrix'!$AW$14,{"VALID","EXPIRING","EXPIRED","NOT TRAINED","N/A"},0),"✓","!","✗","○","—"),"—")} -> ○
A13: Tanya Johnson | B13: Employee | C13: Civil Works › Site Manager | D13: ='📊 Training Matrix'!$I$15 -> 0.5 | E13: {=IFERROR(CHOOSE(MATCH('📊 Training Matrix'!$K$15,{"VALID","EXPIRING","EXPIRED","NOT TRAINED","N/A"},0),"✓","!","✗","○","—"),"—")} -> ✓ | F13: {=IFERROR(CHOOSE(MATCH('📊 Training Matrix'!$M$15,{"VALID","EXPIRING","EXPIRED","NOT TRAINED","N/A"},0),"✓","!","✗","○","—"),"—")} -> ○ | G13: {=IFERROR(CHOOSE(MATCH('📊 Training Matrix'!$O$15,{"VALID","EXPIRING","EXPIRED","NOT TRAINED","N/A"},0),"✓","!","✗","○","—"),"—")} -> ○ | H13: {=IFERROR(CHOOSE(MATCH('📊 Training Matrix'!$Q$15,{"VALID","EXPIRING","EXPIRED","NOT TRAINED","N/A"},0),"✓","!","✗","○","—"),"—")} -> ✓ | I13: {=IFERROR(CHOOSE(MATCH('📊 Training Matrix'!$S$15,{"VALID","EXPIRING","EXPIRED","NOT TRAINED","N/A"},0),"✓","!","✗","○","—"),"—")} -> ○ | J13: {=IFERROR(CHOOSE(MATCH('📊 Training Matrix'!$U$15,{"VALID","EXPIRING","EXPIRED","NOT TRAINED","N/A"},0),"✓","!","✗","○","—"),"—")} -> ○ | K13: {=IFERROR(CHOOSE(MATCH('📊 Training Matrix'!$W$15,{"VALID","EXPIRING","EXPIRED","NOT TRAINED","N/A"},0),"✓","!","✗","○","—"),"—")} -> ○ | L13: {=IFERROR(CHOOSE(MATCH('📊 Training Matrix'!$Y$15,{"VALID","EXPIRING","EXPIRED","NOT TRAINED","N/A"},0),"✓","!","✗","○","—"),"—")} -> ○ | M13: {=IFERROR(CHOOSE(MATCH('📊 Training Matrix'!$AA$15,{"VALID","EXPIRING","EXPIRED","NOT TRAINED","N/A"},0),"✓","!","✗","○","—"),"—")} -> ○ | N13: {=IFERROR(CHOOSE(MATCH('📊 Training Matrix'!$AC$15,{"VALID","EXPIRING","EXPIRED","NOT TRAINED","N/A"},0),"✓","!","✗","○","—"),"—")} -> ○ | O13: {=IFERROR(CHOOSE(MATCH('📊 Training Matrix'!$AE$15,{"VALID","EXPIRING","EXPIRED","NOT TRAINED","N/A"},0),"✓","!","✗","○","—"),"—")} -> ○ | P13: {=IFERROR(CHOOSE(MATCH('📊 Training Matrix'!$AG$15,{"VALID","EXPIRING","EXPIRED","NOT TRAINED","N/A"},0),"✓","!","✗","○","—"),"—")} -> ○ | Q13: {=IFERROR(CHOOSE(MATCH('📊 Training Matrix'!$AI$15,{"VALID","EXPIRING","EXPIRED","NOT TRAINED","N/A"},0),"✓","!","✗","○","—"),"—")} -> ○ | R13: {=IFERROR(CHOOSE(MATCH('📊 Training Matrix'!$AK$15,{"VALID","EXPIRING","EXPIRED","NOT TRAINED","N/A"},0),"✓","!","✗","○","—"),"—")} -> ○ | S13: {=IFERROR(CHOOSE(MATCH('📊 Training Matrix'!$AM$15,{"VALID","EXPIRING","EXPIRED","NOT TRAINED","N/A"},0),"✓","!","✗","○","—"),"—")} -> ○ | T13: {=IFERROR(CHOOSE(MATCH('📊 Training Matrix'!$AO$15,{"VALID","EXPIRING","EXPIRED","NOT TRAINED","N/A"},0),"✓","!","✗","○","—"),"—")} -> ○ | U13: {=IFERROR(CHOOSE(MATCH('📊 Training Matrix'!$AQ$15,{"VALID","EXPIRING","EXPIRED","NOT TRAINED","N/A"},0),"✓","!","✗","○","—"),"—")} -> ○ | V13: {=IFERROR(CHOOSE(MATCH('📊 Training Matrix'!$AS$15,{"VALID","EXPIRING","EXPIRED","NOT TRAINED","N/A"},0),"✓","!","✗","○","—"),"—")} -> ✗ | W13: {=IFERROR(CHOOSE(MATCH('📊 Training Matrix'!$AU$15,{"VALID","EXPIRING","EXPIRED","NOT TRAINED","N/A"},0),"✓","!","✗","○","—"),"—")} -> ○ | X13: {=IFERROR(CHOOSE(MATCH('📊 Training Matrix'!$AW$15,{"VALID","EXPIRING","EXPIRED","NOT TRAINED","N/A"},0),"✓","!","✗","○","—"),"—")} -> !
A14: David Perez | B14: Employee | C14: Field Engineering › Apprentice Engineer | D14: ='📊 Training Matrix'!$I$16 -> 0 | E14: {=IFERROR(CHOOSE(MATCH('📊 Training Matrix'!$K$16,{"VALID","EXPIRING","EXPIRED","NOT TRAINED","N/A"},0),"✓","!","✗","○","—"),"—")} -> ✗ | F14: {=IFERROR(CHOOSE(MATCH('📊 Training Matrix'!$M$16,{"VALID","EXPIRING","EXPIRED","NOT TRAINED","N/A"},0),"✓","!","✗","○","—"),"—")} -> ○ | G14: {=IFERROR(CHOOSE(MATCH('📊 Training Matrix'!$O$16,{"VALID","EXPIRING","EXPIRED","NOT TRAINED","N/A"},0),"✓","!","✗","○","—"),"—")} -> ○ | H14: {=IFERROR(CHOOSE(MATCH('📊 Training Matrix'!$Q$16,{"VALID","EXPIRING","EXPIRED","NOT TRAINED","N/A"},0),"✓","!","✗","○","—"),"—")} -> ! | I14: {=IFERROR(CHOOSE(MATCH('📊 Training Matrix'!$S$16,{"VALID","EXPIRING","EXPIRED","NOT TRAINED","N/A"},0),"✓","!","✗","○","—"),"—")} -> ✗ | J14: {=IFERROR(CHOOSE(MATCH('📊 Training Matrix'!$U$16,{"VALID","EXPIRING","EXPIRED","NOT TRAINED","N/A"},0),"✓","!","✗","○","—"),"—")} -> ○ | K14: {=IFERROR(CHOOSE(MATCH('📊 Training Matrix'!$W$16,{"VALID","EXPIRING","EXPIRED","NOT TRAINED","N/A"},0),"✓","!","✗","○","—"),"—")} -> ○ | L14: {=IFERROR(CHOOSE(MATCH('📊 Training Matrix'!$Y$16,{"VALID","EXPIRING","EXPIRED","NOT TRAINED","N/A"},0),"✓","!","✗","○","—"),"—")} -> ○ | M14: {=IFERROR(CHOOSE(MATCH('📊 Training Matrix'!$AA$16,{"VALID","EXPIRING","EXPIRED","NOT TRAINED","N/A"},0),"✓","!","✗","○","—"),"—")} -> ○ | N14: {=IFERROR(CHOOSE(MATCH('📊 Training Matrix'!$AC$16,{"VALID","EXPIRING","EXPIRED","NOT TRAINED","N/A"},0),"✓","!","✗","○","—"),"—")} -> ○ | O14: {=IFERROR(CHOOSE(MATCH('📊 Training Matrix'!$AE$16,{"VALID","EXPIRING","EXPIRED","NOT TRAINED","N/A"},0),"✓","!","✗","○","—"),"—")} -> ○ | P14: {=IFERROR(CHOOSE(MATCH('📊 Training Matrix'!$AG$16,{"VALID","EXPIRING","EXPIRED","NOT TRAINED","N/A"},0),"✓","!","✗","○","—"),"—")} -> ○ | Q14: {=IFERROR(CHOOSE(MATCH('📊 Training Matrix'!$AI$16,{"VALID","EXPIRING","EXPIRED","NOT TRAINED","N/A"},0),"✓","!","✗","○","—"),"—")} -> ○ | R14: {=IFERROR(CHOOSE(MATCH('📊 Training Matrix'!$AK$16,{"VALID","EXPIRING","EXPIRED","NOT TRAINED","N/A"},0),"✓","!","✗","○","—"),"—")} -> ○ | S14: {=IFERROR(CHOOSE(MATCH('📊 Training Matrix'!$AM$16,{"VALID","EXPIRING","EXPIRED","NOT TRAINED","N/A"},0),"✓","!","✗","○","—"),"—")} -> ○ | T14: {=IFERROR(CHOOSE(MATCH('📊 Training Matrix'!$AO$16,{"VALID","EXPIRING","EXPIRED","NOT TRAINED","N/A"},0),"✓","!","✗","○","—"),"—")} -> ○ | U14: {=IFERROR(CHOOSE(MATCH('📊 Training Matrix'!$AQ$16,{"VALID","EXPIRING","EXPIRED","NOT TRAINED","N/A"},0),"✓","!","✗","○","—"),"—")} -> ○ | V14: {=IFERROR(CHOOSE(MATCH('📊 Training Matrix'!$AS$16,{"VALID","EXPIRING","EXPIRED","NOT TRAINED","N/A"},0),"✓","!","✗","○","—"),"—")} -> ○ | W14: {=IFERROR(CHOOSE(MATCH('📊 Training Matrix'!$AU$16,{"VALID","EXPIRING","EXPIRED","NOT TRAINED","N/A"},0),"✓","!","✗","○","—"),"—")} -> ○ | X14: {=IFERROR(CHOOSE(MATCH('📊 Training Matrix'!$AW$16,{"VALID","EXPIRING","EXPIRED","NOT TRAINED","N/A"},0),"✓","!","✗","○","—"),"—")} -> ✗
A15: Mia Carter | B15: Employee | C15: Project Management › Project Coordinator | D15: ='📊 Training Matrix'!$I$17 -> 1 | E15: {=IFERROR(CHOOSE(MATCH('📊 Training Matrix'!$K$17,{"VALID","EXPIRING","EXPIRED","NOT TRAINED","N/A"},0),"✓","!","✗","○","—"),"—")} -> ✓ | F15: {=IFERROR(CHOOSE(MATCH('📊 Training Matrix'!$M$17,{"VALID","EXPIRING","EXPIRED","NOT TRAINED","N/A"},0),"✓","!","✗","○","—"),"—")} -> ○ | G15: {=IFERROR(CHOOSE(MATCH('📊 Training Matrix'!$O$17,{"VALID","EXPIRING","EXPIRED","NOT TRAINED","N/A"},0),"✓","!","✗","○","—"),"—")} -> ○ | H15: {=IFERROR(CHOOSE(MATCH('📊 Training Matrix'!$Q$17,{"VALID","EXPIRING","EXPIRED","NOT TRAINED","N/A"},0),"✓","!","✗","○","—"),"—")} -> ✓ | I15: {=IFERROR(CHOOSE(MATCH('📊 Training Matrix'!$S$17,{"VALID","EXPIRING","EXPIRED","NOT TRAINED","N/A"},0),"✓","!","✗","○","—"),"—")} -> ✓ | J15: {=IFERROR(CHOOSE(MATCH('📊 Training Matrix'!$U$17,{"VALID","EXPIRING","EXPIRED","NOT TRAINED","N/A"},0),"✓","!","✗","○","—"),"—")} -> ○ | K15: {=IFERROR(CHOOSE(MATCH('📊 Training Matrix'!$W$17,{"VALID","EXPIRING","EXPIRED","NOT TRAINED","N/A"},0),"✓","!","✗","○","—"),"—")} -> ○ | L15: {=IFERROR(CHOOSE(MATCH('📊 Training Matrix'!$Y$17,{"VALID","EXPIRING","EXPIRED","NOT TRAINED","N/A"},0),"✓","!","✗","○","—"),"—")} -> ○ | M15: {=IFERROR(CHOOSE(MATCH('📊 Training Matrix'!$AA$17,{"VALID","EXPIRING","EXPIRED","NOT TRAINED","N/A"},0),"✓","!","✗","○","—"),"—")} -> ○ | N15: {=IFERROR(CHOOSE(MATCH('📊 Training Matrix'!$AC$17,{"VALID","EXPIRING","EXPIRED","NOT TRAINED","N/A"},0),"✓","!","✗","○","—"),"—")} -> ○ | O15: {=IFERROR(CHOOSE(MATCH('📊 Training Matrix'!$AE$17,{"VALID","EXPIRING","EXPIRED","NOT TRAINED","N/A"},0),"✓","!","✗","○","—"),"—")} -> ○ | P15: {=IFERROR(CHOOSE(MATCH('📊 Training Matrix'!$AG$17,{"VALID","EXPIRING","EXPIRED","NOT TRAINED","N/A"},0),"✓","!","✗","○","—"),"—")} -> ○ | Q15: {=IFERROR(CHOOSE(MATCH('📊 Training Matrix'!$AI$17,{"VALID","EXPIRING","EXPIRED","NOT TRAINED","N/A"},0),"✓","!","✗","○","—"),"—")} -> ○ | R15: {=IFERROR(CHOOSE(MATCH('📊 Training Matrix'!$AK$17,{"VALID","EXPIRING","EXPIRED","NOT TRAINED","N/A"},0),"✓","!","✗","○","—"),"—")} -> ○ | S15: {=IFERROR(CHOOSE(MATCH('📊 Training Matrix'!$AM$17,{"VALID","EXPIRING","EXPIRED","NOT TRAINED","N/A"},0),"✓","!","✗","○","—"),"—")} -> ○ | T15: {=IFERROR(CHOOSE(MATCH('📊 Training Matrix'!$AO$17,{"VALID","EXPIRING","EXPIRED","NOT TRAINED","N/A"},0),"✓","!","✗","○","—"),"—")} -> ○ | U15: {=IFERROR(CHOOSE(MATCH('📊 Training Matrix'!$AQ$17,{"VALID","EXPIRING","EXPIRED","NOT TRAINED","N/A"},0),"✓","!","✗","○","—"),"—")} -> ○ | V15: {=IFERROR(CHOOSE(MATCH('📊 Training Matrix'!$AS$17,{"VALID","EXPIRING","EXPIRED","NOT TRAINED","N/A"},0),"✓","!","✗","○","—"),"—")} -> ○ | W15: {=IFERROR(CHOOSE(MATCH('📊 Training Matrix'!$AU$17,{"VALID","EXPIRING","EXPIRED","NOT TRAINED","N/A"},0),"✓","!","✗","○","—"),"—")} -> ○ | X15: {=IFERROR(CHOOSE(MATCH('📊 Training Matrix'!$AW$17,{"VALID","EXPIRING","EXPIRED","NOT TRAINED","N/A"},0),"✓","!","✗","○","—"),"—")} -> ✓
A16: 🔶 Lisa Harris | B16: Subcontractor | C16: Control Room › Control Room Manager | D16: ='📊 Training Matrix'!$I$18 -> 0.5 | E16: {=IFERROR(CHOOSE(MATCH('📊 Training Matrix'!$K$18,{"VALID","EXPIRING","EXPIRED","NOT TRAINED","N/A"},0),"✓","!","✗","○","—"),"—")} -> ✓ | F16: {=IFERROR(CHOOSE(MATCH('📊 Training Matrix'!$M$18,{"VALID","EXPIRING","EXPIRED","NOT TRAINED","N/A"},0),"✓","!","✗","○","—"),"—")} -> ○ | G16: {=IFERROR(CHOOSE(MATCH('📊 Training Matrix'!$O$18,{"VALID","EXPIRING","EXPIRED","NOT TRAINED","N/A"},0),"✓","!","✗","○","—"),"—")} -> ○ | H16: {=IFERROR(CHOOSE(MATCH('📊 Training Matrix'!$Q$18,{"VALID","EXPIRING","EXPIRED","NOT TRAINED","N/A"},0),"✓","!","✗","○","—"),"—")} -> ✗ | I16: {=IFERROR(CHOOSE(MATCH('📊 Training Matrix'!$S$18,{"VALID","EXPIRING","EXPIRED","NOT TRAINED","N/A"},0),"✓","!","✗","○","—"),"—")} -> ✗ | J16: {=IFERROR(CHOOSE(MATCH('📊 Training Matrix'!$U$18,{"VALID","EXPIRING","EXPIRED","NOT TRAINED","N/A"},0),"✓","!","✗","○","—"),"—")} -> ○ | K16: {=IFERROR(CHOOSE(MATCH('📊 Training Matrix'!$W$18,{"VALID","EXPIRING","EXPIRED","NOT TRAINED","N/A"},0),"✓","!","✗","○","—"),"—")} -> ○ | L16: {=IFERROR(CHOOSE(MATCH('📊 Training Matrix'!$Y$18,{"VALID","EXPIRING","EXPIRED","NOT TRAINED","N/A"},0),"✓","!","✗","○","—"),"—")} -> ○ | M16: {=IFERROR(CHOOSE(MATCH('📊 Training Matrix'!$AA$18,{"VALID","EXPIRING","EXPIRED","NOT TRAINED","N/A"},0),"✓","!","✗","○","—"),"—")} -> ○ | N16: {=IFERROR(CHOOSE(MATCH('📊 Training Matrix'!$AC$18,{"VALID","EXPIRING","EXPIRED","NOT TRAINED","N/A"},0),"✓","!","✗","○","—"),"—")} -> ○ | O16: {=IFERROR(CHOOSE(MATCH('📊 Training Matrix'!$AE$18,{"VALID","EXPIRING","EXPIRED","NOT TRAINED","N/A"},0),"✓","!","✗","○","—"),"—")} -> ○ | P16: {=IFERROR(CHOOSE(MATCH('📊 Training Matrix'!$AG$18,{"VALID","EXPIRING","EXPIRED","NOT TRAINED","N/A"},0),"✓","!","✗","○","—"),"—")} -> ○ | Q16: {=IFERROR(CHOOSE(MATCH('📊 Training Matrix'!$AI$18,{"VALID","EXPIRING","EXPIRED","NOT TRAINED","N/A"},0),"✓","!","✗","○","—"),"—")} -> ○ | R16: {=IFERROR(CHOOSE(MATCH('📊 Training Matrix'!$AK$18,{"VALID","EXPIRING","EXPIRED","NOT TRAINED","N/A"},0),"✓","!","✗","○","—"),"—")} -> ○ | S16: {=IFERROR(CHOOSE(MATCH('📊 Training Matrix'!$AM$18,{"VALID","EXPIRING","EXPIRED","NOT TRAINED","N/A"},0),"✓","!","✗","○","—"),"—")} -> ○ | T16: {=IFERROR(CHOOSE(MATCH('📊 Training Matrix'!$AO$18,{"VALID","EXPIRING","EXPIRED","NOT TRAINED","N/A"},0),"✓","!","✗","○","—"),"—")} -> ○ | U16: {=IFERROR(CHOOSE(MATCH('📊 Training Matrix'!$AQ$18,{"VALID","EXPIRING","EXPIRED","NOT TRAINED","N/A"},0),"✓","!","✗","○","—"),"—")} -> ○ | V16: {=IFERROR(CHOOSE(MATCH('📊 Training Matrix'!$AS$18,{"VALID","EXPIRING","EXPIRED","NOT TRAINED","N/A"},0),"✓","!","✗","○","—"),"—")} -> ○ | W16: {=IFERROR(CHOOSE(MATCH('📊 Training Matrix'!$AU$18,{"VALID","EXPIRING","EXPIRED","NOT TRAINED","N/A"},0),"✓","!","✗","○","—"),"—")} -> ○ | X16: {=IFERROR(CHOOSE(MATCH('📊 Training Matrix'!$AW$18,{"VALID","EXPIRING","EXPIRED","NOT TRAINED","N/A"},0),"✓","!","✗","○","—"),"—")} -> ✓
A17: Brian Adams | B17: Employee | C17: Control Room › System Controller | D17: ='📊 Training Matrix'!$I$19 -> 0.75 | E17: {=IFERROR(CHOOSE(MATCH('📊 Training Matrix'!$K$19,{"VALID","EXPIRING","EXPIRED","NOT TRAINED","N/A"},0),"✓","!","✗","○","—"),"—")} -> ✓ | F17: {=IFERROR(CHOOSE(MATCH('📊 Training Matrix'!$M$19,{"VALID","EXPIRING","EXPIRED","NOT TRAINED","N/A"},0),"✓","!","✗","○","—"),"—")} -> ○ | G17: {=IFERROR(CHOOSE(MATCH('📊 Training Matrix'!$O$19,{"VALID","EXPIRING","EXPIRED","NOT TRAINED","N/A"},0),"✓","!","✗","○","—"),"—")} -> ○ | H17: {=IFERROR(CHOOSE(MATCH('📊 Training Matrix'!$Q$19,{"VALID","EXPIRING","EXPIRED","NOT TRAINED","N/A"},0),"✓","!","✗","○","—"),"—")} -> ✗ | I17: {=IFERROR(CHOOSE(MATCH('📊 Training Matrix'!$S$19,{"VALID","EXPIRING","EXPIRED","NOT TRAINED","N/A"},0),"✓","!","✗","○","—"),"—")} -> ✓ | J17: {=IFERROR(CHOOSE(MATCH('📊 Training Matrix'!$U$19,{"VALID","EXPIRING","EXPIRED","NOT TRAINED","N/A"},0),"✓","!","✗","○","—"),"—")} -> ○ | K17: {=IFERROR(CHOOSE(MATCH('📊 Training Matrix'!$W$19,{"VALID","EXPIRING","EXPIRED","NOT TRAINED","N/A"},0),"✓","!","✗","○","—"),"—")} -> ○ | L17: {=IFERROR(CHOOSE(MATCH('📊 Training Matrix'!$Y$19,{"VALID","EXPIRING","EXPIRED","NOT TRAINED","N/A"},0),"✓","!","✗","○","—"),"—")} -> ○ | M17: {=IFERROR(CHOOSE(MATCH('📊 Training Matrix'!$AA$19,{"VALID","EXPIRING","EXPIRED","NOT TRAINED","N/A"},0),"✓","!","✗","○","—"),"—")} -> ○ | N17: {=IFERROR(CHOOSE(MATCH('📊 Training Matrix'!$AC$19,{"VALID","EXPIRING","EXPIRED","NOT TRAINED","N/A"},0),"✓","!","✗","○","—"),"—")} -> ○ | O17: {=IFERROR(CHOOSE(MATCH('📊 Training Matrix'!$AE$19,{"VALID","EXPIRING","EXPIRED","NOT TRAINED","N/A"},0),"✓","!","✗","○","—"),"—")} -> ○ | P17: {=IFERROR(CHOOSE(MATCH('📊 Training Matrix'!$AG$19,{"VALID","EXPIRING","EXPIRED","NOT TRAINED","N/A"},0),"✓","!","✗","○","—"),"—")} -> ○ | Q17: {=IFERROR(CHOOSE(MATCH('📊 Training Matrix'!$AI$19,{"VALID","EXPIRING","EXPIRED","NOT TRAINED","N/A"},0),"✓","!","✗","○","—"),"—")} -> ○ | R17: {=IFERROR(CHOOSE(MATCH('📊 Training Matrix'!$AK$19,{"VALID","EXPIRING","EXPIRED","NOT TRAINED","N/A"},0),"✓","!","✗","○","—"),"—")} -> ○ | S17: {=IFERROR(CHOOSE(MATCH('📊 Training Matrix'!$AM$19,{"VALID","EXPIRING","EXPIRED","NOT TRAINED","N/A"},0),"✓","!","✗","○","—"),"—")} -> ○ | T17: {=IFERROR(CHOOSE(MATCH('📊 Training Matrix'!$AO$19,{"VALID","EXPIRING","EXPIRED","NOT TRAINED","N/A"},0),"✓","!","✗","○","—"),"—")} -> ○ | U17: {=IFERROR(CHOOSE(MATCH('📊 Training Matrix'!$AQ$19,{"VALID","EXPIRING","EXPIRED","NOT TRAINED","N/A"},0),"✓","!","✗","○","—"),"—")} -> ○ | V17: {=IFERROR(CHOOSE(MATCH('📊 Training Matrix'!$AS$19,{"VALID","EXPIRING","EXPIRED","NOT TRAINED","N/A"},0),"✓","!","✗","○","—"),"—")} -> ○ | W17: {=IFERROR(CHOOSE(MATCH('📊 Training Matrix'!$AU$19,{"VALID","EXPIRING","EXPIRED","NOT TRAINED","N/A"},0),"✓","!","✗","○","—"),"—")} -> ○ | X17: {=IFERROR(CHOOSE(MATCH('📊 Training Matrix'!$AW$19,{"VALID","EXPIRING","EXPIRED","NOT TRAINED","N/A"},0),"✓","!","✗","○","—"),"—")} -> ✓
A18: Mark Brown | B18: Employee | C18: IT & Systems › GIS Analyst | D18: ='📊 Training Matrix'!$I$20 -> 0.75 | E18: {=IFERROR(CHOOSE(MATCH('📊 Training Matrix'!$K$20,{"VALID","EXPIRING","EXPIRED","NOT TRAINED","N/A"},0),"✓","!","✗","○","—"),"—")} -> ✓ | F18: {=IFERROR(CHOOSE(MATCH('📊 Training Matrix'!$M$20,{"VALID","EXPIRING","EXPIRED","NOT TRAINED","N/A"},0),"✓","!","✗","○","—"),"—")} -> ○ | G18: {=IFERROR(CHOOSE(MATCH('📊 Training Matrix'!$O$20,{"VALID","EXPIRING","EXPIRED","NOT TRAINED","N/A"},0),"✓","!","✗","○","—"),"—")} -> ○ | H18: {=IFERROR(CHOOSE(MATCH('📊 Training Matrix'!$Q$20,{"VALID","EXPIRING","EXPIRED","NOT TRAINED","N/A"},0),"✓","!","✗","○","—"),"—")} -> ✗ | I18: {=IFERROR(CHOOSE(MATCH('📊 Training Matrix'!$S$20,{"VALID","EXPIRING","EXPIRED","NOT TRAINED","N/A"},0),"✓","!","✗","○","—"),"—")} -> ✓ | J18: {=IFERROR(CHOOSE(MATCH('📊 Training Matrix'!$U$20,{"VALID","EXPIRING","EXPIRED","NOT TRAINED","N/A"},0),"✓","!","✗","○","—"),"—")} -> ○ | K18: {=IFERROR(CHOOSE(MATCH('📊 Training Matrix'!$W$20,{"VALID","EXPIRING","EXPIRED","NOT TRAINED","N/A"},0),"✓","!","✗","○","—"),"—")} -> ○ | L18: {=IFERROR(CHOOSE(MATCH('📊 Training Matrix'!$Y$20,{"VALID","EXPIRING","EXPIRED","NOT TRAINED","N/A"},0),"✓","!","✗","○","—"),"—")} -> ○ | M18: {=IFERROR(CHOOSE(MATCH('📊 Training Matrix'!$AA$20,{"VALID","EXPIRING","EXPIRED","NOT TRAINED","N/A"},0),"✓","!","✗","○","—"),"—")} -> ○ | N18: {=IFERROR(CHOOSE(MATCH('📊 Training Matrix'!$AC$20,{"VALID","EXPIRING","EXPIRED","NOT TRAINED","N/A"},0),"✓","!","✗","○","—"),"—")} -> ○ | O18: {=IFERROR(CHOOSE(MATCH('📊 Training Matrix'!$AE$20,{"VALID","EXPIRING","EXPIRED","NOT TRAINED","N/A"},0),"✓","!","✗","○","—"),"—")} -> ○ | P18: {=IFERROR(CHOOSE(MATCH('📊 Training Matrix'!$AG$20,{"VALID","EXPIRING","EXPIRED","NOT TRAINED","N/A"},0),"✓","!","✗","○","—"),"—")} -> ○ | Q18: {=IFERROR(CHOOSE(MATCH('📊 Training Matrix'!$AI$20,{"VALID","EXPIRING","EXPIRED","NOT TRAINED","N/A"},0),"✓","!","✗","○","—"),"—")} -> ○ | R18: {=IFERROR(CHOOSE(MATCH('📊 Training Matrix'!$AK$20,{"VALID","EXPIRING","EXPIRED","NOT TRAINED","N/A"},0),"✓","!","✗","○","—"),"—")} -> ○ | S18: {=IFERROR(CHOOSE(MATCH('📊 Training Matrix'!$AM$20,{"VALID","EXPIRING","EXPIRED","NOT TRAINED","N/A"},0),"✓","!","✗","○","—"),"—")} -> ○ | T18: {=IFERROR(CHOOSE(MATCH('📊 Training Matrix'!$AO$20,{"VALID","EXPIRING","EXPIRED","NOT TRAINED","N/A"},0),"✓","!","✗","○","—"),"—")} -> ○ | U18: {=IFERROR(CHOOSE(MATCH('📊 Training Matrix'!$AQ$20,{"VALID","EXPIRING","EXPIRED","NOT TRAINED","N/A"},0),"✓","!","✗","○","—"),"—")} -> ○ | V18: {=IFERROR(CHOOSE(MATCH('📊 Training Matrix'!$AS$20,{"VALID","EXPIRING","EXPIRED","NOT TRAINED","N/A"},0),"✓","!","✗","○","—"),"—")} -> ○ | W18: {=IFERROR(CHOOSE(MATCH('📊 Training Matrix'!$AU$20,{"VALID","EXPIRING","EXPIRED","NOT TRAINED","N/A"},0),"✓","!","✗","○","—"),"—")} -> ○ | X18: {=IFERROR(CHOOSE(MATCH('📊 Training Matrix'!$AW$20,{"VALID","EXPIRING","EXPIRED","NOT TRAINED","N/A"},0),"✓","!","✗","○","—"),"—")} -> ✓
A19: Tom Carter | B19: Employee | C19: Civil Works › Groundworker | D19: ='📊 Training Matrix'!$I$21 -> 0.28571429 | E19: {=IFERROR(CHOOSE(MATCH('📊 Training Matrix'!$K$21,{"VALID","EXPIRING","EXPIRED","NOT TRAINED","N/A"},0),"✓","!","✗","○","—"),"—")} -> ✓ | F19: {=IFERROR(CHOOSE(MATCH('📊 Training Matrix'!$M$21,{"VALID","EXPIRING","EXPIRED","NOT TRAINED","N/A"},0),"✓","!","✗","○","—"),"—")} -> ✗ | G19: {=IFERROR(CHOOSE(MATCH('📊 Training Matrix'!$O$21,{"VALID","EXPIRING","EXPIRED","NOT TRAINED","N/A"},0),"✓","!","✗","○","—"),"—")} -> ○ | H19: {=IFERROR(CHOOSE(MATCH('📊 Training Matrix'!$Q$21,{"VALID","EXPIRING","EXPIRED","NOT TRAINED","N/A"},0),"✓","!","✗","○","—"),"—")} -> ✗ | I19: {=IFERROR(CHOOSE(MATCH('📊 Training Matrix'!$S$21,{"VALID","EXPIRING","EXPIRED","NOT TRAINED","N/A"},0),"✓","!","✗","○","—"),"—")} -> ✗ | J19: {=IFERROR(CHOOSE(MATCH('📊 Training Matrix'!$U$21,{"VALID","EXPIRING","EXPIRED","NOT TRAINED","N/A"},0),"✓","!","✗","○","—"),"—")} -> ○ | K19: {=IFERROR(CHOOSE(MATCH('📊 Training Matrix'!$W$21,{"VALID","EXPIRING","EXPIRED","NOT TRAINED","N/A"},0),"✓","!","✗","○","—"),"—")} -> ○ | L19: {=IFERROR(CHOOSE(MATCH('📊 Training Matrix'!$Y$21,{"VALID","EXPIRING","EXPIRED","NOT TRAINED","N/A"},0),"✓","!","✗","○","—"),"—")} -> ○ | M19: {=IFERROR(CHOOSE(MATCH('📊 Training Matrix'!$AA$21,{"VALID","EXPIRING","EXPIRED","NOT TRAINED","N/A"},0),"✓","!","✗","○","—"),"—")} -> ○ | N19: {=IFERROR(CHOOSE(MATCH('📊 Training Matrix'!$AC$21,{"VALID","EXPIRING","EXPIRED","NOT TRAINED","N/A"},0),"✓","!","✗","○","—"),"—")} -> ○ | O19: {=IFERROR(CHOOSE(MATCH('📊 Training Matrix'!$AE$21,{"VALID","EXPIRING","EXPIRED","NOT TRAINED","N/A"},0),"✓","!","✗","○","—"),"—")} -> ○ | P19: {=IFERROR(CHOOSE(MATCH('📊 Training Matrix'!$AG$21,{"VALID","EXPIRING","EXPIRED","NOT TRAINED","N/A"},0),"✓","!","✗","○","—"),"—")} -> ✗ | Q19: {=IFERROR(CHOOSE(MATCH('📊 Training Matrix'!$AI$21,{"VALID","EXPIRING","EXPIRED","NOT TRAINED","N/A"},0),"✓","!","✗","○","—"),"—")} -> ✗ | R19: {=IFERROR(CHOOSE(MATCH('📊 Training Matrix'!$AK$21,{"VALID","EXPIRING","EXPIRED","NOT TRAINED","N/A"},0),"✓","!","✗","○","—"),"—")} -> ○ | S19: {=IFERROR(CHOOSE(MATCH('📊 Training Matrix'!$AM$21,{"VALID","EXPIRING","EXPIRED","NOT TRAINED","N/A"},0),"✓","!","✗","○","—"),"—")} -> ○ | T19: {=IFERROR(CHOOSE(MATCH('📊 Training Matrix'!$AO$21,{"VALID","EXPIRING","EXPIRED","NOT TRAINED","N/A"},0),"✓","!","✗","○","—"),"—")} -> ○ | U19: {=IFERROR(CHOOSE(MATCH('📊 Training Matrix'!$AQ$21,{"VALID","EXPIRING","EXPIRED","NOT TRAINED","N/A"},0),"✓","!","✗","○","—"),"—")} -> ○ | V19: {=IFERROR(CHOOSE(MATCH('📊 Training Matrix'!$AS$21,{"VALID","EXPIRING","EXPIRED","NOT TRAINED","N/A"},0),"✓","!","✗","○","—"),"—")} -> ○ | W19: {=IFERROR(CHOOSE(MATCH('📊 Training Matrix'!$AU$21,{"VALID","EXPIRING","EXPIRED","NOT TRAINED","N/A"},0),"✓","!","✗","○","—"),"—")} -> ○ | X19: {=IFERROR(CHOOSE(MATCH('📊 Training Matrix'!$AW$21,{"VALID","EXPIRING","EXPIRED","NOT TRAINED","N/A"},0),"✓","!","✗","○","—"),"—")} -> ✓
A20: Nina Baker | B20: Employee | C20: Civil Works › Plant Operator | D20: ='📊 Training Matrix'!$I$22 -> 0.33333333 | E20: {=IFERROR(CHOOSE(MATCH('📊 Training Matrix'!$K$22,{"VALID","EXPIRING","EXPIRED","NOT TRAINED","N/A"},0),"✓","!","✗","○","—"),"—")} -> ✓ | F20: {=IFERROR(CHOOSE(MATCH('📊 Training Matrix'!$M$22,{"VALID","EXPIRING","EXPIRED","NOT TRAINED","N/A"},0),"✓","!","✗","○","—"),"—")} -> ✗ | G20: {=IFERROR(CHOOSE(MATCH('📊 Training Matrix'!$O$22,{"VALID","EXPIRING","EXPIRED","NOT TRAINED","N/A"},0),"✓","!","✗","○","—"),"—")} -> ○ | H20: {=IFERROR(CHOOSE(MATCH('📊 Training Matrix'!$Q$22,{"VALID","EXPIRING","EXPIRED","NOT TRAINED","N/A"},0),"✓","!","✗","○","—"),"—")} -> ✓ | I20: {=IFERROR(CHOOSE(MATCH('📊 Training Matrix'!$S$22,{"VALID","EXPIRING","EXPIRED","NOT TRAINED","N/A"},0),"✓","!","✗","○","—"),"—")} -> ✗ | J20: {=IFERROR(CHOOSE(MATCH('📊 Training Matrix'!$U$22,{"VALID","EXPIRING","EXPIRED","NOT TRAINED","N/A"},0),"✓","!","✗","○","—"),"—")} -> ○ | K20: {=IFERROR(CHOOSE(MATCH('📊 Training Matrix'!$W$22,{"VALID","EXPIRING","EXPIRED","NOT TRAINED","N/A"},0),"✓","!","✗","○","—"),"—")} -> ○ | L20: {=IFERROR(CHOOSE(MATCH('📊 Training Matrix'!$Y$22,{"VALID","EXPIRING","EXPIRED","NOT TRAINED","N/A"},0),"✓","!","✗","○","—"),"—")} -> ○ | M20: {=IFERROR(CHOOSE(MATCH('📊 Training Matrix'!$AA$22,{"VALID","EXPIRING","EXPIRED","NOT TRAINED","N/A"},0),"✓","!","✗","○","—"),"—")} -> ○ | N20: {=IFERROR(CHOOSE(MATCH('📊 Training Matrix'!$AC$22,{"VALID","EXPIRING","EXPIRED","NOT TRAINED","N/A"},0),"✓","!","✗","○","—"),"—")} -> ○ | O20: {=IFERROR(CHOOSE(MATCH('📊 Training Matrix'!$AE$22,{"VALID","EXPIRING","EXPIRED","NOT TRAINED","N/A"},0),"✓","!","✗","○","—"),"—")} -> ○ | P20: {=IFERROR(CHOOSE(MATCH('📊 Training Matrix'!$AG$22,{"VALID","EXPIRING","EXPIRED","NOT TRAINED","N/A"},0),"✓","!","✗","○","—"),"—")} -> ○ | Q20: {=IFERROR(CHOOSE(MATCH('📊 Training Matrix'!$AI$22,{"VALID","EXPIRING","EXPIRED","NOT TRAINED","N/A"},0),"✓","!","✗","○","—"),"—")} -> ○ | R20: {=IFERROR(CHOOSE(MATCH('📊 Training Matrix'!$AK$22,{"VALID","EXPIRING","EXPIRED","NOT TRAINED","N/A"},0),"✓","!","✗","○","—"),"—")} -> ○ | S20: {=IFERROR(CHOOSE(MATCH('📊 Training Matrix'!$AM$22,{"VALID","EXPIRING","EXPIRED","NOT TRAINED","N/A"},0),"✓","!","✗","○","—"),"—")} -> ○ | T20: {=IFERROR(CHOOSE(MATCH('📊 Training Matrix'!$AO$22,{"VALID","EXPIRING","EXPIRED","NOT TRAINED","N/A"},0),"✓","!","✗","○","—"),"—")} -> ○ | U20: {=IFERROR(CHOOSE(MATCH('📊 Training Matrix'!$AQ$22,{"VALID","EXPIRING","EXPIRED","NOT TRAINED","N/A"},0),"✓","!","✗","○","—"),"—")} -> ✗ | V20: {=IFERROR(CHOOSE(MATCH('📊 Training Matrix'!$AS$22,{"VALID","EXPIRING","EXPIRED","NOT TRAINED","N/A"},0),"✓","!","✗","○","—"),"—")} -> ○ | W20: {=IFERROR(CHOOSE(MATCH('📊 Training Matrix'!$AU$22,{"VALID","EXPIRING","EXPIRED","NOT TRAINED","N/A"},0),"✓","!","✗","○","—"),"—")} -> ○ | X20: {=IFERROR(CHOOSE(MATCH('📊 Training Matrix'!$AW$22,{"VALID","EXPIRING","EXPIRED","NOT TRAINED","N/A"},0),"✓","!","✗","○","—"),"—")} -> ✗
