Workbook
Name ActiveStatus: '⚙️ Reference Lists'!$H$62:$H$68
Name Departments: '⚙️ Reference Lists'!$B$8:$B$27
Name Grades: '⚙️ Reference Lists'!$B$44:$B$64
Name JobRoles: '⚙️ Reference Lists'!$E$8:$E$46
Name MandatoryTypes: '⚙️ Reference Lists'!$H$52:$H$58
Name RenewalMethods: '⚙️ Reference Lists'!$H$31:$H$48
Name Sites: '⚙️ Reference Lists'!$E$50:$E$66
Name TrainingCategories: '⚙️ Reference Lists'!$H$8:$H$27
Name WorkerTypes: '⚙️ Reference Lists'!$B$31:$B$40

Sheet 📋 Cover & Instructions
C2: P O W E R E D B Y C H O R U S
C3: Workforce training, compliance & competence matrix
C4: Training & Competence Management
B6: A B O U T T H I S S P R E A D S H E E T
B7: This Training Matrix has been designed for large utilities and infrastructure organisations to track employee and subcontractor training, compliance, and competence. It provides at-a-glance visibility of workforce qualification status, expiry alerts, and role-based requirements.
B9: Remember: No matter how good a spreadsheet and matrix is, it will only ever be as good as the information at the last time it was updated - it isn't a live view. Chorus picks up exactly where the spreadsheet runs out of road. Expiries flagged automatically, one live version every stakeholder sees, subcontractors tracked the same way as your direct workforce.
B11: You've already done the hard part, you've got your training data in order. Chorus just makes sure it stays that way without someone chasing it by hand.
B12: Want to see it running against your own data?
B13: S H E E T G U I D E
B14: 🔑 Legend & Key | C14: Colour codes, status definitions, and data entry guidance.
B15: 🗺️ Visual Summary | C15: Simple matrix view of traing validity
B16: 📊 Training Matrix | C16: Main workforce training tracker. Enter/update qualification data here.
B17: 📈 Dashboard | C17: Auto-calculated summary: compliance rates, expiry alerts, role breakdowns.
B18: 👥 Worker Register | C18: Master list of all employees and subcontractors with role/department data.
B19: 📚 Training Catalogue | C19: Full list of required training courses, validity periods, and regulatory refs.
B20: ⚠️ Expiry Alerts | C20: Auto-filtered view of all certifications expiring within 90 days.
B21: ⚙️ Reference Lists | C21: All dropdown source data in one place. Customise departments, job roles, sites, grades and more here.
B22: ⚙️ Alert Data | C22: Data tab for Expiry Alerts, input length of certifcation data here
B24: ⚠ DISCLAIMER: This template is provided as a management aid. It does not replace statutory obligations under the Health & Safety at Work Act 1974, CDM 2015, or sector-specific regulations. Always verify compliance requirements with your legal and HSE advisors.

Sheet 🔑 Legend & Key
B2: Legend, Key and Data Entry Guidance
B4: C E R T I F I C A T I O N S T A T U S C O D E S
B5: ✅ VALID | C5: Certification current and in date
B6: ⚠️ EXPIRING SOON | C6: Expires within 60 days - action required
B7: ❌ EXPIRED | C7: Certification has expired - worker must not operate
B8: 📅 NOT YET DUE | C8: Training not yet required for this role
B9: — NOT APPLICABLE | C9: This qualification is not required for this role
B10: 🔶 SUBCONTRACTOR | C10: Row denotes a subcontractor worker
B12: D A T A E N T R Y G U I D A N C E
B13: Certification Date | C13: Enter in DD/MM/YYYY format. The Status column will reflect currency based on validity period.
B14: Worker Type | C14: Use the drop-down: Employee / Subcontractor / Agency / Apprentice. Subcontractors are highlighted gold.
B15: Compliance % | C15: Auto-calculated based on VALID certs vs total applicable. Green ≥90%, Amber ≥70%, Red <70%.
B16: N/A cells | C16: Leave as N/A if a course is not applicable to the worker's role. Do NOT enter a date.
B17: Leavers | C17: Change 'Active?' to NO in the Worker Register. Consider archiving the row rather than deleting.
B18: New Workers | C18: Add to Worker Register first, then add a row to the Training Matrix referencing their Worker ID.
B19: Subcontractors | C19: Ensure contract end dates are populated. Cross-reference with NRSWA and Gas Safe requirements.
B20: Toolbox Talks | C20: Record date of most recent monthly briefing in the TBT column. Validity = 31 days.

Sheet 🗺️ Visual Summary
A1: TRAINING COMPLIANCE VISUAL SUMMARY | Live reference from Training Matrix
A2: Name | B2: Worker Type | C2: Department / Role | D2: Compliance % | E2: ='📊 Training Matrix'!J3 -> HS-001 H&S Induction | F2: ='📊 Training Matrix'!L3 -> HS-002 Working at Height | G2: ='📊 Training Matrix'!N3 -> HS-003 Confined Space | H2: ='📊 Training Matrix'!P3 -> HS-004 Manual Handling | I2: ='📊 Training Matrix'!R3 -> HS-005 First Aid (FAW) | J2: ='📊 Training Matrix'!T3 -> HS-006 Asbestos Aware. | K2: ='📊 Training Matrix'!V3 -> EL-001 C&G 2391 Inspect | L2: ='📊 Training Matrix'!X3 -> EL-002 18th Edition | M2: ='📊 Training Matrix'!Z3 -> EL-003 HV Auth. Person | N2: ='📊 Training Matrix'!AB3 -> EL-004 LV Switching | O2: ='📊 Training Matrix'!AD3 -> CV-005 NRSWA Supvsr | P2: ='📊 Training Matrix'!AF3 -> CV-006 NRSWA Operative | Q2: ='📊 Training Matrix'!AH3 -> CV-002 CSCS Blue | R2: ='📊 Training Matrix'!AJ3 -> GS-001 Gas Safe Reg. | S2: ='📊 Training Matrix'!AL3 -> GS-002 ACS Gas (CCN1) | T2: ='📊 Training Matrix'!AN3 -> WA-001 WIAPS Cert. | U2: ='📊 Training Matrix'!AP3 -> DR-004 CPCS Excavator | V2: ='📊 Training Matrix'!AR3 -> MG-002 SMSTS | W2: ='📊 Training Matrix'!AT3 -> MG-003 SSSTS | X2: ='📊 Training Matrix'!AV3 -> IT-002 GDPR
A3: 🔶 Hannah Martin | B3: Subcontractor | C3: IT & Systems › IT Manager | D3: ='📊 Training Matrix'!$I$5 -> 0.6 | E3: {=IFERROR(CHOOSE(MATCH('📊 Training Matrix'!$K$5,{"VALID","EXPIRING","EXPIRED","NOT TRAINED","N/A"},0),"✓","!","✗","○","—"),"—")} -> ✓ | F3: {=IFERROR(CHOOSE(MATCH('📊 Training Matrix'!$M$5,{"VALID","EXPIRING","EXPIRED","NOT TRAINED","N/A"},0),"✓","!","✗","○","—"),"—")} -> ✓ | G3: {=IFERROR(CHOOSE(MATCH('📊 Training Matrix'!$O$5,{"VALID","EXPIRING","EXPIRED","NOT TRAINED","N/A"},0),"✓","!","✗","○","—"),"—")} -> ○ | H3: {=IFERROR(CHOOSE(MATCH('📊 Training Matrix'!$Q$5,{"VALID","EXPIRING","EXPIRED","NOT TRAINED","N/A"},0),"✓","!","✗","○","—"),"—")} -> ✗ | I3: {=IFERROR(CHOOSE(MATCH('📊 Training Matrix'!$S$5,{"VALID","EXPIRING","EXPIRED","NOT TRAINED","N/A"},0),"✓","!","✗","○","—"),"—")} -> ✗ | J3: {=IFERROR(CHOOSE(MATCH('📊 Training Matrix'!$U$5,{"VALID","EXPIRING","EXPIRED","NOT TRAINED","N/A"},0),"✓","!","✗","○","—"),"—")} -> ○ | K3: {=IFERROR(CHOOSE(MATCH('📊 Training Matrix'!$W$5,{"VALID","EXPIRING","EXPIRED","NOT TRAINED","N/A"},0),"✓","!","✗","○","—"),"—")} -> ○ | L3: {=IFERROR(CHOOSE(MATCH('📊 Training Matrix'!$Y$5,{"VALID","EXPIRING","EXPIRED","NOT TRAINED","N/A"},0),"✓","!","✗","○","—"),"—")} -> ○ | M3: {=IFERROR(CHOOSE(MATCH('📊 Training Matrix'!$AA$5,{"VALID","EXPIRING","EXPIRED","NOT TRAINED","N/A"},0),"✓","!","✗","○","—"),"—")} -> ○ | N3: {=IFERROR(CHOOSE(MATCH('📊 Training Matrix'!$AC$5,{"VALID","EXPIRING","EXPIRED","NOT TRAINED","N/A"},0),"✓","!","✗","○","—"),"—")} -> ○ | O3: {=IFERROR(CHOOSE(MATCH('📊 Training Matrix'!$AE$5,{"VALID","EXPIRING","EXPIRED","NOT TRAINED","N/A"},0),"✓","!","✗","○","—"),"—")} -> ○ | P3: {=IFERROR(CHOOSE(MATCH('📊 Training Matrix'!$AG$5,{"VALID","EXPIRING","EXPIRED","NOT TRAINED","N/A"},0),"✓","!","✗","○","—"),"—")} -> ○ | Q3: {=IFERROR(CHOOSE(MATCH('📊 Training Matrix'!$AI$5,{"VALID","EXPIRING","EXPIRED","NOT TRAINED","N/A"},0),"✓","!","✗","○","—"),"—")} -> ○ | R3: {=IFERROR(CHOOSE(MATCH('📊 Training Matrix'!$AK$5,{"VALID","EXPIRING","EXPIRED","NOT TRAINED","N/A"},0),"✓","!","✗","○","—"),"—")} -> ○ | S3: {=IFERROR(CHOOSE(MATCH('📊 Training Matrix'!$AM$5,{"VALID","EXPIRING","EXPIRED","NOT TRAINED","N/A"},0),"✓","!","✗","○","—"),"—")} -> ○ | T3: {=IFERROR(CHOOSE(MATCH('📊 Training Matrix'!$AO$5,{"VALID","EXPIRING","EXPIRED","NOT TRAINED","N/A"},0),"✓","!","✗","○","—"),"—")} -> ○ | U3: {=IFERROR(CHOOSE(MATCH('📊 Training Matrix'!$AQ$5,{"VALID","EXPIRING","EXPIRED","NOT TRAINED","N/A"},0),"✓","!","✗","○","—"),"—")} -> ○ | V3: {=IFERROR(CHOOSE(MATCH('📊 Training Matrix'!$AS$5,{"VALID","EXPIRING","EXPIRED","NOT TRAINED","N/A"},0),"✓","!","✗","○","—"),"—")} -> ○ | W3: {=IFERROR(CHOOSE(MATCH('📊 Training Matrix'!$AU$5,{"VALID","EXPIRING","EXPIRED","NOT TRAINED","N/A"},0),"✓","!","✗","○","—"),"—")} -> ○ | X3: {=IFERROR(CHOOSE(MATCH('📊 Training Matrix'!$AW$5,{"VALID","EXPIRING","EXPIRED","NOT TRAINED","N/A"},0),"✓","!","✗","○","—"),"—")} -> ✓
A4: Simon Adams | B4: Employee | C4: HSEQ › HSEQ Manager | D4: ='📊 Training Matrix'!$I$6 -> 0.5 | E4: {=IFERROR(CHOOSE(MATCH('📊 Training Matrix'!$K$6,{"VALID","EXPIRING","EXPIRED","NOT TRAINED","N/A"},0),"✓","!","✗","○","—"),"—")} -> ✓ | F4: {=IFERROR(CHOOSE(MATCH('📊 Training Matrix'!$M$6,{"VALID","EXPIRING","EXPIRED","NOT TRAINED","N/A"},0),"✓","!","✗","○","—"),"—")} -> ○ | G4: {=IFERROR(CHOOSE(MATCH('📊 Training Matrix'!$O$6,{"VALID","EXPIRING","EXPIRED","NOT TRAINED","N/A"},0),"✓","!","✗","○","—"),"—")} -> ○ | H4: {=IFERROR(CHOOSE(MATCH('📊 Training Matrix'!$Q$6,{"VALID","EXPIRING","EXPIRED","NOT TRAINED","N/A"},0),"✓","!","✗","○","—"),"—")} -> ! | I4: {=IFERROR(CHOOSE(MATCH('📊 Training Matrix'!$S$6,{"VALID","EXPIRING","EXPIRED","NOT TRAINED","N/A"},0),"✓","!","✗","○","—"),"—")} -> ✗ | J4: {=IFERROR(CHOOSE(MATCH('📊 Training Matrix'!$U$6,{"VALID","EXPIRING","EXPIRED","NOT TRAINED","N/A"},0),"✓","!","✗","○","—"),"—")} -> ○ | K4: {=IFERROR(CHOOSE(MATCH('📊 Training Matrix'!$W$6,{"VALID","EXPIRING","EXPIRED","NOT TRAINED","N/A"},0),"✓","!","✗","○","—"),"—")} -> ○ | L4: {=IFERROR(CHOOSE(MATCH('📊 Training Matrix'!$Y$6,{"VALID","EXPIRING","EXPIRED","NOT TRAINED","N/A"},0),"✓","!","✗","○","—"),"—")} -> ○ | M4: {=IFERROR(CHOOSE(MATCH('📊 Training Matrix'!$AA$6,{"VALID","EXPIRING","EXPIRED","NOT TRAINED","N/A"},0),"✓","!","✗","○","—"),"—")} -> ○ | N4: {=IFERROR(CHOOSE(MATCH('📊 Training Matrix'!$AC$6,{"VALID","EXPIRING","EXPIRED","NOT TRAINED","N/A"},0),"✓","!","✗","○","—"),"—")} -> ○ | O4: {=IFERROR(CHOOSE(MATCH('📊 Training Matrix'!$AE$6,{"VALID","EXPIRING","EXPIRED","NOT TRAINED","N/A"},0),"✓","!","✗","○","—"),"—")} -> ○ | P4: {=IFERROR(CHOOSE(MATCH('📊 Training Matrix'!$AG$6,{"VALID","EXPIRING","EXPIRED","NOT TRAINED","N/A"},0),"✓","!","✗","○","—"),"—")} -> ○ | Q4: {=IFERROR(CHOOSE(MATCH('📊 Training Matrix'!$AI$6,{"VALID","EXPIRING","EXPIRED","NOT TRAINED","N/A"},0),"✓","!","✗","○","—"),"—")} -> ○ | R4: {=IFERROR(CHOOSE(MATCH('📊 Training Matrix'!$AK$6,{"VALID","EXPIRING","EXPIRED","NOT TRAINED","N/A"},0),"✓","!","✗","○","—"),"—")} -> ○ | S4: {=IFERROR(CHOOSE(MATCH('📊 Training Matrix'!$AM$6,{"VALID","EXPIRING","EXPIRED","NOT TRAINED","N/A"},0),"✓","!","✗","○","—"),"—")} -> ○ | T4: {=IFERROR(CHOOSE(MATCH('📊 Training Matrix'!$AO$6,{"VALID","EXPIRING","EXPIRED","NOT TRAINED","N/A"},0),"✓","!","✗","○","—"),"—")} -> ○ | U4: {=IFERROR(CHOOSE(MATCH('📊 Training Matrix'!$AQ$6,{"VALID","EXPIRING","EXPIRED","NOT TRAINED","N/A"},0),"✓","!","✗","○","—"),"—")} -> ○ | V4: {=IFERROR(CHOOSE(MATCH('📊 Training Matrix'!$AS$6,{"VALID","EXPIRING","EXPIRED","NOT TRAINED","N/A"},0),"✓","!","✗","○","—"),"—")} -> ○ | W4: {=IFERROR(CHOOSE(MATCH('📊 Training Matrix'!$AU$6,{"VALID","EXPIRING","EXPIRED","NOT TRAINED","N/A"},0),"✓","!","✗","○","—"),"—")} -> ○ | X4: {=IFERROR(CHOOSE(MATCH('📊 Training Matrix'!$AW$6,{"VALID","EXPIRING","EXPIRED","NOT TRAINED","N/A"},0),"✓","!","✗","○","—"),"—")} -> ✓
A5: Sophie Miller | B5: Employee | C5: Civil Works › Site Supervisor | D5: ='📊 Training Matrix'!$I$7 -> 0.6 | E5: {=IFERROR(CHOOSE(MATCH('📊 Training Matrix'!$K$7,{"VALID","EXPIRING","EXPIRED","NOT TRAINED","N/A"},0),"✓","!","✗","○","—"),"—")} -> ○ | F5: {=IFERROR(CHOOSE(MATCH('📊 Training Matrix'!$M$7,{"VALID","EXPIRING","EXPIRED","NOT TRAINED","N/A"},0),"✓","!","✗","○","—"),"—")} -> ○ | G5: {=IFERROR(CHOOSE(MATCH('📊 Training Matrix'!$O$7,{"VALID","EXPIRING","EXPIRED","NOT TRAINED","N/A"},0),"✓","!","✗","○","—"),"—")} -> ○ | H5: {=IFERROR(CHOOSE(MATCH('📊 Training Matrix'!$Q$7,{"VALID","EXPIRING","EXPIRED","NOT TRAINED","N/A"},0),"✓","!","✗","○","—"),"—")} -> ✓ | I5: {=IFERROR(CHOOSE(MATCH('📊 Training Matrix'!$S$7,{"VALID","EXPIRING","EXPIRED","NOT TRAINED","N/A"},0),"✓","!","✗","○","—"),"—")} -> ✓ | J5: {=IFERROR(CHOOSE(MATCH('📊 Training Matrix'!$U$7,{"VALID","EXPIRING","EXPIRED","NOT TRAINED","N/A"},0),"✓","!","✗","○","—"),"—")} -> ○ | K5: {=IFERROR(CHOOSE(MATCH('📊 Training Matrix'!$W$7,{"VALID","EXPIRING","EXPIRED","NOT TRAINED","N/A"},0),"✓","!","✗","○","—"),"—")} -> ○ | L5: {=IFERROR(CHOOSE(MATCH('📊 Training Matrix'!$Y$7,{"VALID","EXPIRING","EXPIRED","NOT TRAINED","N/A"},0),"✓","!","✗","○","—"),"—")} -> ○ | M5: {=IFERROR(CHOOSE(MATCH('📊 Training Matrix'!$AA$7,{"VALID","EXPIRING","EXPIRED","NOT TRAINED","N/A"},0),"✓","!","✗","○","—"),"—")} -> ○ | N5: {=IFERROR(CHOOSE(MATCH('📊 Training Matrix'!$AC$7,{"VALID","EXPIRING","EXPIRED","NOT TRAINED","N/A"},0),"✓","!","✗","○","—"),"—")} -> ○ | O5: {=IFERROR(CHOOSE(MATCH('📊 Training Matrix'!$AE$7,{"VALID","EXPIRING","EXPIRED","NOT TRAINED","N/A"},0),"✓","!","✗","○","—"),"—")} -> ✗ | P5: {=IFERROR(CHOOSE(MATCH('📊 Training Matrix'!$AG$7,{"VALID","EXPIRING","EXPIRED","NOT TRAINED","N/A"},0),"✓","!","✗","○","—"),"—")} -> ○ | Q5: {=IFERROR(CHOOSE(MATCH('📊 Training Matrix'!$AI$7,{"VALID","EXPIRING","EXPIRED","NOT TRAINED","N/A"},0),"✓","!","✗","○","—"),"—")} -> ○ | R5: {=IFERROR(CHOOSE(MATCH('📊 Training Matrix'!$AK$7,{"VALID","EXPIRING","EXPIRED","NOT TRAINED","N/A"},0),"✓","!","✗","○","—"),"—")} -> ○ | S5: {=IFERROR(CHOOSE(MATCH('📊 Training Matrix'!$AM$7,{"VALID","EXPIRING","EXPIRED","NOT TRAINED","N/A"},0),"✓","!","✗","○","—"),"—")} -> ○ | T5: {=IFERROR(CHOOSE(MATCH('📊 Training Matrix'!$AO$7,{"VALID","EXPIRING","EXPIRED","NOT TRAINED","N/A"},0),"✓","!","✗","○","—"),"—")} -> ○ | U5: {=IFERROR(CHOOSE(MATCH('📊 Training Matrix'!$AQ$7,{"VALID","EXPIRING","EXPIRED","NOT TRAINED","N/A"},0),"✓","!","✗","○","—"),"—")} -> ○ | V5: {=IFERROR(CHOOSE(MATCH('📊 Training Matrix'!$AS$7,{"VALID","EXPIRING","EXPIRED","NOT TRAINED","N/A"},0),"✓","!","✗","○","—"),"—")} -> ○ | W5: {=IFERROR(CHOOSE(MATCH('📊 Training Matrix'!$AU$7,{"VALID","EXPIRING","EXPIRED","NOT TRAINED","N/A"},0),"✓","!","✗","○","—"),"—")} -> ✗ | X5: {=IFERROR(CHOOSE(MATCH('📊 Training Matrix'!$AW$7,{"VALID","EXPIRING","EXPIRED","NOT TRAINED","N/A"},0),"✓","!","✗","○","—"),"—")} -> ✓
A6: Steve Garcia | B6: Employee | C6: HSEQ › HSEQ Manager | D6: ='📊 Training Matrix'!$I$8 -> 0.5 | E6: {=IFERROR(CHOOSE(MATCH('📊 Training Matrix'!$K$8,{"VALID","EXPIRING","EXPIRED","NOT TRAINED","N/A"},0),"✓","!","✗","○","—"),"—")} -> ✓ | F6: {=IFERROR(CHOOSE(MATCH('📊 Training Matrix'!$M$8,{"VALID","EXPIRING","EXPIRED","NOT TRAINED","N/A"},0),"✓","!","✗","○","—"),"—")} -> ○ | G6: {=IFERROR(CHOOSE(MATCH('📊 Training Matrix'!$O$8,{"VALID","EXPIRING","EXPIRED","NOT TRAINED","N/A"},0),"✓","!","✗","○","—"),"—")} -> ○ | H6: {=IFERROR(CHOOSE(MATCH('📊 Training Matrix'!$Q$8,{"VALID","EXPIRING","EXPIRED","NOT TRAINED","N/A"},0),"✓","!","✗","○","—"),"—")} -> ✗ | I6: {=IFERROR(CHOOSE(MATCH('📊 Training Matrix'!$S$8,{"VALID","EXPIRING","EXPIRED","NOT TRAINED","N/A"},0),"✓","!","✗","○","—"),"—")} -> ✗ | J6: {=IFERROR(CHOOSE(MATCH('📊 Training Matrix'!$U$8,{"VALID","EXPIRING","EXPIRED","NOT TRAINED","N/A"},0),"✓","!","✗","○","—"),"—")} -> ○ | K6: {=IFERROR(CHOOSE(MATCH('📊 Training Matrix'!$W$8,{"VALID","EXPIRING","EXPIRED","NOT TRAINED","N/A"},0),"✓","!","✗","○","—"),"—")} -> ○ | L6: {=IFERROR(CHOOSE(MATCH('📊 Training Matrix'!$Y$8,{"VALID","EXPIRING","EXPIRED","NOT TRAINED","N/A"},0),"✓","!","✗","○","—"),"—")} -> ○ | M6: {=IFERROR(CHOOSE(MATCH('📊 Training Matrix'!$AA$8,{"VALID","EXPIRING","EXPIRED","NOT TRAINED","N/A"},0),"✓","!","✗","○","—"),"—")} -> ○ | N6: {=IFERROR(CHOOSE(MATCH('📊 Training Matrix'!$AC$8,{"VALID","EXPIRING","EXPIRED","NOT TRAINED","N/A"},0),"✓","!","✗","○","—"),"—")} -> ○ | O6: {=IFERROR(CHOOSE(MATCH('📊 Training Matrix'!$AE$8,{"VALID","EXPIRING","EXPIRED","NOT TRAINED","N/A"},0),"✓","!","✗","○","—"),"—")} -> ○ | P6: {=IFERROR(CHOOSE(MATCH('📊 Training Matrix'!$AG$8,{"VALID","EXPIRING","EXPIRED","NOT TRAINED","N/A"},0),"✓","!","✗","○","—"),"—")} -> ○ | Q6: {=IFERROR(CHOOSE(MATCH('📊 Training Matrix'!$AI$8,{"VALID","EXPIRING","EXPIRED","NOT TRAINED","N/A"},0),"✓","!","✗","○","—"),"—")} -> ○ | R6: {=IFERROR(CHOOSE(MATCH('📊 Training Matrix'!$AK$8,{"VALID","EXPIRING","EXPIRED","NOT TRAINED","N/A"},0),"✓","!","✗","○","—"),"—")} -> ○ | S6: {=IFERROR(CHOOSE(MATCH('📊 Training Matrix'!$AM$8,{"VALID","EXPIRING","EXPIRED","NOT TRAINED","N/A"},0),"✓","!","✗","○","—"),"—")} -> ○ | T6: {=IFERROR(CHOOSE(MATCH('📊 Training Matrix'!$AO$8,{"VALID","EXPIRING","EXPIRED","NOT TRAINED","N/A"},0),"✓","!","✗","○","—"),"—")} -> ○ | U6: {=IFERROR(CHOOSE(MATCH('📊 Training Matrix'!$AQ$8,{"VALID","EXPIRING","EXPIRED","NOT TRAINED","N/A"},0),"✓","!","✗","○","—"),"—")} -> ○ | V6: {=IFERROR(CHOOSE(MATCH('📊 Training Matrix'!$AS$8,{"VALID","EXPIRING","EXPIRED","NOT TRAINED","N/A"},0),"✓","!","✗","○","—"),"—")} -> ○ | W6: {=IFERROR(CHOOSE(MATCH('📊 Training Matrix'!$AU$8,{"VALID","EXPIRING","EXPIRED","NOT TRAINED","N/A"},0),"✓","!","✗","○","—"),"—")} -> ○ | X6: {=IFERROR(CHOOSE(MATCH('📊 Training Matrix'!$AW$8,{"VALID","EXPIRING","EXPIRED","NOT TRAINED","N/A"},0),"✓","!","✗","○","—"),"—")} -> ✓
A7: Steve Young | B7: Employee | C7: Field Engineering › Senior Field Engineer | D7: ='📊 Training Matrix'!$I$9 -> 0.5 | E7: {=IFERROR(CHOOSE(MATCH('📊 Training Matrix'!$K$9,{"VALID","EXPIRING","EXPIRED","NOT TRAINED","N/A"},0),"✓","!","✗","○","—"),"—")} -> ✓ | F7: {=IFERROR(CHOOSE(MATCH('📊 Training Matrix'!$M$9,{"VALID","EXPIRING","EXPIRED","NOT TRAINED","N/A"},0),"✓","!","✗","○","—"),"—")} -> ○ | G7: {=IFERROR(CHOOSE(MATCH('📊 Training Matrix'!$O$9,{"VALID","EXPIRING","EXPIRED","NOT TRAINED","N/A"},0),"✓","!","✗","○","—"),"—")} -> ✗ | H7: {=IFERROR(CHOOSE(MATCH('📊 Training Matrix'!$Q$9,{"VALID","EXPIRING","EXPIRED","NOT TRAINED","N/A"},0),"✓","!","✗","○","—"),"—")} -> ✓ | I7: {=IFERROR(CHOOSE(MATCH('📊 Training Matrix'!$S$9,{"VALID","EXPIRING","EXPIRED","NOT TRAINED","N/A"},0),"✓","!","✗","○","—"),"—")} -> ✗ | J7: {=IFERROR(CHOOSE(MATCH('📊 Training Matrix'!$U$9,{"VALID","EXPIRING","EXPIRED","NOT TRAINED","N/A"},0),"✓","!","✗","○","—"),"—")} -> ✓ | K7: {=IFERROR(CHOOSE(MATCH('📊 Training Matrix'!$W$9,{"VALID","EXPIRING","EXPIRED","NOT TRAINED","N/A"},0),"✓","!","✗","○","—"),"—")} -> ○ | L7: {=IFERROR(CHOOSE(MATCH('📊 Training Matrix'!$Y$9,{"VALID","EXPIRING","EXPIRED","NOT TRAINED","N/A"},0),"✓","!","✗","○","—"),"—")} -> ○ | M7: {=IFERROR(CHOOSE(MATCH('📊 Training Matrix'!$AA$9,{"VALID","EXPIRING","EXPIRED","NOT TRAINED","N/A"},0),"✓","!","✗","○","—"),"—")} -> ○ | N7: {=IFERROR(CHOOSE(MATCH('📊 Training Matrix'!$AC$9,{"VALID","EXPIRING","EXPIRED","NOT TRAINED","N/A"},0),"✓","!","✗","○","—"),"—")} -> ○ | O7: {=IFERROR(CHOOSE(MATCH('📊 Training Matrix'!$AE$9,{"VALID","EXPIRING","EXPIRED","NOT TRAINED","N/A"},0),"✓","!","✗","○","—"),"—")} -> ○ | P7: {=IFERROR(CHOOSE(MATCH('📊 Training Matrix'!$AG$9,{"VALID","EXPIRING","EXPIRED","NOT TRAINED","N/A"},0),"✓","!","✗","○","—"),"—")} -> ○ | Q7: {=IFERROR(CHOOSE(MATCH('📊 Training Matrix'!$AI$9,{"VALID","EXPIRING","EXPIRED","NOT TRAINED","N/A"},0),"✓","!","✗","○","—"),"—")} -> ○ | R7: {=IFERROR(CHOOSE(MATCH('📊 Training Matrix'!$AK$9,{"VALID","EXPIRING","EXPIRED","NOT TRAINED","N/A"},0),"✓","!","✗","○","—"),"—")} -> ○ | S7: {=IFERROR(CHOOSE(MATCH('📊 Training Matrix'!$AM$9,{"VALID","EXPIRING","EXPIRED","NOT TRAINED","N/A"},0),"✓","!","✗","○","—"),"—")} -> ○ | T7: {=IFERROR(CHOOSE(MATCH('📊 Training Matrix'!$AO$9,{"VALID","EXPIRING","EXPIRED","NOT TRAINED","N/A"},0),"✓","!","✗","○","—"),"—")} -> ○ | U7: {=IFERROR(CHOOSE(MATCH('📊 Training Matrix'!$AQ$9,{"VALID","EXPIRING","EXPIRED","NOT TRAINED","N/A"},0),"✓","!","✗","○","—"),"—")} -> ○ | V7: {=IFERROR(CHOOSE(MATCH('📊 Training Matrix'!$AS$9,{"VALID","EXPIRING","EXPIRED","NOT TRAINED","N/A"},0),"✓","!","✗","○","—"),"—")} -> ○ | W7: {=IFERROR(CHOOSE(MATCH('📊 Training Matrix'!$AU$9,{"VALID","EXPIRING","EXPIRED","NOT TRAINED","N/A"},0),"✓","!","✗","○","—"),"—")} -> ○ | X7: {=IFERROR(CHOOSE(MATCH('📊 Training Matrix'!$AW$9,{"VALID","EXPIRING","EXPIRED","NOT TRAINED","N/A"},0),"✓","!","✗","○","—"),"—")} -> !
A8: 🔶 Nadia Green | B8: Subcontractor | C8: HSEQ › Environmental Coordinator | D8: ='📊 Training Matrix'!$I$10 -> 0 | E8: {=IFERROR(CHOOSE(MATCH('📊 Training Matrix'!$K$10,{"VALID","EXPIRING","EXPIRED","NOT TRAINED","N/A"},0),"✓","!","✗","○","—"),"—")} -> ✗ | F8: {=IFERROR(CHOOSE(MATCH('📊 Training Matrix'!$M$10,{"VALID","EXPIRING","EXPIRED","NOT TRAINED","N/A"},0),"✓","!","✗","○","—"),"—")} -> ○ | G8: {=IFERROR(CHOOSE(MATCH('📊 Training Matrix'!$O$10,{"VALID","EXPIRING","EXPIRED","NOT TRAINED","N/A"},0),"✓","!","✗","○","—"),"—")} -> ○ | H8: {=IFERROR(CHOOSE(MATCH('📊 Training Matrix'!$Q$10,{"VALID","EXPIRING","EXPIRED","NOT TRAINED","N/A"},0),"✓","!","✗","○","—"),"—")} -> ✗ | I8: {=IFERROR(CHOOSE(MATCH('📊 Training Matrix'!$S$10,{"VALID","EXPIRING","EXPIRED","NOT TRAINED","N/A"},0),"✓","!","✗","○","—"),"—")} -> ✗ | J8: {=IFERROR(CHOOSE(MATCH('📊 Training Matrix'!$U$10,{"VALID","EXPIRING","EXPIRED","NOT TRAINED","N/A"},0),"✓","!","✗","○","—"),"—")} -> ○ | K8: {=IFERROR(CHOOSE(MATCH('📊 Training Matrix'!$W$10,{"VALID","EXPIRING","EXPIRED","NOT TRAINED","N/A"},0),"✓","!","✗","○","—"),"—")} -> ○ | L8: {=IFERROR(CHOOSE(MATCH('📊 Training Matrix'!$Y$10,{"VALID","EXPIRING","EXPIRED","NOT TRAINED","N/A"},0),"✓","!","✗","○","—"),"—")} -> ○ | M8: {=IFERROR(CHOOSE(MATCH('📊 Training Matrix'!$AA$10,{"VALID","EXPIRING","EXPIRED","NOT TRAINED","N/A"},0),"✓","!","✗","○","—"),"—")} -> ○ | N8: {=IFERROR(CHOOSE(MATCH('📊 Training Matrix'!$AC$10,{"VALID","EXPIRING","EXPIRED","NOT TRAINED","N/A"},0),"✓","!","✗","○","—"),"—")} -> ○ | O8: {=IFERROR(CHOOSE(MATCH('📊 Training Matrix'!$AE$10,{"VALID","EXPIRING","EXPIRED","NOT TRAINED","N/A"},0),"✓","!","✗","○","—"),"—")} -> ○ | P8: {=IFERROR(CHOOSE(MATCH('📊 Training Matrix'!$AG$10,{"VALID","EXPIRING","EXPIRED","NOT TRAINED","N/A"},0),"✓","!","✗","○","—"),"—")} -> ○ | Q8: {=IFERROR(CHOOSE(MATCH('📊 Training Matrix'!$AI$10,{"VALID","EXPIRING","EXPIRED","NOT TRAINED","N/A"},0),"✓","!","✗","○","—"),"—")} -> ○ | R8: {=IFERROR(CHOOSE(MATCH('📊 Training Matrix'!$AK$10,{"VALID","EXPIRING","EXPIRED","NOT TRAINED","N/A"},0),"✓","!","✗","○","—"),"—")} -> ○ | S8: {=IFERROR(CHOOSE(MATCH('📊 Training Matrix'!$AM$10,{"VALID","EXPIRING","EXPIRED","NOT TRAINED","N/A"},0),"✓","!","✗","○","—"),"—")} -> ○ | T8: {=IFERROR(CHOOSE(MATCH('📊 Training Matrix'!$AO$10,{"VALID","EXPIRING","EXPIRED","NOT TRAINED","N/A"},0),"✓","!","✗","○","—"),"—")} -> ○ | U8: {=IFERROR(CHOOSE(MATCH('📊 Training Matrix'!$AQ$10,{"VALID","EXPIRING","EXPIRED","NOT TRAINED","N/A"},0),"✓","!","✗","○","—"),"—")} -> ○ | V8: {=IFERROR(CHOOSE(MATCH('📊 Training Matrix'!$AS$10,{"VALID","EXPIRING","EXPIRED","NOT TRAINED","N/A"},0),"✓","!","✗","○","—"),"—")} -> ○ | W8: {=IFERROR(CHOOSE(MATCH('📊 Training Matrix'!$AU$10,{"VALID","EXPIRING","EXPIRED","NOT TRAINED","N/A"},0),"✓","!","✗","○","—"),"—")} -> ○ | X8: {=IFERROR(CHOOSE(MATCH('📊 Training Matrix'!$AW$10,{"VALID","EXPIRING","EXPIRED","NOT TRAINED","N/A"},0),"✓","!","✗","○","—"),"—")} -> !
A9: 🔶 Tanya Baker | B9: Subcontractor | C9: Electrical › Electrical Technician | D9: ='📊 Training Matrix'!$I$11 -> 0.33333333 | E9: {=IFERROR(CHOOSE(MATCH('📊 Training Matrix'!$K$11,{"VALID","EXPIRING","EXPIRED","NOT TRAINED","N/A"},0),"✓","!","✗","○","—"),"—")} -> ✗ | F9: {=IFERROR(CHOOSE(MATCH('📊 Training Matrix'!$M$11,{"VALID","EXPIRING","EXPIRED","NOT TRAINED","N/A"},0),"✓","!","✗","○","—"),"—")} -> ✗ | G9: {=IFERROR(CHOOSE(MATCH('📊 Training Matrix'!$O$11,{"VALID","EXPIRING","EXPIRED","NOT TRAINED","N/A"},0),"✓","!","✗","○","—"),"—")} -> ✓ | H9: {=IFERROR(CHOOSE(MATCH('📊 Training Matrix'!$Q$11,{"VALID","EXPIRING","EXPIRED","NOT TRAINED","N/A"},0),"✓","!","✗","○","—"),"—")} -> ✗ | I9: {=IFERROR(CHOOSE(MATCH('📊 Training Matrix'!$S$11,{"VALID","EXPIRING","EXPIRED","NOT TRAINED","N/A"},0),"✓","!","✗","○","—"),"—")} -> ✗ | J9: {=IFERROR(CHOOSE(MATCH('📊 Training Matrix'!$U$11,{"VALID","EXPIRING","EXPIRED","NOT TRAINED","N/A"},0),"✓","!","✗","○","—"),"—")} -> ○ | K9: {=IFERROR(CHOOSE(MATCH('📊 Training Matrix'!$W$11,{"VALID","EXPIRING","EXPIRED","NOT TRAINED","N/A"},0),"✓","!","✗","○","—"),"—")} -> ✓ | L9: {=IFERROR(CHOOSE(MATCH('📊 Training Matrix'!$Y$11,{"VALID","EXPIRING","EXPIRED","NOT TRAINED","N/A"},0),"✓","!","✗","○","—"),"—")} -> ✗ | M9: {=IFERROR(CHOOSE(MATCH('📊 Training Matrix'!$AA$11,{"VALID","EXPIRING","EXPIRED","NOT TRAINED","N/A"},0),"✓","!","✗","○","—"),"—")} -> ○ | N9: {=IFERROR(CHOOSE(MATCH('📊 Training Matrix'!$AC$11,{"VALID","EXPIRING","EXPIRED","NOT TRAINED","N/A"},0),"✓","!","✗","○","—"),"—")} -> ✗ | O9: {=IFERROR(CHOOSE(MATCH('📊 Training Matrix'!$AE$11,{"VALID","EXPIRING","EXPIRED","NOT TRAINED","N/A"},0),"✓","!","✗","○","—"),"—")} -> ○ | P9: {=IFERROR(CHOOSE(MATCH('📊 Training Matrix'!$AG$11,{"VALID","EXPIRING","EXPIRED","NOT TRAINED","N/A"},0),"✓","!","✗","○","—"),"—")} -> ○ | Q9: {=IFERROR(CHOOSE(MATCH('📊 Training Matrix'!$AI$11,{"VALID","EXPIRING","EXPIRED","NOT TRAINED","N/A"},0),"✓","!","✗","○","—"),"—")} -> ✓ | R9: {=IFERROR(CHOOSE(MATCH('📊 Training Matrix'!$AK$11,{"VALID","EXPIRING","EXPIRED","NOT TRAINED","N/A"},0),"✓","!","✗","○","—"),"—")} -> ○ | S9: {=IFERROR(CHOOSE(MATCH('📊 Training Matrix'!$AM$11,{"VALID","EXPIRING","EXPIRED","NOT TRAINED","N/A"},0),"✓","!","✗","○","—"),"—")} -> ○ | T9: {=IFERROR(CHOOSE(MATCH('📊 Training Matrix'!$AO$11,{"VALID","EXPIRING","EXPIRED","NOT TRAINED","N/A"},0),"✓","!","✗","○","—"),"—")} -> ○ | U9: {=IFERROR(CHOOSE(MATCH('📊 Training Matrix'!$AQ$11,{"VALID","EXPIRING","EXPIRED","NOT TRAINED","N/A"},0),"✓","!","✗","○","—"),"—")} -> ○ | V9: {=IFERROR(CHOOSE(MATCH('📊 Training Matrix'!$AS$11,{"VALID","EXPIRING","EXPIRED","NOT TRAINED","N/A"},0),"✓","!","✗","○","—"),"—")} -> ○ | W9: {=IFERROR(CHOOSE(MATCH('📊 Training Matrix'!$AU$11,{"VALID","EXPIRING","EXPIRED","NOT TRAINED","N/A"},0),"✓","!","✗","○","—"),"—")} -> ○ | X9: {=IFERROR(CHOOSE(MATCH('📊 Training Matrix'!$AW$11,{"VALID","EXPIRING","EXPIRED","NOT TRAINED","N/A"},0),"✓","!","✗","○","—"),"—")} -> ○
A10: David Turner | B10: Employee | C10: Control Room › Dispatch Coordinator | D10: ='📊 Training Matrix'!$I$12 -> 0.5 | E10: {=IFERROR(CHOOSE(MATCH('📊 Training Matrix'!$K$12,{"VALID","EXPIRING","EXPIRED","NOT TRAINED","N/A"},0),"✓","!","✗","○","—"),"—")} -> ✓ | F10: {=IFERROR(CHOOSE(MATCH('📊 Training Matrix'!$M$12,{"VALID","EXPIRING","EXPIRED","NOT TRAINED","N/A"},0),"✓","!","✗","○","—"),"—")} -> ○ | G10: {=IFERROR(CHOOSE(MATCH('📊 Training Matrix'!$O$12,{"VALID","EXPIRING","EXPIRED","NOT TRAINED","N/A"},0),"✓","!","✗","○","—"),"—")} -> ○ | H10: {=IFERROR(CHOOSE(MATCH('📊 Training Matrix'!$Q$12,{"VALID","EXPIRING","EXPIRED","NOT TRAINED","N/A"},0),"✓","!","✗","○","—"),"—")} -> ✓ | I10: {=IFERROR(CHOOSE(MATCH('📊 Training Matrix'!$S$12,{"VALID","EXPIRING","EXPIRED","NOT TRAINED","N/A"},0),"✓","!","✗","○","—"),"—")} -> ✗ | J10: {=IFERROR(CHOOSE(MATCH('📊 Training Matrix'!$U$12,{"VALID","EXPIRING","EXPIRED","NOT TRAINED","N/A"},0),"✓","!","✗","○","—"),"—")} -> ○ | K10: {=IFERROR(CHOOSE(MATCH('📊 Training Matrix'!$W$12,{"VALID","EXPIRING","EXPIRED","NOT TRAINED","N/A"},0),"✓","!","✗","○","—"),"—")} -> ○ | L10: {=IFERROR(CHOOSE(MATCH('📊 Training Matrix'!$Y$12,{"VALID","EXPIRING","EXPIRED","NOT TRAINED","N/A"},0),"✓","!","✗","○","—"),"—")} -> ○ | M10: {=IFERROR(CHOOSE(MATCH('📊 Training Matrix'!$AA$12,{"VALID","EXPIRING","EXPIRED","NOT TRAINED","N/A"},0),"✓","!","✗","○","—"),"—")} -> ○ | N10: {=IFERROR(CHOOSE(MATCH('📊 Training Matrix'!$AC$12,{"VALID","EXPIRING","EXPIRED","NOT TRAINED","N/A"},0),"✓","!","✗","○","—"),"—")} -> ○ | O10: {=IFERROR(CHOOSE(MATCH('📊 Training Matrix'!$AE$12,{"VALID","EXPIRING","EXPIRED","NOT TRAINED","N/A"},0),"✓","!","✗","○","—"),"—")} -> ○ | P10: {=IFERROR(CHOOSE(MATCH('📊 Training Matrix'!$AG$12,{"VALID","EXPIRING","EXPIRED","NOT TRAINED","N/A"},0),"✓","!","✗","○","—"),"—")} -> ○ | Q10: {=IFERROR(CHOOSE(MATCH('📊 Training Matrix'!$AI$12,{"VALID","EXPIRING","EXPIRED","NOT TRAINED","N/A"},0),"✓","!","✗","○","—"),"—")} -> ○ | R10: {=IFERROR(CHOOSE(MATCH('📊 Training Matrix'!$AK$12,{"VALID","EXPIRING","EXPIRED","NOT TRAINED","N/A"},0),"✓","!","✗","○","—"),"—")} -> ○ | S10: {=IFERROR(CHOOSE(MATCH('📊 Training Matrix'!$AM$12,{"VALID","EXPIRING","EXPIRED","NOT TRAINED","N/A"},0),"✓","!","✗","○","—"),"—")} -> ○ | T10: {=IFERROR(CHOOSE(MATCH('📊 Training Matrix'!$AO$12,{"VALID","EXPIRING","EXPIRED","NOT TRAINED","N/A"},0),"✓","!","✗","○","—"),"—")} -> ○ | U10: {=IFERROR(CHOOSE(MATCH('📊 Training Matrix'!$AQ$12,{"VALID","EXPIRING","EXPIRED","NOT TRAINED","N/A"},0),"✓","!","✗","○","—"),"—")} -> ○ | V10: {=IFERROR(CHOOSE(MATCH('📊 Training Matrix'!$AS$12,{"VALID","EXPIRING","EXPIRED","NOT TRAINED","N/A"},0),"✓","!","✗","○","—"),"—")} -> ○ | W10: {=IFERROR(CHOOSE(MATCH('📊 Training Matrix'!$AU$12,{"VALID","EXPIRING","EXPIRED","NOT TRAINED","N/A"},0),"✓","!","✗","○","—"),"—")} -> ○ | X10: {=IFERROR(CHOOSE(MATCH('📊 Training Matrix'!$AW$12,{"VALID","EXPIRING","EXPIRED","NOT TRAINED","N/A"},0),"✓","!","✗","○","—"),"—")} -> !
A11: Nadia Phillips | B11: Employee | C11: Gas Operations › Gas Technician | D11: ='📊 Training Matrix'!$I$13 -> 0.55555556 | E11: {=IFERROR(CHOOSE(MATCH('📊 Training Matrix'!$K$13,{"VALID","EXPIRING","EXPIRED","NOT TRAINED","N/A"},0),"✓","!","✗","○","—"),"—")} -> ✓ | F11: {=IFERROR(CHOOSE(MATCH('📊 Training Matrix'!$M$13,{"VALID","EXPIRING","EXPIRED","NOT TRAINED","N/A"},0),"✓","!","✗","○","—"),"—")} -> ✗ | G11: {=IFERROR(CHOOSE(MATCH('📊 Training Matrix'!$O$13,{"VALID","EXPIRING","EXPIRED","NOT TRAINED","N/A"},0),"✓","!","✗","○","—"),"—")} -> ✓ | H11: {=IFERROR(CHOOSE(MATCH('📊 Training Matrix'!$Q$13,{"VALID","EXPIRING","EXPIRED","NOT TRAINED","N/A"},0),"✓","!","✗","○","—"),"—")} -> ✗ | I11: {=IFERROR(CHOOSE(MATCH('📊 Training Matrix'!$S$13,{"VALID","EXPIRING","EXPIRED","NOT TRAINED","N/A"},0),"✓","!","✗","○","—"),"—")} -> ✗ | J11: {=IFERROR(CHOOSE(MATCH('📊 Training Matrix'!$U$13,{"VALID","EXPIRING","EXPIRED","NOT TRAINED","N/A"},0),"✓","!","✗","○","—"),"—")} -> ○ | K11: {=IFERROR(CHOOSE(MATCH('📊 Training Matrix'!$W$13,{"VALID","EXPIRING","EXPIRED","NOT TRAINED","N/A"},0),"✓","!","✗","○","—"),"—")} -> ○ | L11: {=IFERROR(CHOOSE(MATCH('📊 Training Matrix'!$Y$13,{"VALID","EXPIRING","EXPIRED","NOT TRAINED","N/A"},0),"✓","!","✗","○","—"),"—")} -> ○ | M11: {=IFERROR(CHOOSE(MATCH('📊 Training Matrix'!$AA$13,{"VALID","EXPIRING","EXPIRED","NOT TRAINED","N/A"},0),"✓","!","✗","○","—"),"—")} -> ○ | N11: {=IFERROR(CHOOSE(MATCH('📊 Training Matrix'!$AC$13,{"VALID","EXPIRING","EXPIRED","NOT TRAINED","N/A"},0),"✓","!","✗","○","—"),"—")} -> ○ | O11: {=IFERROR(CHOOSE(MATCH('📊 Training Matrix'!$AE$13,{"VALID","EXPIRING","EXPIRED","NOT TRAINED","N/A"},0),"✓","!","✗","○","—"),"—")} -> ○ | P11: {=IFERROR(CHOOSE(MATCH('📊 Training Matrix'!$AG$13,{"VALID","EXPIRING","EXPIRED","NOT TRAINED","N/A"},0),"✓","!","✗","○","—"),"—")} -> ○ | Q11: {=IFERROR(CHOOSE(MATCH('📊 Training Matrix'!$AI$13,{"VALID","EXPIRING","EXPIRED","NOT TRAINED","N/A"},0),"✓","!","✗","○","—"),"—")} -> ✗ | R11: {=IFERROR(CHOOSE(MATCH('📊 Training Matrix'!$AK$13,{"VALID","EXPIRING","EXPIRED","NOT TRAINED","N/A"},0),"✓","!","✗","○","—"),"—")} -> ✓ | S11: {=IFERROR(CHOOSE(MATCH('📊 Training Matrix'!$AM$13,{"VALID","EXPIRING","EXPIRED","NOT TRAINED","N/A"},0),"✓","!","✗","○","—"),"—")} -> ✓ | T11: {=IFERROR(CHOOSE(MATCH('📊 Training Matrix'!$AO$13,{"VALID","EXPIRING","EXPIRED","NOT TRAINED","N/A"},0),"✓","!","✗","○","—"),"—")} -> ○ | U11: {=IFERROR(CHOOSE(MATCH('📊 Training Matrix'!$AQ$13,{"VALID","EXPIRING","EXPIRED","NOT TRAINED","N/A"},0),"✓","!","✗","○","—"),"—")} -> ○ | V11: {=IFERROR(CHOOSE(MATCH('📊 Training Matrix'!$AS$13,{"VALID","EXPIRING","EXPIRED","NOT TRAINED","N/A"},0),"✓","!","✗","○","—"),"—")} -> ○ | W11: {=IFERROR(CHOOSE(MATCH('📊 Training Matrix'!$AU$13,{"VALID","EXPIRING","EXPIRED","NOT TRAINED","N/A"},0),"✓","!","✗","○","—"),"—")} -> ○ | X11: {=IFERROR(CHOOSE(MATCH('📊 Training Matrix'!$AW$13,{"VALID","EXPIRING","EXPIRED","NOT TRAINED","N/A"},0),"✓","!","✗","○","—"),"—")} -> ✓
A12: Daniel Turner | B12: Employee | C12: Gas Operations › Gas Engineer | D12: ='📊 Training Matrix'!$I$14 -> 0.6 | E12: {=IFERROR(CHOOSE(MATCH('📊 Training Matrix'!$K$14,{"VALID","EXPIRING","EXPIRED","NOT TRAINED","N/A"},0),"✓","!","✗","○","—"),"—")} -> ✗ | F12: {=IFERROR(CHOOSE(MATCH('📊 Training Matrix'!$M$14,{"VALID","EXPIRING","EXPIRED","NOT TRAINED","N/A"},0),"✓","!","✗","○","—"),"—")} -> ○ | G12: {=IFERROR(CHOOSE(MATCH('📊 Training Matrix'!$O$14,{"VALID","EXPIRING","EXPIRED","NOT TRAINED","N/A"},0),"✓","!","✗","○","—"),"—")} -> ○ | H12: {=IFERROR(CHOOSE(MATCH('📊 Training Matrix'!$Q$14,{"VALID","EXPIRING","EXPIRED","NOT TRAINED","N/A"},0),"✓","!","✗","○","—"),"—")} -> ✗ | I12: {=IFERROR(CHOOSE(MATCH('📊 Training Matrix'!$S$14,{"VALID","EXPIRING","EXPIRED","NOT TRAINED","N/A"},0),"✓","!","✗","○","—"),"—")} -> ✓ | J12: {=IFERROR(CHOOSE(MATCH('📊 Training Matrix'!$U$14,{"VALID","EXPIRING","EXPIRED","NOT TRAINED","N/A"},0),"✓","!","✗","○","—"),"—")} -> ○ | K12: {=IFERROR(CHOOSE(MATCH('📊 Training Matrix'!$W$14,{"VALID","EXPIRING","EXPIRED","NOT TRAINED","N/A"},0),"✓","!","✗","○","—"),"—")} -> ○ | L12: {=IFERROR(CHOOSE(MATCH('📊 Training Matrix'!$Y$14,{"VALID","EXPIRING","EXPIRED","NOT TRAINED","N/A"},0),"✓","!","✗","○","—"),"—")} -> ○ | M12: {=IFERROR(CHOOSE(MATCH('📊 Training Matrix'!$AA$14,{"VALID","EXPIRING","EXPIRED","NOT TRAINED","N/A"},0),"✓","!","✗","○","—"),"—")} -> ○ | N12: {=IFERROR(CHOOSE(MATCH('📊 Training Matrix'!$AC$14,{"VALID","EXPIRING","EXPIRED","NOT TRAINED","N/A"},0),"✓","!","✗","○","—"),"—")} -> ○ | O12: {=IFERROR(CHOOSE(MATCH('📊 Training Matrix'!$AE$14,{"VALID","EXPIRING","EXPIRED","NOT TRAINED","N/A"},0),"✓","!","✗","○","—"),"—")} -> ○ | P12: {=IFERROR(CHOOSE(MATCH('📊 Training Matrix'!$AG$14,{"VALID","EXPIRING","EXPIRED","NOT TRAINED","N/A"},0),"✓","!","✗","○","—"),"—")} -> ○ | Q12: {=IFERROR(CHOOSE(MATCH('📊 Training Matrix'!$AI$14,{"VALID","EXPIRING","EXPIRED","NOT TRAINED","N/A"},0),"✓","!","✗","○","—"),"—")} -> ○ | R12: {=IFERROR(CHOOSE(MATCH('📊 Training Matrix'!$AK$14,{"VALID","EXPIRING","EXPIRED","NOT TRAINED","N/A"},0),"✓","!","✗","○","—"),"—")} -> ✓ | S12: {=IFERROR(CHOOSE(MATCH('📊 Training Matrix'!$AM$14,{"VALID","EXPIRING","EXPIRED","NOT TRAINED","N/A"},0),"✓","!","✗","○","—"),"—")} -> ✓ | T12: {=IFERROR(CHOOSE(MATCH('📊 Training Matrix'!$AO$14,{"VALID","EXPIRING","EXPIRED","NOT TRAINED","N/A"},0),"✓","!","✗","○","—"),"—")} -> ○ | U12: {=IFERROR(CHOOSE(MATCH('📊 Training Matrix'!$AQ$14,{"VALID","EXPIRING","EXPIRED","NOT TRAINED","N/A"},0),"✓","!","✗","○","—"),"—")} -> ○ | V12: {=IFERROR(CHOOSE(MATCH('📊 Training Matrix'!$AS$14,{"VALID","EXPIRING","EXPIRED","NOT TRAINED","N/A"},0),"✓","!","✗","○","—"),"—")} -> ○ | W12: {=IFERROR(CHOOSE(MATCH('📊 Training Matrix'!$AU$14,{"VALID","EXPIRING","EXPIRED","NOT TRAINED","N/A"},0),"✓","!","✗","○","—"),"—")} -> ○ | X12: {=IFERROR(CHOOSE(MATCH('📊 Training Matrix'!$AW$14,{"VALID","EXPIRING","EXPIRED","NOT TRAINED","N/A"},0),"✓","!","✗","○","—"),"—")} -> ○
A13: Tanya Johnson | B13: Employee | C13: Civil Works › Site Manager | D13: ='📊 Training Matrix'!$I$15 -> 0.5 | E13: {=IFERROR(CHOOSE(MATCH('📊 Training Matrix'!$K$15,{"VALID","EXPIRING","EXPIRED","NOT TRAINED","N/A"},0),"✓","!","✗","○","—"),"—")} -> ✓ | F13: {=IFERROR(CHOOSE(MATCH('📊 Training Matrix'!$M$15,{"VALID","EXPIRING","EXPIRED","NOT TRAINED","N/A"},0),"✓","!","✗","○","—"),"—")} -> ○ | G13: {=IFERROR(CHOOSE(MATCH('📊 Training Matrix'!$O$15,{"VALID","EXPIRING","EXPIRED","NOT TRAINED","N/A"},0),"✓","!","✗","○","—"),"—")} -> ○ | H13: {=IFERROR(CHOOSE(MATCH('📊 Training Matrix'!$Q$15,{"VALID","EXPIRING","EXPIRED","NOT TRAINED","N/A"},0),"✓","!","✗","○","—"),"—")} -> ✓ | I13: {=IFERROR(CHOOSE(MATCH('📊 Training Matrix'!$S$15,{"VALID","EXPIRING","EXPIRED","NOT TRAINED","N/A"},0),"✓","!","✗","○","—"),"—")} -> ○ | J13: {=IFERROR(CHOOSE(MATCH('📊 Training Matrix'!$U$15,{"VALID","EXPIRING","EXPIRED","NOT TRAINED","N/A"},0),"✓","!","✗","○","—"),"—")} -> ○ | K13: {=IFERROR(CHOOSE(MATCH('📊 Training Matrix'!$W$15,{"VALID","EXPIRING","EXPIRED","NOT TRAINED","N/A"},0),"✓","!","✗","○","—"),"—")} -> ○ | L13: {=IFERROR(CHOOSE(MATCH('📊 Training Matrix'!$Y$15,{"VALID","EXPIRING","EXPIRED","NOT TRAINED","N/A"},0),"✓","!","✗","○","—"),"—")} -> ○ | M13: {=IFERROR(CHOOSE(MATCH('📊 Training Matrix'!$AA$15,{"VALID","EXPIRING","EXPIRED","NOT TRAINED","N/A"},0),"✓","!","✗","○","—"),"—")} -> ○ | N13: {=IFERROR(CHOOSE(MATCH('📊 Training Matrix'!$AC$15,{"VALID","EXPIRING","EXPIRED","NOT TRAINED","N/A"},0),"✓","!","✗","○","—"),"—")} -> ○ | O13: {=IFERROR(CHOOSE(MATCH('📊 Training Matrix'!$AE$15,{"VALID","EXPIRING","EXPIRED","NOT TRAINED","N/A"},0),"✓","!","✗","○","—"),"—")} -> ○ | P13: {=IFERROR(CHOOSE(MATCH('📊 Training Matrix'!$AG$15,{"VALID","EXPIRING","EXPIRED","NOT TRAINED","N/A"},0),"✓","!","✗","○","—"),"—")} -> ○ | Q13: {=IFERROR(CHOOSE(MATCH('📊 Training Matrix'!$AI$15,{"VALID","EXPIRING","EXPIRED","NOT TRAINED","N/A"},0),"✓","!","✗","○","—"),"—")} -> ○ | R13: {=IFERROR(CHOOSE(MATCH('📊 Training Matrix'!$AK$15,{"VALID","EXPIRING","EXPIRED","NOT TRAINED","N/A"},0),"✓","!","✗","○","—"),"—")} -> ○ | S13: {=IFERROR(CHOOSE(MATCH('📊 Training Matrix'!$AM$15,{"VALID","EXPIRING","EXPIRED","NOT TRAINED","N/A"},0),"✓","!","✗","○","—"),"—")} -> ○ | T13: {=IFERROR(CHOOSE(MATCH('📊 Training Matrix'!$AO$15,{"VALID","EXPIRING","EXPIRED","NOT TRAINED","N/A"},0),"✓","!","✗","○","—"),"—")} -> ○ | U13: {=IFERROR(CHOOSE(MATCH('📊 Training Matrix'!$AQ$15,{"VALID","EXPIRING","EXPIRED","NOT TRAINED","N/A"},0),"✓","!","✗","○","—"),"—")} -> ○ | V13: {=IFERROR(CHOOSE(MATCH('📊 Training Matrix'!$AS$15,{"VALID","EXPIRING","EXPIRED","NOT TRAINED","N/A"},0),"✓","!","✗","○","—"),"—")} -> ✗ | W13: {=IFERROR(CHOOSE(MATCH('📊 Training Matrix'!$AU$15,{"VALID","EXPIRING","EXPIRED","NOT TRAINED","N/A"},0),"✓","!","✗","○","—"),"—")} -> ○ | X13: {=IFERROR(CHOOSE(MATCH('📊 Training Matrix'!$AW$15,{"VALID","EXPIRING","EXPIRED","NOT TRAINED","N/A"},0),"✓","!","✗","○","—"),"—")} -> !
A14: David Perez | B14: Employee | C14: Field Engineering › Apprentice Engineer | D14: ='📊 Training Matrix'!$I$16 -> 0 | E14: {=IFERROR(CHOOSE(MATCH('📊 Training Matrix'!$K$16,{"VALID","EXPIRING","EXPIRED","NOT TRAINED","N/A"},0),"✓","!","✗","○","—"),"—")} -> ✗ | F14: {=IFERROR(CHOOSE(MATCH('📊 Training Matrix'!$M$16,{"VALID","EXPIRING","EXPIRED","NOT TRAINED","N/A"},0),"✓","!","✗","○","—"),"—")} -> ○ | G14: {=IFERROR(CHOOSE(MATCH('📊 Training Matrix'!$O$16,{"VALID","EXPIRING","EXPIRED","NOT TRAINED","N/A"},0),"✓","!","✗","○","—"),"—")} -> ○ | H14: {=IFERROR(CHOOSE(MATCH('📊 Training Matrix'!$Q$16,{"VALID","EXPIRING","EXPIRED","NOT TRAINED","N/A"},0),"✓","!","✗","○","—"),"—")} -> ! | I14: {=IFERROR(CHOOSE(MATCH('📊 Training Matrix'!$S$16,{"VALID","EXPIRING","EXPIRED","NOT TRAINED","N/A"},0),"✓","!","✗","○","—"),"—")} -> ✗ | J14: {=IFERROR(CHOOSE(MATCH('📊 Training Matrix'!$U$16,{"VALID","EXPIRING","EXPIRED","NOT TRAINED","N/A"},0),"✓","!","✗","○","—"),"—")} -> ○ | K14: {=IFERROR(CHOOSE(MATCH('📊 Training Matrix'!$W$16,{"VALID","EXPIRING","EXPIRED","NOT TRAINED","N/A"},0),"✓","!","✗","○","—"),"—")} -> ○ | L14: {=IFERROR(CHOOSE(MATCH('📊 Training Matrix'!$Y$16,{"VALID","EXPIRING","EXPIRED","NOT TRAINED","N/A"},0),"✓","!","✗","○","—"),"—")} -> ○ | M14: {=IFERROR(CHOOSE(MATCH('📊 Training Matrix'!$AA$16,{"VALID","EXPIRING","EXPIRED","NOT TRAINED","N/A"},0),"✓","!","✗","○","—"),"—")} -> ○ | N14: {=IFERROR(CHOOSE(MATCH('📊 Training Matrix'!$AC$16,{"VALID","EXPIRING","EXPIRED","NOT TRAINED","N/A"},0),"✓","!","✗","○","—"),"—")} -> ○ | O14: {=IFERROR(CHOOSE(MATCH('📊 Training Matrix'!$AE$16,{"VALID","EXPIRING","EXPIRED","NOT TRAINED","N/A"},0),"✓","!","✗","○","—"),"—")} -> ○ | P14: {=IFERROR(CHOOSE(MATCH('📊 Training Matrix'!$AG$16,{"VALID","EXPIRING","EXPIRED","NOT TRAINED","N/A"},0),"✓","!","✗","○","—"),"—")} -> ○ | Q14: {=IFERROR(CHOOSE(MATCH('📊 Training Matrix'!$AI$16,{"VALID","EXPIRING","EXPIRED","NOT TRAINED","N/A"},0),"✓","!","✗","○","—"),"—")} -> ○ | R14: {=IFERROR(CHOOSE(MATCH('📊 Training Matrix'!$AK$16,{"VALID","EXPIRING","EXPIRED","NOT TRAINED","N/A"},0),"✓","!","✗","○","—"),"—")} -> ○ | S14: {=IFERROR(CHOOSE(MATCH('📊 Training Matrix'!$AM$16,{"VALID","EXPIRING","EXPIRED","NOT TRAINED","N/A"},0),"✓","!","✗","○","—"),"—")} -> ○ | T14: {=IFERROR(CHOOSE(MATCH('📊 Training Matrix'!$AO$16,{"VALID","EXPIRING","EXPIRED","NOT TRAINED","N/A"},0),"✓","!","✗","○","—"),"—")} -> ○ | U14: {=IFERROR(CHOOSE(MATCH('📊 Training Matrix'!$AQ$16,{"VALID","EXPIRING","EXPIRED","NOT TRAINED","N/A"},0),"✓","!","✗","○","—"),"—")} -> ○ | V14: {=IFERROR(CHOOSE(MATCH('📊 Training Matrix'!$AS$16,{"VALID","EXPIRING","EXPIRED","NOT TRAINED","N/A"},0),"✓","!","✗","○","—"),"—")} -> ○ | W14: {=IFERROR(CHOOSE(MATCH('📊 Training Matrix'!$AU$16,{"VALID","EXPIRING","EXPIRED","NOT TRAINED","N/A"},0),"✓","!","✗","○","—"),"—")} -> ○ | X14: {=IFERROR(CHOOSE(MATCH('📊 Training Matrix'!$AW$16,{"VALID","EXPIRING","EXPIRED","NOT TRAINED","N/A"},0),"✓","!","✗","○","—"),"—")} -> ✗
A15: Mia Carter | B15: Employee | C15: Project Management › Project Coordinator | D15: ='📊 Training Matrix'!$I$17 -> 1 | E15: {=IFERROR(CHOOSE(MATCH('📊 Training Matrix'!$K$17,{"VALID","EXPIRING","EXPIRED","NOT TRAINED","N/A"},0),"✓","!","✗","○","—"),"—")} -> ✓ | F15: {=IFERROR(CHOOSE(MATCH('📊 Training Matrix'!$M$17,{"VALID","EXPIRING","EXPIRED","NOT TRAINED","N/A"},0),"✓","!","✗","○","—"),"—")} -> ○ | G15: {=IFERROR(CHOOSE(MATCH('📊 Training Matrix'!$O$17,{"VALID","EXPIRING","EXPIRED","NOT TRAINED","N/A"},0),"✓","!","✗","○","—"),"—")} -> ○ | H15: {=IFERROR(CHOOSE(MATCH('📊 Training Matrix'!$Q$17,{"VALID","EXPIRING","EXPIRED","NOT TRAINED","N/A"},0),"✓","!","✗","○","—"),"—")} -> ✓ | I15: {=IFERROR(CHOOSE(MATCH('📊 Training Matrix'!$S$17,{"VALID","EXPIRING","EXPIRED","NOT TRAINED","N/A"},0),"✓","!","✗","○","—"),"—")} -> ✓ | J15: {=IFERROR(CHOOSE(MATCH('📊 Training Matrix'!$U$17,{"VALID","EXPIRING","EXPIRED","NOT TRAINED","N/A"},0),"✓","!","✗","○","—"),"—")} -> ○ | K15: {=IFERROR(CHOOSE(MATCH('📊 Training Matrix'!$W$17,{"VALID","EXPIRING","EXPIRED","NOT TRAINED","N/A"},0),"✓","!","✗","○","—"),"—")} -> ○ | L15: {=IFERROR(CHOOSE(MATCH('📊 Training Matrix'!$Y$17,{"VALID","EXPIRING","EXPIRED","NOT TRAINED","N/A"},0),"✓","!","✗","○","—"),"—")} -> ○ | M15: {=IFERROR(CHOOSE(MATCH('📊 Training Matrix'!$AA$17,{"VALID","EXPIRING","EXPIRED","NOT TRAINED","N/A"},0),"✓","!","✗","○","—"),"—")} -> ○ | N15: {=IFERROR(CHOOSE(MATCH('📊 Training Matrix'!$AC$17,{"VALID","EXPIRING","EXPIRED","NOT TRAINED","N/A"},0),"✓","!","✗","○","—"),"—")} -> ○ | O15: {=IFERROR(CHOOSE(MATCH('📊 Training Matrix'!$AE$17,{"VALID","EXPIRING","EXPIRED","NOT TRAINED","N/A"},0),"✓","!","✗","○","—"),"—")} -> ○ | P15: {=IFERROR(CHOOSE(MATCH('📊 Training Matrix'!$AG$17,{"VALID","EXPIRING","EXPIRED","NOT TRAINED","N/A"},0),"✓","!","✗","○","—"),"—")} -> ○ | Q15: {=IFERROR(CHOOSE(MATCH('📊 Training Matrix'!$AI$17,{"VALID","EXPIRING","EXPIRED","NOT TRAINED","N/A"},0),"✓","!","✗","○","—"),"—")} -> ○ | R15: {=IFERROR(CHOOSE(MATCH('📊 Training Matrix'!$AK$17,{"VALID","EXPIRING","EXPIRED","NOT TRAINED","N/A"},0),"✓","!","✗","○","—"),"—")} -> ○ | S15: {=IFERROR(CHOOSE(MATCH('📊 Training Matrix'!$AM$17,{"VALID","EXPIRING","EXPIRED","NOT TRAINED","N/A"},0),"✓","!","✗","○","—"),"—")} -> ○ | T15: {=IFERROR(CHOOSE(MATCH('📊 Training Matrix'!$AO$17,{"VALID","EXPIRING","EXPIRED","NOT TRAINED","N/A"},0),"✓","!","✗","○","—"),"—")} -> ○ | U15: {=IFERROR(CHOOSE(MATCH('📊 Training Matrix'!$AQ$17,{"VALID","EXPIRING","EXPIRED","NOT TRAINED","N/A"},0),"✓","!","✗","○","—"),"—")} -> ○ | V15: {=IFERROR(CHOOSE(MATCH('📊 Training Matrix'!$AS$17,{"VALID","EXPIRING","EXPIRED","NOT TRAINED","N/A"},0),"✓","!","✗","○","—"),"—")} -> ○ | W15: {=IFERROR(CHOOSE(MATCH('📊 Training Matrix'!$AU$17,{"VALID","EXPIRING","EXPIRED","NOT TRAINED","N/A"},0),"✓","!","✗","○","—"),"—")} -> ○ | X15: {=IFERROR(CHOOSE(MATCH('📊 Training Matrix'!$AW$17,{"VALID","EXPIRING","EXPIRED","NOT TRAINED","N/A"},0),"✓","!","✗","○","—"),"—")} -> ✓
A16: 🔶 Lisa Harris | B16: Subcontractor | C16: Control Room › Control Room Manager | D16: ='📊 Training Matrix'!$I$18 -> 0.5 | E16: {=IFERROR(CHOOSE(MATCH('📊 Training Matrix'!$K$18,{"VALID","EXPIRING","EXPIRED","NOT TRAINED","N/A"},0),"✓","!","✗","○","—"),"—")} -> ✓ | F16: {=IFERROR(CHOOSE(MATCH('📊 Training Matrix'!$M$18,{"VALID","EXPIRING","EXPIRED","NOT TRAINED","N/A"},0),"✓","!","✗","○","—"),"—")} -> ○ | G16: {=IFERROR(CHOOSE(MATCH('📊 Training Matrix'!$O$18,{"VALID","EXPIRING","EXPIRED","NOT TRAINED","N/A"},0),"✓","!","✗","○","—"),"—")} -> ○ | H16: {=IFERROR(CHOOSE(MATCH('📊 Training Matrix'!$Q$18,{"VALID","EXPIRING","EXPIRED","NOT TRAINED","N/A"},0),"✓","!","✗","○","—"),"—")} -> ✗ | I16: {=IFERROR(CHOOSE(MATCH('📊 Training Matrix'!$S$18,{"VALID","EXPIRING","EXPIRED","NOT TRAINED","N/A"},0),"✓","!","✗","○","—"),"—")} -> ✗ | J16: {=IFERROR(CHOOSE(MATCH('📊 Training Matrix'!$U$18,{"VALID","EXPIRING","EXPIRED","NOT TRAINED","N/A"},0),"✓","!","✗","○","—"),"—")} -> ○ | K16: {=IFERROR(CHOOSE(MATCH('📊 Training Matrix'!$W$18,{"VALID","EXPIRING","EXPIRED","NOT TRAINED","N/A"},0),"✓","!","✗","○","—"),"—")} -> ○ | L16: {=IFERROR(CHOOSE(MATCH('📊 Training Matrix'!$Y$18,{"VALID","EXPIRING","EXPIRED","NOT TRAINED","N/A"},0),"✓","!","✗","○","—"),"—")} -> ○ | M16: {=IFERROR(CHOOSE(MATCH('📊 Training Matrix'!$AA$18,{"VALID","EXPIRING","EXPIRED","NOT TRAINED","N/A"},0),"✓","!","✗","○","—"),"—")} -> ○ | N16: {=IFERROR(CHOOSE(MATCH('📊 Training Matrix'!$AC$18,{"VALID","EXPIRING","EXPIRED","NOT TRAINED","N/A"},0),"✓","!","✗","○","—"),"—")} -> ○ | O16: {=IFERROR(CHOOSE(MATCH('📊 Training Matrix'!$AE$18,{"VALID","EXPIRING","EXPIRED","NOT TRAINED","N/A"},0),"✓","!","✗","○","—"),"—")} -> ○ | P16: {=IFERROR(CHOOSE(MATCH('📊 Training Matrix'!$AG$18,{"VALID","EXPIRING","EXPIRED","NOT TRAINED","N/A"},0),"✓","!","✗","○","—"),"—")} -> ○ | Q16: {=IFERROR(CHOOSE(MATCH('📊 Training Matrix'!$AI$18,{"VALID","EXPIRING","EXPIRED","NOT TRAINED","N/A"},0),"✓","!","✗","○","—"),"—")} -> ○ | R16: {=IFERROR(CHOOSE(MATCH('📊 Training Matrix'!$AK$18,{"VALID","EXPIRING","EXPIRED","NOT TRAINED","N/A"},0),"✓","!","✗","○","—"),"—")} -> ○ | S16: {=IFERROR(CHOOSE(MATCH('📊 Training Matrix'!$AM$18,{"VALID","EXPIRING","EXPIRED","NOT TRAINED","N/A"},0),"✓","!","✗","○","—"),"—")} -> ○ | T16: {=IFERROR(CHOOSE(MATCH('📊 Training Matrix'!$AO$18,{"VALID","EXPIRING","EXPIRED","NOT TRAINED","N/A"},0),"✓","!","✗","○","—"),"—")} -> ○ | U16: {=IFERROR(CHOOSE(MATCH('📊 Training Matrix'!$AQ$18,{"VALID","EXPIRING","EXPIRED","NOT TRAINED","N/A"},0),"✓","!","✗","○","—"),"—")} -> ○ | V16: {=IFERROR(CHOOSE(MATCH('📊 Training Matrix'!$AS$18,{"VALID","EXPIRING","EXPIRED","NOT TRAINED","N/A"},0),"✓","!","✗","○","—"),"—")} -> ○ | W16: {=IFERROR(CHOOSE(MATCH('📊 Training Matrix'!$AU$18,{"VALID","EXPIRING","EXPIRED","NOT TRAINED","N/A"},0),"✓","!","✗","○","—"),"—")} -> ○ | X16: {=IFERROR(CHOOSE(MATCH('📊 Training Matrix'!$AW$18,{"VALID","EXPIRING","EXPIRED","NOT TRAINED","N/A"},0),"✓","!","✗","○","—"),"—")} -> ✓
A17: Brian Adams | B17: Employee | C17: Control Room › System Controller | D17: ='📊 Training Matrix'!$I$19 -> 0.75 | E17: {=IFERROR(CHOOSE(MATCH('📊 Training Matrix'!$K$19,{"VALID","EXPIRING","EXPIRED","NOT TRAINED","N/A"},0),"✓","!","✗","○","—"),"—")} -> ✓ | F17: {=IFERROR(CHOOSE(MATCH('📊 Training Matrix'!$M$19,{"VALID","EXPIRING","EXPIRED","NOT TRAINED","N/A"},0),"✓","!","✗","○","—"),"—")} -> ○ | G17: {=IFERROR(CHOOSE(MATCH('📊 Training Matrix'!$O$19,{"VALID","EXPIRING","EXPIRED","NOT TRAINED","N/A"},0),"✓","!","✗","○","—"),"—")} -> ○ | H17: {=IFERROR(CHOOSE(MATCH('📊 Training Matrix'!$Q$19,{"VALID","EXPIRING","EXPIRED","NOT TRAINED","N/A"},0),"✓","!","✗","○","—"),"—")} -> ✗ | I17: {=IFERROR(CHOOSE(MATCH('📊 Training Matrix'!$S$19,{"VALID","EXPIRING","EXPIRED","NOT TRAINED","N/A"},0),"✓","!","✗","○","—"),"—")} -> ✓ | J17: {=IFERROR(CHOOSE(MATCH('📊 Training Matrix'!$U$19,{"VALID","EXPIRING","EXPIRED","NOT TRAINED","N/A"},0),"✓","!","✗","○","—"),"—")} -> ○ | K17: {=IFERROR(CHOOSE(MATCH('📊 Training Matrix'!$W$19,{"VALID","EXPIRING","EXPIRED","NOT TRAINED","N/A"},0),"✓","!","✗","○","—"),"—")} -> ○ | L17: {=IFERROR(CHOOSE(MATCH('📊 Training Matrix'!$Y$19,{"VALID","EXPIRING","EXPIRED","NOT TRAINED","N/A"},0),"✓","!","✗","○","—"),"—")} -> ○ | M17: {=IFERROR(CHOOSE(MATCH('📊 Training Matrix'!$AA$19,{"VALID","EXPIRING","EXPIRED","NOT TRAINED","N/A"},0),"✓","!","✗","○","—"),"—")} -> ○ | N17: {=IFERROR(CHOOSE(MATCH('📊 Training Matrix'!$AC$19,{"VALID","EXPIRING","EXPIRED","NOT TRAINED","N/A"},0),"✓","!","✗","○","—"),"—")} -> ○ | O17: {=IFERROR(CHOOSE(MATCH('📊 Training Matrix'!$AE$19,{"VALID","EXPIRING","EXPIRED","NOT TRAINED","N/A"},0),"✓","!","✗","○","—"),"—")} -> ○ | P17: {=IFERROR(CHOOSE(MATCH('📊 Training Matrix'!$AG$19,{"VALID","EXPIRING","EXPIRED","NOT TRAINED","N/A"},0),"✓","!","✗","○","—"),"—")} -> ○ | Q17: {=IFERROR(CHOOSE(MATCH('📊 Training Matrix'!$AI$19,{"VALID","EXPIRING","EXPIRED","NOT TRAINED","N/A"},0),"✓","!","✗","○","—"),"—")} -> ○ | R17: {=IFERROR(CHOOSE(MATCH('📊 Training Matrix'!$AK$19,{"VALID","EXPIRING","EXPIRED","NOT TRAINED","N/A"},0),"✓","!","✗","○","—"),"—")} -> ○ | S17: {=IFERROR(CHOOSE(MATCH('📊 Training Matrix'!$AM$19,{"VALID","EXPIRING","EXPIRED","NOT TRAINED","N/A"},0),"✓","!","✗","○","—"),"—")} -> ○ | T17: {=IFERROR(CHOOSE(MATCH('📊 Training Matrix'!$AO$19,{"VALID","EXPIRING","EXPIRED","NOT TRAINED","N/A"},0),"✓","!","✗","○","—"),"—")} -> ○ | U17: {=IFERROR(CHOOSE(MATCH('📊 Training Matrix'!$AQ$19,{"VALID","EXPIRING","EXPIRED","NOT TRAINED","N/A"},0),"✓","!","✗","○","—"),"—")} -> ○ | V17: {=IFERROR(CHOOSE(MATCH('📊 Training Matrix'!$AS$19,{"VALID","EXPIRING","EXPIRED","NOT TRAINED","N/A"},0),"✓","!","✗","○","—"),"—")} -> ○ | W17: {=IFERROR(CHOOSE(MATCH('📊 Training Matrix'!$AU$19,{"VALID","EXPIRING","EXPIRED","NOT TRAINED","N/A"},0),"✓","!","✗","○","—"),"—")} -> ○ | X17: {=IFERROR(CHOOSE(MATCH('📊 Training Matrix'!$AW$19,{"VALID","EXPIRING","EXPIRED","NOT TRAINED","N/A"},0),"✓","!","✗","○","—"),"—")} -> ✓
A18: Mark Brown | B18: Employee | C18: IT & Systems › GIS Analyst | D18: ='📊 Training Matrix'!$I$20 -> 0.75 | E18: {=IFERROR(CHOOSE(MATCH('📊 Training Matrix'!$K$20,{"VALID","EXPIRING","EXPIRED","NOT TRAINED","N/A"},0),"✓","!","✗","○","—"),"—")} -> ✓ | F18: {=IFERROR(CHOOSE(MATCH('📊 Training Matrix'!$M$20,{"VALID","EXPIRING","EXPIRED","NOT TRAINED","N/A"},0),"✓","!","✗","○","—"),"—")} -> ○ | G18: {=IFERROR(CHOOSE(MATCH('📊 Training Matrix'!$O$20,{"VALID","EXPIRING","EXPIRED","NOT TRAINED","N/A"},0),"✓","!","✗","○","—"),"—")} -> ○ | H18: {=IFERROR(CHOOSE(MATCH('📊 Training Matrix'!$Q$20,{"VALID","EXPIRING","EXPIRED","NOT TRAINED","N/A"},0),"✓","!","✗","○","—"),"—")} -> ✗ | I18: {=IFERROR(CHOOSE(MATCH('📊 Training Matrix'!$S$20,{"VALID","EXPIRING","EXPIRED","NOT TRAINED","N/A"},0),"✓","!","✗","○","—"),"—")} -> ✓ | J18: {=IFERROR(CHOOSE(MATCH('📊 Training Matrix'!$U$20,{"VALID","EXPIRING","EXPIRED","NOT TRAINED","N/A"},0),"✓","!","✗","○","—"),"—")} -> ○ | K18: {=IFERROR(CHOOSE(MATCH('📊 Training Matrix'!$W$20,{"VALID","EXPIRING","EXPIRED","NOT TRAINED","N/A"},0),"✓","!","✗","○","—"),"—")} -> ○ | L18: {=IFERROR(CHOOSE(MATCH('📊 Training Matrix'!$Y$20,{"VALID","EXPIRING","EXPIRED","NOT TRAINED","N/A"},0),"✓","!","✗","○","—"),"—")} -> ○ | M18: {=IFERROR(CHOOSE(MATCH('📊 Training Matrix'!$AA$20,{"VALID","EXPIRING","EXPIRED","NOT TRAINED","N/A"},0),"✓","!","✗","○","—"),"—")} -> ○ | N18: {=IFERROR(CHOOSE(MATCH('📊 Training Matrix'!$AC$20,{"VALID","EXPIRING","EXPIRED","NOT TRAINED","N/A"},0),"✓","!","✗","○","—"),"—")} -> ○ | O18: {=IFERROR(CHOOSE(MATCH('📊 Training Matrix'!$AE$20,{"VALID","EXPIRING","EXPIRED","NOT TRAINED","N/A"},0),"✓","!","✗","○","—"),"—")} -> ○ | P18: {=IFERROR(CHOOSE(MATCH('📊 Training Matrix'!$AG$20,{"VALID","EXPIRING","EXPIRED","NOT TRAINED","N/A"},0),"✓","!","✗","○","—"),"—")} -> ○ | Q18: {=IFERROR(CHOOSE(MATCH('📊 Training Matrix'!$AI$20,{"VALID","EXPIRING","EXPIRED","NOT TRAINED","N/A"},0),"✓","!","✗","○","—"),"—")} -> ○ | R18: {=IFERROR(CHOOSE(MATCH('📊 Training Matrix'!$AK$20,{"VALID","EXPIRING","EXPIRED","NOT TRAINED","N/A"},0),"✓","!","✗","○","—"),"—")} -> ○ | S18: {=IFERROR(CHOOSE(MATCH('📊 Training Matrix'!$AM$20,{"VALID","EXPIRING","EXPIRED","NOT TRAINED","N/A"},0),"✓","!","✗","○","—"),"—")} -> ○ | T18: {=IFERROR(CHOOSE(MATCH('📊 Training Matrix'!$AO$20,{"VALID","EXPIRING","EXPIRED","NOT TRAINED","N/A"},0),"✓","!","✗","○","—"),"—")} -> ○ | U18: {=IFERROR(CHOOSE(MATCH('📊 Training Matrix'!$AQ$20,{"VALID","EXPIRING","EXPIRED","NOT TRAINED","N/A"},0),"✓","!","✗","○","—"),"—")} -> ○ | V18: {=IFERROR(CHOOSE(MATCH('📊 Training Matrix'!$AS$20,{"VALID","EXPIRING","EXPIRED","NOT TRAINED","N/A"},0),"✓","!","✗","○","—"),"—")} -> ○ | W18: {=IFERROR(CHOOSE(MATCH('📊 Training Matrix'!$AU$20,{"VALID","EXPIRING","EXPIRED","NOT TRAINED","N/A"},0),"✓","!","✗","○","—"),"—")} -> ○ | X18: {=IFERROR(CHOOSE(MATCH('📊 Training Matrix'!$AW$20,{"VALID","EXPIRING","EXPIRED","NOT TRAINED","N/A"},0),"✓","!","✗","○","—"),"—")} -> ✓
A19: Tom Carter | B19: Employee | C19: Civil Works › Groundworker | D19: ='📊 Training Matrix'!$I$21 -> 0.28571429 | E19: {=IFERROR(CHOOSE(MATCH('📊 Training Matrix'!$K$21,{"VALID","EXPIRING","EXPIRED","NOT TRAINED","N/A"},0),"✓","!","✗","○","—"),"—")} -> ✓ | F19: {=IFERROR(CHOOSE(MATCH('📊 Training Matrix'!$M$21,{"VALID","EXPIRING","EXPIRED","NOT TRAINED","N/A"},0),"✓","!","✗","○","—"),"—")} -> ✗ | G19: {=IFERROR(CHOOSE(MATCH('📊 Training Matrix'!$O$21,{"VALID","EXPIRING","EXPIRED","NOT TRAINED","N/A"},0),"✓","!","✗","○","—"),"—")} -> ○ | H19: {=IFERROR(CHOOSE(MATCH('📊 Training Matrix'!$Q$21,{"VALID","EXPIRING","EXPIRED","NOT TRAINED","N/A"},0),"✓","!","✗","○","—"),"—")} -> ✗ | I19: {=IFERROR(CHOOSE(MATCH('📊 Training Matrix'!$S$21,{"VALID","EXPIRING","EXPIRED","NOT TRAINED","N/A"},0),"✓","!","✗","○","—"),"—")} -> ✗ | J19: {=IFERROR(CHOOSE(MATCH('📊 Training Matrix'!$U$21,{"VALID","EXPIRING","EXPIRED","NOT TRAINED","N/A"},0),"✓","!","✗","○","—"),"—")} -> ○ | K19: {=IFERROR(CHOOSE(MATCH('📊 Training Matrix'!$W$21,{"VALID","EXPIRING","EXPIRED","NOT TRAINED","N/A"},0),"✓","!","✗","○","—"),"—")} -> ○ | L19: {=IFERROR(CHOOSE(MATCH('📊 Training Matrix'!$Y$21,{"VALID","EXPIRING","EXPIRED","NOT TRAINED","N/A"},0),"✓","!","✗","○","—"),"—")} -> ○ | M19: {=IFERROR(CHOOSE(MATCH('📊 Training Matrix'!$AA$21,{"VALID","EXPIRING","EXPIRED","NOT TRAINED","N/A"},0),"✓","!","✗","○","—"),"—")} -> ○ | N19: {=IFERROR(CHOOSE(MATCH('📊 Training Matrix'!$AC$21,{"VALID","EXPIRING","EXPIRED","NOT TRAINED","N/A"},0),"✓","!","✗","○","—"),"—")} -> ○ | O19: {=IFERROR(CHOOSE(MATCH('📊 Training Matrix'!$AE$21,{"VALID","EXPIRING","EXPIRED","NOT TRAINED","N/A"},0),"✓","!","✗","○","—"),"—")} -> ○ | P19: {=IFERROR(CHOOSE(MATCH('📊 Training Matrix'!$AG$21,{"VALID","EXPIRING","EXPIRED","NOT TRAINED","N/A"},0),"✓","!","✗","○","—"),"—")} -> ✗ | Q19: {=IFERROR(CHOOSE(MATCH('📊 Training Matrix'!$AI$21,{"VALID","EXPIRING","EXPIRED","NOT TRAINED","N/A"},0),"✓","!","✗","○","—"),"—")} -> ✗ | R19: {=IFERROR(CHOOSE(MATCH('📊 Training Matrix'!$AK$21,{"VALID","EXPIRING","EXPIRED","NOT TRAINED","N/A"},0),"✓","!","✗","○","—"),"—")} -> ○ | S19: {=IFERROR(CHOOSE(MATCH('📊 Training Matrix'!$AM$21,{"VALID","EXPIRING","EXPIRED","NOT TRAINED","N/A"},0),"✓","!","✗","○","—"),"—")} -> ○ | T19: {=IFERROR(CHOOSE(MATCH('📊 Training Matrix'!$AO$21,{"VALID","EXPIRING","EXPIRED","NOT TRAINED","N/A"},0),"✓","!","✗","○","—"),"—")} -> ○ | U19: {=IFERROR(CHOOSE(MATCH('📊 Training Matrix'!$AQ$21,{"VALID","EXPIRING","EXPIRED","NOT TRAINED","N/A"},0),"✓","!","✗","○","—"),"—")} -> ○ | V19: {=IFERROR(CHOOSE(MATCH('📊 Training Matrix'!$AS$21,{"VALID","EXPIRING","EXPIRED","NOT TRAINED","N/A"},0),"✓","!","✗","○","—"),"—")} -> ○ | W19: {=IFERROR(CHOOSE(MATCH('📊 Training Matrix'!$AU$21,{"VALID","EXPIRING","EXPIRED","NOT TRAINED","N/A"},0),"✓","!","✗","○","—"),"—")} -> ○ | X19: {=IFERROR(CHOOSE(MATCH('📊 Training Matrix'!$AW$21,{"VALID","EXPIRING","EXPIRED","NOT TRAINED","N/A"},0),"✓","!","✗","○","—"),"—")} -> ✓
A20: Nina Baker | B20: Employee | C20: Civil Works › Plant Operator | D20: ='📊 Training Matrix'!$I$22 -> 0.33333333 | E20: {=IFERROR(CHOOSE(MATCH('📊 Training Matrix'!$K$22,{"VALID","EXPIRING","EXPIRED","NOT TRAINED","N/A"},0),"✓","!","✗","○","—"),"—")} -> ✓ | F20: {=IFERROR(CHOOSE(MATCH('📊 Training Matrix'!$M$22,{"VALID","EXPIRING","EXPIRED","NOT TRAINED","N/A"},0),"✓","!","✗","○","—"),"—")} -> ✗ | G20: {=IFERROR(CHOOSE(MATCH('📊 Training Matrix'!$O$22,{"VALID","EXPIRING","EXPIRED","NOT TRAINED","N/A"},0),"✓","!","✗","○","—"),"—")} -> ○ | H20: {=IFERROR(CHOOSE(MATCH('📊 Training Matrix'!$Q$22,{"VALID","EXPIRING","EXPIRED","NOT TRAINED","N/A"},0),"✓","!","✗","○","—"),"—")} -> ✓ | I20: {=IFERROR(CHOOSE(MATCH('📊 Training Matrix'!$S$22,{"VALID","EXPIRING","EXPIRED","NOT TRAINED","N/A"},0),"✓","!","✗","○","—"),"—")} -> ✗ | J20: {=IFERROR(CHOOSE(MATCH('📊 Training Matrix'!$U$22,{"VALID","EXPIRING","EXPIRED","NOT TRAINED","N/A"},0),"✓","!","✗","○","—"),"—")} -> ○ | K20: {=IFERROR(CHOOSE(MATCH('📊 Training Matrix'!$W$22,{"VALID","EXPIRING","EXPIRED","NOT TRAINED","N/A"},0),"✓","!","✗","○","—"),"—")} -> ○ | L20: {=IFERROR(CHOOSE(MATCH('📊 Training Matrix'!$Y$22,{"VALID","EXPIRING","EXPIRED","NOT TRAINED","N/A"},0),"✓","!","✗","○","—"),"—")} -> ○ | M20: {=IFERROR(CHOOSE(MATCH('📊 Training Matrix'!$AA$22,{"VALID","EXPIRING","EXPIRED","NOT TRAINED","N/A"},0),"✓","!","✗","○","—"),"—")} -> ○ | N20: {=IFERROR(CHOOSE(MATCH('📊 Training Matrix'!$AC$22,{"VALID","EXPIRING","EXPIRED","NOT TRAINED","N/A"},0),"✓","!","✗","○","—"),"—")} -> ○ | O20: {=IFERROR(CHOOSE(MATCH('📊 Training Matrix'!$AE$22,{"VALID","EXPIRING","EXPIRED","NOT TRAINED","N/A"},0),"✓","!","✗","○","—"),"—")} -> ○ | P20: {=IFERROR(CHOOSE(MATCH('📊 Training Matrix'!$AG$22,{"VALID","EXPIRING","EXPIRED","NOT TRAINED","N/A"},0),"✓","!","✗","○","—"),"—")} -> ○ | Q20: {=IFERROR(CHOOSE(MATCH('📊 Training Matrix'!$AI$22,{"VALID","EXPIRING","EXPIRED","NOT TRAINED","N/A"},0),"✓","!","✗","○","—"),"—")} -> ○ | R20: {=IFERROR(CHOOSE(MATCH('📊 Training Matrix'!$AK$22,{"VALID","EXPIRING","EXPIRED","NOT TRAINED","N/A"},0),"✓","!","✗","○","—"),"—")} -> ○ | S20: {=IFERROR(CHOOSE(MATCH('📊 Training Matrix'!$AM$22,{"VALID","EXPIRING","EXPIRED","NOT TRAINED","N/A"},0),"✓","!","✗","○","—"),"—")} -> ○ | T20: {=IFERROR(CHOOSE(MATCH('📊 Training Matrix'!$AO$22,{"VALID","EXPIRING","EXPIRED","NOT TRAINED","N/A"},0),"✓","!","✗","○","—"),"—")} -> ○ | U20: {=IFERROR(CHOOSE(MATCH('📊 Training Matrix'!$AQ$22,{"VALID","EXPIRING","EXPIRED","NOT TRAINED","N/A"},0),"✓","!","✗","○","—"),"—")} -> ✗ | V20: {=IFERROR(CHOOSE(MATCH('📊 Training Matrix'!$AS$22,{"VALID","EXPIRING","EXPIRED","NOT TRAINED","N/A"},0),"✓","!","✗","○","—"),"—")} -> ○ | W20: {=IFERROR(CHOOSE(MATCH('📊 Training Matrix'!$AU$22,{"VALID","EXPIRING","EXPIRED","NOT TRAINED","N/A"},0),"✓","!","✗","○","—"),"—")} -> ○ | X20: {=IFERROR(CHOOSE(MATCH('📊 Training Matrix'!$AW$22,{"VALID","EXPIRING","EXPIRED","NOT TRAINED","N/A"},0),"✓","!","✗","○","—"),"—")} -> ✗
A21: Zara Jackson | B21: Employee | C21: HSEQ › Environmental Coordinator | D21: ='📊 Training Matrix'!$I$23 -> 0.75 | E21: {=IFERROR(CHOOSE(MATCH('📊 Training Matrix'!$K$23,{"VALID","EXPIRING","EXPIRED","NOT TRAINED","N/A"},0),"✓","!","✗","○","—"),"—")} -> ✓ | F21: {=IFERROR(CHOOSE(MATCH('📊 Training Matrix'!$M$23,{"VALID","EXPIRING","EXPIRED","NOT TRAINED","N/A"},0),"✓","!","✗","○","—"),"—")} -> ○ | G21: {=IFERROR(CHOOSE(MATCH('📊 Training Matrix'!$O$23,{"VALID","EXPIRING","EXPIRED","NOT TRAINED","N/A"},0),"✓","!","✗","○","—"),"—")} -> ○ | H21: {=IFERROR(CHOOSE(MATCH('📊 Training Matrix'!$Q$23,{"VALID","EXPIRING","EXPIRED","NOT TRAINED","N/A"},0),"✓","!","✗","○","—"),"—")} -> ✓ | I21: {=IFERROR(CHOOSE(MATCH('📊 Training Matrix'!$S$23,{"VALID","EXPIRING","EXPIRED","NOT TRAINED","N/A"},0),"✓","!","✗","○","—"),"—")} -> ✗ | J21: {=IFERROR(CHOOSE(MATCH('📊 Training Matrix'!$U$23,{"VALID","EXPIRING","EXPIRED","NOT TRAINED","N/A"},0),"✓","!","✗","○","—"),"—")} -> ○ | K21: {=IFERROR(CHOOSE(MATCH('📊 Training Matrix'!$W$23,{"VALID","EXPIRING","EXPIRED","NOT TRAINED","N/A"},0),"✓","!","✗","○","—"),"—")} -> ○ | L21: {=IFERROR(CHOOSE(MATCH('📊 Training Matrix'!$Y$23,{"VALID","EXPIRING","EXPIRED","NOT TRAINED","N/A"},0),"✓","!","✗","○","—"),"—")} -> ○ | M21: {=IFERROR(CHOOSE(MATCH('📊 Training Matrix'!$AA$23,{"VALID","EXPIRING","EXPIRED","NOT TRAINED","N/A"},0),"✓","!","✗","○","—"),"—")} -> ○ | N21: {=IFERROR(CHOOSE(MATCH('📊 Training Matrix'!$AC$23,{"VALID","EXPIRING","EXPIRED","NOT TRAINED","N/A"},0),"✓","!","✗","○","—"),"—")} -> ○ | O21: {=IFERROR(CHOOSE(MATCH('📊 Training Matrix'!$AE$23,{"VALID","EXPIRING","EXPIRED","NOT TRAINED","N/A"},0),"✓","!","✗","○","—"),"—")} -> ○ | P21: {=IFERROR(CHOOSE(MATCH('📊 Training Matrix'!$AG$23,{"VALID","EXPIRING","EXPIRED","NOT TRAINED","N/A"},0),"✓","!","✗","○","—"),"—")} -> ○ | Q21: {=IFERROR(CHOOSE(MATCH('📊 Training Matrix'!$AI$23,{"VALID","EXPIRING","EXPIRED","NOT TRAINED","N/A"},0),"✓","!","✗","○","—"),"—")} -> ○ | R21: {=IFERROR(CHOOSE(MATCH('📊 Training Matrix'!$AK$23,{"VALID","EXPIRING","EXPIRED","NOT TRAINED","N/A"},0),"✓","!","✗","○","—"),"—")} -> ○ | S21: {=IFERROR(CHOOSE(MATCH('📊 Training Matrix'!$AM$23,{"VALID","EXPIRING","EXPIRED","NOT TRAINED","N/A"},0),"✓","!","✗","○","—"),"—")} -> ○ | T21: {=IFERROR(CHOOSE(MATCH('📊 Training Matrix'!$AO$23,{"VALID","EXPIRING","EXPIRED","NOT TRAINED","N/A"},0),"✓","!","✗","○","—"),"—")} -> ○ | U21: {=IFERROR(CHOOSE(MATCH('📊 Training Matrix'!$AQ$23,{"VALID","EXPIRING","EXPIRED","NOT TRAINED","N/A"},0),"✓","!","✗","○","—"),"—")} -> ○ | V21: {=IFERROR(CHOOSE(MATCH('📊 Training Matrix'!$AS$23,{"VALID","EXPIRING","EXPIRED","NOT TRAINED","N/A"},0),"✓","!","✗","○","—"),"—")} -> ○ | W21: {=IFERROR(CHOOSE(MATCH('📊 Training Matrix'!$AU$23,{"VALID","EXPIRING","EXPIRED","NOT TRAINED","N/A"},0),"✓","!","✗","○","—"),"—")} -> ○ | X21: {=IFERROR(CHOOSE(MATCH('📊 Training Matrix'!$AW$23,{"VALID","EXPIRING","EXPIRED","NOT TRAINED","N/A"},0),"✓","!","✗","○","—"),"—")} -> ✓
A22: 🔶 Gary Garcia | B22: Subcontractor | C22: HSEQ › Environmental Coordinator | D22: ='📊 Training Matrix'!$I$24 -> 0.5 | E22: {=IFERROR(CHOOSE(MATCH('📊 Training Matrix'!$K$24,{"VALID","EXPIRING","EXPIRED","NOT TRAINED","N/A"},0),"✓","!","✗","○","—"),"—")} -> ✓ | F22: {=IFERROR(CHOOSE(MATCH('📊 Training Matrix'!$M$24,{"VALID","EXPIRING","EXPIRED","NOT TRAINED","N/A"},0),"✓","!","✗","○","—"),"—")} -> ○ | G22: {=IFERROR(CHOOSE(MATCH('📊 Training Matrix'!$O$24,{"VALID","EXPIRING","EXPIRED","NOT TRAINED","N/A"},0),"✓","!","✗","○","—"),"—")} -> ○ | H22: {=IFERROR(CHOOSE(MATCH('📊 Training Matrix'!$Q$24,{"VALID","EXPIRING","EXPIRED","NOT TRAINED","N/A"},0),"✓","!","✗","○","—"),"—")} -> ✗ | I22: {=IFERROR(CHOOSE(MATCH('📊 Training Matrix'!$S$24,{"VALID","EXPIRING","EXPIRED","NOT TRAINED","N/A"},0),"✓","!","✗","○","—"),"—")} -> ✓ | J22: {=IFERROR(CHOOSE(MATCH('📊 Training Matrix'!$U$24,{"VALID","EXPIRING","EXPIRED","NOT TRAINED","N/A"},0),"✓","!","✗","○","—"),"—")} -> ○ | K22: {=IFERROR(CHOOSE(MATCH('📊 Training Matrix'!$W$24,{"VALID","EXPIRING","EXPIRED","NOT TRAINED","N/A"},0),"✓","!","✗","○","—"),"—")} -> ○ | L22: {=IFERROR(CHOOSE(MATCH('📊 Training Matrix'!$Y$24,{"VALID","EXPIRING","EXPIRED","NOT TRAINED","N/A"},0),"✓","!","✗","○","—"),"—")} -> ○ | M22: {=IFERROR(CHOOSE(MATCH('📊 Training Matrix'!$AA$24,{"VALID","EXPIRING","EXPIRED","NOT TRAINED","N/A"},0),"✓","!","✗","○","—"),"—")} -> ○ | N22: {=IFERROR(CHOOSE(MATCH('📊 Training Matrix'!$AC$24,{"VALID","EXPIRING","EXPIRED","NOT TRAINED","N/A"},0),"✓","!","✗","○","—"),"—")} -> ○ | O22: {=IFERROR(CHOOSE(MATCH('📊 Training Matrix'!$AE$24,{"VALID","EXPIRING","EXPIRED","NOT TRAINED","N/A"},0),"✓","!","✗","○","—"),"—")} -> ○ | P22: {=IFERROR(CHOOSE(MATCH('📊 Training Matrix'!$AG$24,{"VALID","EXPIRING","EXPIRED","NOT TRAINED","N/A"},0),"✓","!","✗","○","—"),"—")} -> ○ | Q22: {=IFERROR(CHOOSE(MATCH('📊 Training Matrix'!$AI$24,{"VALID","EXPIRING","EXPIRED","NOT TRAINED","N/A"},0),"✓","!","✗","○","—"),"—")} -> ○ | R22: {=IFERROR(CHOOSE(MATCH('📊 Training Matrix'!$AK$24,{"VALID","EXPIRING","EXPIRED","NOT TRAINED","N/A"},0),"✓","!","✗","○","—"),"—")} -> ○ | S22: {=IFERROR(CHOOSE(MATCH('📊 Training Matrix'!$AM$24,{"VALID","EXPIRING","EXPIRED","NOT TRAINED","N/A"},0),"✓","!","✗","○","—"),"—")} -> ○ | T22: {=IFERROR(CHOOSE(MATCH('📊 Training Matrix'!$AO$24,{"VALID","EXPIRING","EXPIRED","NOT TRAINED","N/A"},0),"✓","!","✗","○","—"),"—")} -> ○ | U22: {=IFERROR(CHOOSE(MATCH('📊 Training Matrix'!$AQ$24,{"VALID","EXPIRING","EXPIRED","NOT TRAINED","N/A"},0),"✓","!","✗","○","—"),"—")} -> ○ | V22: {=IFERROR(CHOOSE(MATCH('📊 Training Matrix'!$AS$24,{"VALID","EXPIRING","EXPIRED","NOT TRAINED","N/A"},0),"✓","!","✗","○","—"),"—")} -> ○ | W22: {=IFERROR(CHOOSE(MATCH('📊 Training Matrix'!$AU$24,{"VALID","EXPIRING","EXPIRED","NOT TRAINED","N/A"},0),"✓","!","✗","○","—"),"—")} -> ○ | X22: {=IFERROR(CHOOSE(MATCH('📊 Training Matrix'!$AW$24,{"VALID","EXPIRING","EXPIRED","NOT TRAINED","N/A"},0),"✓","!","✗","○","—"),"—")} -> ✗
A23: Diane Evans | B23: Employee | C23: Control Room › Control Room Manager | D23: ='📊 Training Matrix'!$I$25 -> 0.5 | E23: {=IFERROR(CHOOSE(MATCH('📊 Training Matrix'!$K$25,{"VALID","EXPIRING","EXPIRED","NOT TRAINED","N/A"},0),"✓","!","✗","○","—"),"—")} -> ✓ | F23: {=IFERROR(CHOOSE(MATCH('📊 Training Matrix'!$M$25,{"VALID","EXPIRING","EXPIRED","NOT TRAINED","N/A"},0),"✓","!","✗","○","—"),"—")} -> ○ | G23: {=IFERROR(CHOOSE(MATCH('📊 Training Matrix'!$O$25,{"VALID","EXPIRING","EXPIRED","NOT TRAINED","N/A"},0),"✓","!","✗","○","—"),"—")} -> ○ | H23: {=IFERROR(CHOOSE(MATCH('📊 Training Matrix'!$Q$25,{"VALID","EXPIRING","EXPIRED","NOT TRAINED","N/A"},0),"✓","!","✗","○","—"),"—")} -> ✗ | I23: {=IFERROR(CHOOSE(MATCH('📊 Training Matrix'!$S$25,{"VALID","EXPIRING","EXPIRED","NOT TRAINED","N/A"},0),"✓","!","✗","○","—"),"—")} -> ✗ | J23: {=IFERROR(CHOOSE(MATCH('📊 Training Matrix'!$U$25,{"VALID","EXPIRING","EXPIRED","NOT TRAINED","N/A"},0),"✓","!","✗","○","—"),"—")} -> ○ | K23: {=IFERROR(CHOOSE(MATCH('📊 Training Matrix'!$W$25,{"VALID","EXPIRING","EXPIRED","NOT TRAINED","N/A"},0),"✓","!","✗","○","—"),"—")} -> ○ | L23: {=IFERROR(CHOOSE(MATCH('📊 Training Matrix'!$Y$25,{"VALID","EXPIRING","EXPIRED","NOT TRAINED","N/A"},0),"✓","!","✗","○","—"),"—")} -> ○ | M23: {=IFERROR(CHOOSE(MATCH('📊 Training Matrix'!$AA$25,{"VALID","EXPIRING","EXPIRED","NOT TRAINED","N/A"},0),"✓","!","✗","○","—"),"—")} -> ○ | N23: {=IFERROR(CHOOSE(MATCH('📊 Training Matrix'!$AC$25,{"VALID","EXPIRING","EXPIRED","NOT TRAINED","N/A"},0),"✓","!","✗","○","—"),"—")} -> ○ | O23: {=IFERROR(CHOOSE(MATCH('📊 Training Matrix'!$AE$25,{"VALID","EXPIRING","EXPIRED","NOT TRAINED","N/A"},0),"✓","!","✗","○","—"),"—")} -> ○ | P23: {=IFERROR(CHOOSE(MATCH('📊 Training Matrix'!$AG$25,{"VALID","EXPIRING","EXPIRED","NOT TRAINED","N/A"},0),"✓","!","✗","○","—"),"—")} -> ○ | Q23: {=IFERROR(CHOOSE(MATCH('📊 Training Matrix'!$AI$25,{"VALID","EXPIRING","EXPIRED","NOT TRAINED","N/A"},0),"✓","!","✗","○","—"),"—")} -> ○ | R23: {=IFERROR(CHOOSE(MATCH('📊 Training Matrix'!$AK$25,{"VALID","EXPIRING","EXPIRED","NOT TRAINED","N/A"},0),"✓","!","✗","○","—"),"—")} -> ○ | S23: {=IFERROR(CHOOSE(MATCH('📊 Training Matrix'!$AM$25,{"VALID","EXPIRING","EXPIRED","NOT TRAINED","N/A"},0),"✓","!","✗","○","—"),"—")} -> ○ | T23: {=IFERROR(CHOOSE(MATCH('📊 Training Matrix'!$AO$25,{"VALID","EXPIRING","EXPIRED","NOT TRAINED","N/A"},0),"✓","!","✗","○","—"),"—")} -> ○ | U23: {=IFERROR(CHOOSE(MATCH('📊 Training Matrix'!$AQ$25,{"VALID","EXPIRING","EXPIRED","NOT TRAINED","N/A"},0),"✓","!","✗","○","—"),"—")} -> ○ | V23: {=IFERROR(CHOOSE(MATCH('📊 Training Matrix'!$AS$25,{"VALID","EXPIRING","EXPIRED","NOT TRAINED","N/A"},0),"✓","!","✗","○","—"),"—")} -> ○ | W23: {=IFERROR(CHOOSE(MATCH('📊 Training Matrix'!$AU$25,{"VALID","EXPIRING","EXPIRED","NOT TRAINED","N/A"},0),"✓","!","✗","○","—"),"—")} -> ○ | X23: {=IFERROR(CHOOSE(MATCH('📊 Training Matrix'!$AW$25,{"VALID","EXPIRING","EXPIRED","NOT TRAINED","N/A"},0),"✓","!","✗","○","—"),"—")} -> ✓
A24: Tom Smith | B24: Employee | C24: Civil Works › Groundworker | D24: ='📊 Training Matrix'!$I$26 -> 0.42857143 | E24: {=IFERROR(CHOOSE(MATCH('📊 Training Matrix'!$K$26,{"VALID","EXPIRING","EXPIRED","NOT TRAINED","N/A"},0),"✓","!","✗","○","—"),"—")} -> ✓ | F24: {=IFERROR(CHOOSE(MATCH('📊 Training Matrix'!$M$26,{"VALID","EXPIRING","EXPIRED","NOT TRAINED","N/A"},0),"✓","!","✗","○","—"),"—")} -> ✗ | G24: {=IFERROR(CHOOSE(MATCH('📊 Training Matrix'!$O$26,{"VALID","EXPIRING","EXPIRED","NOT TRAINED","N/A"},0),"✓","!","✗","○","—"),"—")} -> ○ | H24: {=IFERROR(CHOOSE(MATCH('📊 Training Matrix'!$Q$26,{"VALID","EXPIRING","EXPIRED","NOT TRAINED","N/A"},0),"✓","!","✗","○","—"),"—")} -> ✗ | I24: {=IFERROR(CHOOSE(MATCH('📊 Training Matrix'!$S$26,{"VALID","EXPIRING","EXPIRED","NOT TRAINED","N/A"},0),"✓","!","✗","○","—"),"—")} -> ✓ | J24: {=IFERROR(CHOOSE(MATCH('📊 Training Matrix'!$U$26,{"VALID","EXPIRING","EXPIRED","NOT TRAINED","N/A"},0),"✓","!","✗","○","—"),"—")} -> ○ | K24: {=IFERROR(CHOOSE(MATCH('📊 Training Matrix'!$W$26,{"VALID","EXPIRING","EXPIRED","NOT TRAINED","N/A"},0),"✓","!","✗","○","—"),"—")} -> ○ | L24: {=IFERROR(CHOOSE(MATCH('📊 Training Matrix'!$Y$26,{"VALID","EXPIRING","EXPIRED","NOT TRAINED","N/A"},0),"✓","!","✗","○","—"),"—")} -> ○ | M24: {=IFERROR(CHOOSE(MATCH('📊 Training Matrix'!$AA$26,{"VALID","EXPIRING","EXPIRED","NOT TRAINED","N/A"},0),"✓","!","✗","○","—"),"—")} -> ○ | N24: {=IFERROR(CHOOSE(MATCH('📊 Training Matrix'!$AC$26,{"VALID","EXPIRING","EXPIRED","NOT TRAINED","N/A"},0),"✓","!","✗","○","—"),"—")} -> ○ | O24: {=IFERROR(CHOOSE(MATCH('📊 Training Matrix'!$AE$26,{"VALID","EXPIRING","EXPIRED","NOT TRAINED","N/A"},0),"✓","!","✗","○","—"),"—")} -> ○ | P24: {=IFERROR(CHOOSE(MATCH('📊 Training Matrix'!$AG$26,{"VALID","EXPIRING","EXPIRED","NOT TRAINED","N/A"},0),"✓","!","✗","○","—"),"—")} -> ✗ | Q24: {=IFERROR(CHOOSE(MATCH('📊 Training Matrix'!$AI$26,{"VALID","EXPIRING","EXPIRED","NOT TRAINED","N/A"},0),"✓","!","✗","○","—"),"—")} -> ✗ | R24: {=IFERROR(CHOOSE(MATCH('📊 Training Matrix'!$AK$26,{"VALID","EXPIRING","EXPIRED","NOT TRAINED","N/A"},0),"✓","!","✗","○","—"),"—")} -> ○ | S24: {=IFERROR(CHOOSE(MATCH('📊 Training Matrix'!$AM$26,{"VALID","EXPIRING","EXPIRED","NOT TRAINED","N/A"},0),"✓","!","✗","○","—"),"—")} -> ○ | T24: {=IFERROR(CHOOSE(MATCH('📊 Training Matrix'!$AO$26,{"VALID","EXPIRING","EXPIRED","NOT TRAINED","N/A"},0),"✓","!","✗","○","—"),"—")} -> ○ | U24: {=IFERROR(CHOOSE(MATCH('📊 Training Matrix'!$AQ$26,{"VALID","EXPIRING","EXPIRED","NOT TRAINED","N/A"},0),"✓","!","✗","○","—"),"—")} -> ○ | V24: {=IFERROR(CHOOSE(MATCH('📊 Training Matrix'!$AS$26,{"VALID","EXPIRING","EXPIRED","NOT TRAINED","N/A"},0),"✓","!","✗","○","—"),"—")} -> ○ | W24: {=IFERROR(CHOOSE(MATCH('📊 Training Matrix'!$AU$26,{"VALID","EXPIRING","EXPIRED","NOT TRAINED","N/A"},0),"✓","!","✗","○","—"),"—")} -> ○ | X24: {=IFERROR(CHOOSE(MATCH('📊 Training Matrix'!$AW$26,{"VALID","EXPIRING","EXPIRED","NOT TRAINED","N/A"},0),"✓","!","✗","○","—"),"—")} -> ✓
A25: Chris Carter | B25: Employee | C25: Field Engineering › Senior Field Engineer | D25: ='📊 Training Matrix'!$I$27 -> 0.85714286 | E25: {=IFERROR(CHOOSE(MATCH('📊 Training Matrix'!$K$27,{"VALID","EXPIRING","EXPIRED","NOT TRAINED","N/A"},0),"✓","!","✗","○","—"),"—")} -> ✓ | F25: {=IFERROR(CHOOSE(MATCH('📊 Training Matrix'!$M$27,{"VALID","EXPIRING","EXPIRED","NOT TRAINED","N/A"},0),"✓","!","✗","○","—"),"—")} -> ✓ | G25: {=IFERROR(CHOOSE(MATCH('📊 Training Matrix'!$O$27,{"VALID","EXPIRING","EXPIRED","NOT TRAINED","N/A"},0),"✓","!","✗","○","—"),"—")} -> ✗ | H25: {=IFERROR(CHOOSE(MATCH('📊 Training Matrix'!$Q$27,{"VALID","EXPIRING","EXPIRED","NOT TRAINED","N/A"},0),"✓","!","✗","○","—"),"—")} -> ✓ | I25: {=IFERROR(CHOOSE(MATCH('📊 Training Matrix'!$S$27,{"VALID","EXPIRING","EXPIRED","NOT TRAINED","N/A"},0),"✓","!","✗","○","—"),"—")} -> ✓ | J25: {=IFERROR(CHOOSE(MATCH('📊 Training Matrix'!$U$27,{"VALID","EXPIRING","EXPIRED","NOT TRAINED","N/A"},0),"✓","!","✗","○","—"),"—")} -> ✓ | K25: {=IFERROR(CHOOSE(MATCH('📊 Training Matrix'!$W$27,{"VALID","EXPIRING","EXPIRED","NOT TRAINED","N/A"},0),"✓","!","✗","○","—"),"—")} -> ○ | L25: {=IFERROR(CHOOSE(MATCH('📊 Training Matrix'!$Y$27,{"VALID","EXPIRING","EXPIRED","NOT TRAINED","N/A"},0),"✓","!","✗","○","—"),"—")} -> ○ | M25: {=IFERROR(CHOOSE(MATCH('📊 Training Matrix'!$AA$27,{"VALID","EXPIRING","EXPIRED","NOT TRAINED","N/A"},0),"✓","!","✗","○","—"),"—")} -> ○ | N25: {=IFERROR(CHOOSE(MATCH('📊 Training Matrix'!$AC$27,{"VALID","EXPIRING","EXPIRED","NOT TRAINED","N/A"},0),"✓","!","✗","○","—"),"—")} -> ○ | O25: {=IFERROR(CHOOSE(MATCH('📊 Training Matrix'!$AE$27,{"VALID","EXPIRING","EXPIRED","NOT TRAINED","N/A"},0),"✓","!","✗","○","—"),"—")} -> ○ | P25: {=IFERROR(CHOOSE(MATCH('📊 Training Matrix'!$AG$27,{"VALID","EXPIRING","EXPIRED","NOT TRAINED","N/A"},0),"✓","!","✗","○","—"),"—")} -> ○ | Q25: {=IFERROR(CHOOSE(MATCH('📊 Training Matrix'!$AI$27,{"VALID","EXPIRING","EXPIRED","NOT TRAINED","N/A"},0),"✓","!","✗","○","—"),"—")} -> ○ | R25: {=IFERROR(CHOOSE(MATCH('📊 Training Matrix'!$AK$27,{"VALID","EXPIRING","EXPIRED","NOT TRAINED","N/A"},0),"✓","!","✗","○","—"),"—")} -> ○ | S25: {=IFERROR(CHOOSE(MATCH('📊 Training Matrix'!$AM$27,{"VALID","EXPIRING","EXPIRED","NOT TRAINED","N/A"},0),"✓","!","✗","○","—"),"—")} -> ○ | T25: {=IFERROR(CHOOSE(MATCH('📊 Training Matrix'!$AO$27,{"VALID","EXPIRING","EXPIRED","NOT TRAINED","N/A"},0),"✓","!","✗","○","—"),"—")} -> ○ | U25: {=IFERROR(CHOOSE(MATCH('📊 Training Matrix'!$AQ$27,{"VALID","EXPIRING","EXPIRED","NOT TRAINED","N/A"},0),"✓","!","✗","○","—"),"—")} -> ○ | V25: {=IFERROR(CHOOSE(MATCH('📊 Training Matrix'!$AS$27,{"VALID","EXPIRING","EXPIRED","NOT TRAINED","N/A"},0),"✓","!","✗","○","—"),"—")} -> ○ | W25: {=IFERROR(CHOOSE(MATCH('📊 Training Matrix'!$AU$27,{"VALID","EXPIRING","EXPIRED","NOT TRAINED","N/A"},0),"✓","!","✗","○","—"),"—")} -> ○ | X25: {=IFERROR(CHOOSE(MATCH('📊 Training Matrix'!$AW$27,{"VALID","EXPIRING","EXPIRED","NOT TRAINED","N/A"},0),"✓","!","✗","○","—"),"—")} -> ✓
A26: 🔶 Mark Parker | B26: Subcontractor | C26: Civil Works › Groundworker | D26: ='📊 Training Matrix'!$I$28 -> 0.33333333 | E26: {=IFERROR(CHOOSE(MATCH('📊 Training Matrix'!$K$28,{"VALID","EXPIRING","EXPIRED","NOT TRAINED","N/A"},0),"✓","!","✗","○","—"),"—")} -> ✓ | F26: {=IFERROR(CHOOSE(MATCH('📊 Training Matrix'!$M$28,{"VALID","EXPIRING","EXPIRED","NOT TRAINED","N/A"},0),"✓","!","✗","○","—"),"—")} -> ✓ | G26: {=IFERROR(CHOOSE(MATCH('📊 Training Matrix'!$O$28,{"VALID","EXPIRING","EXPIRED","NOT TRAINED","N/A"},0),"✓","!","✗","○","—"),"—")} -> ○ | H26: {=IFERROR(CHOOSE(MATCH('📊 Training Matrix'!$Q$28,{"VALID","EXPIRING","EXPIRED","NOT TRAINED","N/A"},0),"✓","!","✗","○","—"),"—")} -> ○ | I26: {=IFERROR(CHOOSE(MATCH('📊 Training Matrix'!$S$28,{"VALID","EXPIRING","EXPIRED","NOT TRAINED","N/A"},0),"✓","!","✗","○","—"),"—")} -> ✗ | J26: {=IFERROR(CHOOSE(MATCH('📊 Training Matrix'!$U$28,{"VALID","EXPIRING","EXPIRED","NOT TRAINED","N/A"},0),"✓","!","✗","○","—"),"—")} -> ○ | K26: {=IFERROR(CHOOSE(MATCH('📊 Training Matrix'!$W$28,{"VALID","EXPIRING","EXPIRED","NOT TRAINED","N/A"},0),"✓","!","✗","○","—"),"—")} -> ○ | L26: {=IFERROR(CHOOSE(MATCH('📊 Training Matrix'!$Y$28,{"VALID","EXPIRING","EXPIRED","NOT TRAINED","N/A"},0),"✓","!","✗","○","—"),"—")} -> ○ | M26: {=IFERROR(CHOOSE(MATCH('📊 Training Matrix'!$AA$28,{"VALID","EXPIRING","EXPIRED","NOT TRAINED","N/A"},0),"✓","!","✗","○","—"),"—")} -> ○ | N26: {=IFERROR(CHOOSE(MATCH('📊 Training Matrix'!$AC$28,{"VALID","EXPIRING","EXPIRED","NOT TRAINED","N/A"},0),"✓","!","✗","○","—"),"—")} -> ○ | O26: {=IFERROR(CHOOSE(MATCH('📊 Training Matrix'!$AE$28,{"VALID","EXPIRING","EXPIRED","NOT TRAINED","N/A"},0),"✓","!","✗","○","—"),"—")} -> ○ | P26: {=IFERROR(CHOOSE(MATCH('📊 Training Matrix'!$AG$28,{"VALID","EXPIRING","EXPIRED","NOT TRAINED","N/A"},0),"✓","!","✗","○","—"),"—")} -> ✗ | Q26: {=IFERROR(CHOOSE(MATCH('📊 Training Matrix'!$AI$28,{"VALID","EXPIRING","EXPIRED","NOT TRAINED","N/A"},0),"✓","!","✗","○","—"),"—")} -> ✗ | R26: {=IFERROR(CHOOSE(MATCH('📊 Training Matrix'!$AK$28,{"VALID","EXPIRING","EXPIRED","NOT TRAINED","N/A"},0),"✓","!","✗","○","—"),"—")} -> ○ | S26: {=IFERROR(CHOOSE(MATCH('📊 Training Matrix'!$AM$28,{"VALID","EXPIRING","EXPIRED","NOT TRAINED","N/A"},0),"✓","!","✗","○","—"),"—")} -> ○ | T26: {=IFERROR(CHOOSE(MATCH('📊 Training Matrix'!$AO$28,{"VALID","EXPIRING","EXPIRED","NOT TRAINED","N/A"},0),"✓","!","✗","○","—"),"—")} -> ○ | U26: {=IFERROR(CHOOSE(MATCH('📊 Training Matrix'!$AQ$28,{"VALID","EXPIRING","EXPIRED","NOT TRAINED","N/A"},0),"✓","!","✗","○","—"),"—")} -> ○ | V26: {=IFERROR(CHOOSE(MATCH('📊 Training Matrix'!$AS$28,{"VALID","EXPIRING","EXPIRED","NOT TRAINED","N/A"},0),"✓","!","✗","○","—"),"—")} -> ○ | W26: {=IFERROR(CHOOSE(MATCH('📊 Training Matrix'!$AU$28,{"VALID","EXPIRING","EXPIRED","NOT TRAINED","N/A"},0),"✓","!","✗","○","—"),"—")} -> ○ | X26: {=IFERROR(CHOOSE(MATCH('📊 Training Matrix'!$AW$28,{"VALID","EXPIRING","EXPIRED","NOT TRAINED","N/A"},0),"✓","!","✗","○","—"),"—")} -> ✗
A27: Hannah Williams | B27: Employee | C27: Network Operations › Network Operations Manager | D27: ='📊 Training Matrix'!$I$29 -> 0.5 | E27: {=IFERROR(CHOOSE(MATCH('📊 Training Matrix'!$K$29,{"VALID","EXPIRING","EXPIRED","NOT TRAINED","N/A"},0),"✓","!","✗","○","—"),"—")} -> ✓ | F27: {=IFERROR(CHOOSE(MATCH('📊 Training Matrix'!$M$29,{"VALID","EXPIRING","EXPIRED","NOT TRAINED","N/A"},0),"✓","!","✗","○","—"),"—")} -> ○ | G27: {=IFERROR(CHOOSE(MATCH('📊 Training Matrix'!$O$29,{"VALID","EXPIRING","EXPIRED","NOT TRAINED","N/A"},0),"✓","!","✗","○","—"),"—")} -> ○ | H27: {=IFERROR(CHOOSE(MATCH('📊 Training Matrix'!$Q$29,{"VALID","EXPIRING","EXPIRED","NOT TRAINED","N/A"},0),"✓","!","✗","○","—"),"—")} -> ✓ | I27: {=IFERROR(CHOOSE(MATCH('📊 Training Matrix'!$S$29,{"VALID","EXPIRING","EXPIRED","NOT TRAINED","N/A"},0),"✓","!","✗","○","—"),"—")} -> ✗ | J27: {=IFERROR(CHOOSE(MATCH('📊 Training Matrix'!$U$29,{"VALID","EXPIRING","EXPIRED","NOT TRAINED","N/A"},0),"✓","!","✗","○","—"),"—")} -> ○ | K27: {=IFERROR(CHOOSE(MATCH('📊 Training Matrix'!$W$29,{"VALID","EXPIRING","EXPIRED","NOT TRAINED","N/A"},0),"✓","!","✗","○","—"),"—")} -> ○ | L27: {=IFERROR(CHOOSE(MATCH('📊 Training Matrix'!$Y$29,{"VALID","EXPIRING","EXPIRED","NOT TRAINED","N/A"},0),"✓","!","✗","○","—"),"—")} -> ○ | M27: {=IFERROR(CHOOSE(MATCH('📊 Training Matrix'!$AA$29,{"VALID","EXPIRING","EXPIRED","NOT TRAINED","N/A"},0),"✓","!","✗","○","—"),"—")} -> ○ | N27: {=IFERROR(CHOOSE(MATCH('📊 Training Matrix'!$AC$29,{"VALID","EXPIRING","EXPIRED","NOT TRAINED","N/A"},0),"✓","!","✗","○","—"),"—")} -> ○ | O27: {=IFERROR(CHOOSE(MATCH('📊 Training Matrix'!$AE$29,{"VALID","EXPIRING","EXPIRED","NOT TRAINED","N/A"},0),"✓","!","✗","○","—"),"—")} -> ○ | P27: {=IFERROR(CHOOSE(MATCH('📊 Training Matrix'!$AG$29,{"VALID","EXPIRING","EXPIRED","NOT TRAINED","N/A"},0),"✓","!","✗","○","—"),"—")} -> ○ | Q27: {=IFERROR(CHOOSE(MATCH('📊 Training Matrix'!$AI$29,{"VALID","EXPIRING","EXPIRED","NOT TRAINED","N/A"},0),"✓","!","✗","○","—"),"—")} -> ○ | R27: {=IFERROR(CHOOSE(MATCH('📊 Training Matrix'!$AK$29,{"VALID","EXPIRING","EXPIRED","NOT TRAINED","N/A"},0),"✓","!","✗","○","—"),"—")} -> ○ | S27: {=IFERROR(CHOOSE(MATCH('📊 Training Matrix'!$AM$29,{"VALID","EXPIRING","EXPIRED","NOT TRAINED","N/A"},0),"✓","!","✗","○","—"),"—")} -> ○ | T27: {=IFERROR(CHOOSE(MATCH('📊 Training Matrix'!$AO$29,{"VALID","EXPIRING","EXPIRED","NOT TRAINED","N/A"},0),"✓","!","✗","○","—"),"—")} -> ○ | U27: {=IFERROR(CHOOSE(MATCH('📊 Training Matrix'!$AQ$29,{"VALID","EXPIRING","EXPIRED","NOT TRAINED","N/A"},0),"✓","!","✗","○","—"),"—")} -> ○ | V27: {=IFERROR(CHOOSE(MATCH('📊 Training Matrix'!$AS$29,{"VALID","EXPIRING","EXPIRED","NOT TRAINED","N/A"},0),"✓","!","✗","○","—"),"—")} -> ○ | W27: {=IFERROR(CHOOSE(MATCH('📊 Training Matrix'!$AU$29,{"VALID","EXPIRING","EXPIRED","NOT TRAINED","N/A"},0),"✓","!","✗","○","—"),"—")} -> ○ | X27: {=IFERROR(CHOOSE(MATCH('📊 Training Matrix'!$AW$29,{"VALID","EXPIRING","EXPIRED","NOT TRAINED","N/A"},0),"✓","!","✗","○","—"),"—")} -> ✗
A28: 🔶 Zara Campbell | B28: Subcontractor | C28: HSEQ › HSEQ Manager | D28: ='📊 Training Matrix'!$I$30 -> 0 | E28: {=IFERROR(CHOOSE(MATCH('📊 Training Matrix'!$K$30,{"VALID","EXPIRING","EXPIRED","NOT TRAINED","N/A"},0),"✓","!","✗","○","—"),"—")} -> ○ | F28: {=IFERROR(CHOOSE(MATCH('📊 Training Matrix'!$M$30,{"VALID","EXPIRING","EXPIRED","NOT TRAINED","N/A"},0),"✓","!","✗","○","—"),"—")} -> ○ | G28: {=IFERROR(CHOOSE(MATCH('📊 Training Matrix'!$O$30,{"VALID","EXPIRING","EXPIRED","NOT TRAINED","N/A"},0),"✓","!","✗","○","—"),"—")} -> ○ | H28: {=IFERROR(CHOOSE(MATCH('📊 Training Matrix'!$Q$30,{"VALID","EXPIRING","EXPIRED","NOT TRAINED","N/A"},0),"✓","!","✗","○","—"),"—")} -> ✗ | I28: {=IFERROR(CHOOSE(MATCH('📊 Training Matrix'!$S$30,{"VALID","EXPIRING","EXPIRED","NOT TRAINED","N/A"},0),"✓","!","✗","○","—"),"—")} -> ✗ | J28: {=IFERROR(CHOOSE(MATCH('📊 Training Matrix'!$U$30,{"VALID","EXPIRING","EXPIRED","NOT TRAINED","N/A"},0),"✓","!","✗","○","—"),"—")} -> ○ | K28: {=IFERROR(CHOOSE(MATCH('📊 Training Matrix'!$W$30,{"VALID","EXPIRING","EXPIRED","NOT TRAINED","N/A"},0),"✓","!","✗","○","—"),"—")} -> ○ | L28: {=IFERROR(CHOOSE(MATCH('📊 Training Matrix'!$Y$30,{"VALID","EXPIRING","EXPIRED","NOT TRAINED","N/A"},0),"✓","!","✗","○","—"),"—")} -> ○ | M28: {=IFERROR(CHOOSE(MATCH('📊 Training Matrix'!$AA$30,{"VALID","EXPIRING","EXPIRED","NOT TRAINED","N/A"},0),"✓","!","✗","○","—"),"—")} -> ○ | N28: {=IFERROR(CHOOSE(MATCH('📊 Training Matrix'!$AC$30,{"VALID","EXPIRING","EXPIRED","NOT TRAINED","N/A"},0),"✓","!","✗","○","—"),"—")} -> ○ | O28: {=IFERROR(CHOOSE(MATCH('📊 Training Matrix'!$AE$30,{"VALID","EXPIRING","EXPIRED","NOT TRAINED","N/A"},0),"✓","!","✗","○","—"),"—")} -> ○ | P28: {=IFERROR(CHOOSE(MATCH('📊 Training Matrix'!$AG$30,{"VALID","EXPIRING","EXPIRED","NOT TRAINED","N/A"},0),"✓","!","✗","○","—"),"—")} -> ○ | Q28: {=IFERROR(CHOOSE(MATCH('📊 Training Matrix'!$AI$30,{"VALID","EXPIRING","EXPIRED","NOT TRAINED","N/A"},0),"✓","!","✗","○","—"),"—")} -> ○ | R28: {=IFERROR(CHOOSE(MATCH('📊 Training Matrix'!$AK$30,{"VALID","EXPIRING","EXPIRED","NOT TRAINED","N/A"},0),"✓","!","✗","○","—"),"—")} -> ○ | S28: {=IFERROR(CHOOSE(MATCH('📊 Training Matrix'!$AM$30,{"VALID","EXPIRING","EXPIRED","NOT TRAINED","N/A"},0),"✓","!","✗","○","—"),"—")} -> ○ | T28: {=IFERROR(CHOOSE(MATCH('📊 Training Matrix'!$AO$30,{"VALID","EXPIRING","EXPIRED","NOT TRAINED","N/A"},0),"✓","!","✗","○","—"),"—")} -> ○ | U28: {=IFERROR(CHOOSE(MATCH('📊 Training Matrix'!$AQ$30,{"VALID","EXPIRING","EXPIRED","NOT TRAINED","N/A"},0),"✓","!","✗","○","—"),"—")} -> ○ | V28: {=IFERROR(CHOOSE(MATCH('📊 Training Matrix'!$AS$30,{"VALID","EXPIRING","EXPIRED","NOT TRAINED","N/A"},0),"✓","!","✗","○","—"),"—")} -> ○ | W28: {=IFERROR(CHOOSE(MATCH('📊 Training Matrix'!$AU$30,{"VALID","EXPIRING","EXPIRED","NOT TRAINED","N/A"},0),"✓","!","✗","○","—"),"—")} -> ○ | X28: {=IFERROR(CHOOSE(MATCH('📊 Training Matrix'!$AW$30,{"VALID","EXPIRING","EXPIRED","NOT TRAINED","N/A"},0),"✓","!","✗","○","—"),"—")} -> !
A29: Mark Wright | B29: Employee | C29: Water Services › Water Services Engineer | D29: ='📊 Training Matrix'!$I$31 -> 0.2 | E29: {=IFERROR(CHOOSE(MATCH('📊 Training Matrix'!$K$31,{"VALID","EXPIRING","EXPIRED","NOT TRAINED","N/A"},0),"✓","!","✗","○","—"),"—")} -> ✓ | F29: {=IFERROR(CHOOSE(MATCH('📊 Training Matrix'!$M$31,{"VALID","EXPIRING","EXPIRED","NOT TRAINED","N/A"},0),"✓","!","✗","○","—"),"—")} -> ○ | G29: {=IFERROR(CHOOSE(MATCH('📊 Training Matrix'!$O$31,{"VALID","EXPIRING","EXPIRED","NOT TRAINED","N/A"},0),"✓","!","✗","○","—"),"—")} -> ○ | H29: {=IFERROR(CHOOSE(MATCH('📊 Training Matrix'!$Q$31,{"VALID","EXPIRING","EXPIRED","NOT TRAINED","N/A"},0),"✓","!","✗","○","—"),"—")} -> ! | I29: {=IFERROR(CHOOSE(MATCH('📊 Training Matrix'!$S$31,{"VALID","EXPIRING","EXPIRED","NOT TRAINED","N/A"},0),"✓","!","✗","○","—"),"—")} -> ✗ | J29: {=IFERROR(CHOOSE(MATCH('📊 Training Matrix'!$U$31,{"VALID","EXPIRING","EXPIRED","NOT TRAINED","N/A"},0),"✓","!","✗","○","—"),"—")} -> ○ | K29: {=IFERROR(CHOOSE(MATCH('📊 Training Matrix'!$W$31,{"VALID","EXPIRING","EXPIRED","NOT TRAINED","N/A"},0),"✓","!","✗","○","—"),"—")} -> ○ | L29: {=IFERROR(CHOOSE(MATCH('📊 Training Matrix'!$Y$31,{"VALID","EXPIRING","EXPIRED","NOT TRAINED","N/A"},0),"✓","!","✗","○","—"),"—")} -> ○ | M29: {=IFERROR(CHOOSE(MATCH('📊 Training Matrix'!$AA$31,{"VALID","EXPIRING","EXPIRED","NOT TRAINED","N/A"},0),"✓","!","✗","○","—"),"—")} -> ○ | N29: {=IFERROR(CHOOSE(MATCH('📊 Training Matrix'!$AC$31,{"VALID","EXPIRING","EXPIRED","NOT TRAINED","N/A"},0),"✓","!","✗","○","—"),"—")} -> ○ | O29: {=IFERROR(CHOOSE(MATCH('📊 Training Matrix'!$AE$31,{"VALID","EXPIRING","EXPIRED","NOT TRAINED","N/A"},0),"✓","!","✗","○","—"),"—")} -> ○ | P29: {=IFERROR(CHOOSE(MATCH('📊 Training Matrix'!$AG$31,{"VALID","EXPIRING","EXPIRED","NOT TRAINED","N/A"},0),"✓","!","✗","○","—"),"—")} -> ○ | Q29: {=IFERROR(CHOOSE(MATCH('📊 Training Matrix'!$AI$31,{"VALID","EXPIRING","EXPIRED","NOT TRAINED","N/A"},0),"✓","!","✗","○","—"),"—")} -> ○ | R29: {=IFERROR(CHOOSE(MATCH('📊 Training Matrix'!$AK$31,{"VALID","EXPIRING","EXPIRED","NOT TRAINED","N/A"},0),"✓","!","✗","○","—"),"—")} -> ○ | S29: {=IFERROR(CHOOSE(MATCH('📊 Training Matrix'!$AM$31,{"VALID","EXPIRING","EXPIRED","NOT TRAINED","N/A"},0),"✓","!","✗","○","—"),"—")} -> ○ | T29: {=IFERROR(CHOOSE(MATCH('📊 Training Matrix'!$AO$31,{"VALID","EXPIRING","EXPIRED","NOT TRAINED","N/A"},0),"✓","!","✗","○","—"),"—")} -> ✗ | U29: {=IFERROR(CHOOSE(MATCH('📊 Training Matrix'!$AQ$31,{"VALID","EXPIRING","EXPIRED","NOT TRAINED","N/A"},0),"✓","!","✗","○","—"),"—")} -> ○ | V29: {=IFERROR(CHOOSE(MATCH('📊 Training Matrix'!$AS$31,{"VALID","EXPIRING","EXPIRED","NOT TRAINED","N/A"},0),"✓","!","✗","○","—"),"—")} -> ○ | W29: {=IFERROR(CHOOSE(MATCH('📊 Training Matrix'!$AU$31,{"VALID","EXPIRING","EXPIRED","NOT TRAINED","N/A"},0),"✓","!","✗","○","—"),"—")} -> ○ | X29: {=IFERROR(CHOOSE(MATCH('📊 Training Matrix'!$AW$31,{"VALID","EXPIRING","EXPIRED","NOT TRAINED","N/A"},0),"✓","!","✗","○","—"),"—")} -> ✗
A30: Grace Young | B30: Employee | C30: Water Services › Water Technician | D30: ='📊 Training Matrix'!$I$32 -> 0.75 | E30: {=IFERROR(CHOOSE(MATCH('📊 Training Matrix'!$K$32,{"VALID","EXPIRING","EXPIRED","NOT TRAINED","N/A"},0),"✓","!","✗","○","—"),"—")} -> ✓ | F30: {=IFERROR(CHOOSE(MATCH('📊 Training Matrix'!$M$32,{"VALID","EXPIRING","EXPIRED","NOT TRAINED","N/A"},0),"✓","!","✗","○","—"),"—")} -> ✓ | G30: {=IFERROR(CHOOSE(MATCH('📊 Training Matrix'!$O$32,{"VALID","EXPIRING","EXPIRED","NOT TRAINED","N/A"},0),"✓","!","✗","○","—"),"—")} -> ✗ | H30: {=IFERROR(CHOOSE(MATCH('📊 Training Matrix'!$Q$32,{"VALID","EXPIRING","EXPIRED","NOT TRAINED","N/A"},0),"✓","!","✗","○","—"),"—")} -> ✓ | I30: {=IFERROR(CHOOSE(MATCH('📊 Training Matrix'!$S$32,{"VALID","EXPIRING","EXPIRED","NOT TRAINED","N/A"},0),"✓","!","✗","○","—"),"—")} -> ✓ | J30: {=IFERROR(CHOOSE(MATCH('📊 Training Matrix'!$U$32,{"VALID","EXPIRING","EXPIRED","NOT TRAINED","N/A"},0),"✓","!","✗","○","—"),"—")} -> ○ | K30: {=IFERROR(CHOOSE(MATCH('📊 Training Matrix'!$W$32,{"VALID","EXPIRING","EXPIRED","NOT TRAINED","N/A"},0),"✓","!","✗","○","—"),"—")} -> ○ | L30: {=IFERROR(CHOOSE(MATCH('📊 Training Matrix'!$Y$32,{"VALID","EXPIRING","EXPIRED","NOT TRAINED","N/A"},0),"✓","!","✗","○","—"),"—")} -> ○ | M30: {=IFERROR(CHOOSE(MATCH('📊 Training Matrix'!$AA$32,{"VALID","EXPIRING","EXPIRED","NOT TRAINED","N/A"},0),"✓","!","✗","○","—"),"—")} -> ○ | N30: {=IFERROR(CHOOSE(MATCH('📊 Training Matrix'!$AC$32,{"VALID","EXPIRING","EXPIRED","NOT TRAINED","N/A"},0),"✓","!","✗","○","—"),"—")} -> ○ | O30: {=IFERROR(CHOOSE(MATCH('📊 Training Matrix'!$AE$32,{"VALID","EXPIRING","EXPIRED","NOT TRAINED","N/A"},0),"✓","!","✗","○","—"),"—")} -> ○ | P30: {=IFERROR(CHOOSE(MATCH('📊 Training Matrix'!$AG$32,{"VALID","EXPIRING","EXPIRED","NOT TRAINED","N/A"},0),"✓","!","✗","○","—"),"—")} -> ○ | Q30: {=IFERROR(CHOOSE(MATCH('📊 Training Matrix'!$AI$32,{"VALID","EXPIRING","EXPIRED","NOT TRAINED","N/A"},0),"✓","!","✗","○","—"),"—")} -> ✗ | R30: {=IFERROR(CHOOSE(MATCH('📊 Training Matrix'!$AK$32,{"VALID","EXPIRING","EXPIRED","NOT TRAINED","N/A"},0),"✓","!","✗","○","—"),"—")} -> ○ | S30: {=IFERROR(CHOOSE(MATCH('📊 Training Matrix'!$AM$32,{"VALID","EXPIRING","EXPIRED","NOT TRAINED","N/A"},0),"✓","!","✗","○","—"),"—")} -> ○ | T30: {=IFERROR(CHOOSE(MATCH('📊 Training Matrix'!$AO$32,{"VALID","EXPIRING","EXPIRED","NOT TRAINED","N/A"},0),"✓","!","✗","○","—"),"—")} -> ✓ | U30: {=IFERROR(CHOOSE(MATCH('📊 Training Matrix'!$AQ$32,{"VALID","EXPIRING","EXPIRED","NOT TRAINED","N/A"},0),"✓","!","✗","○","—"),"—")} -> ○ | V30: {=IFERROR(CHOOSE(MATCH('📊 Training Matrix'!$AS$32,{"VALID","EXPIRING","EXPIRED","NOT TRAINED","N/A"},0),"✓","!","✗","○","—"),"—")} -> ○ | W30: {=IFERROR(CHOOSE(MATCH('📊 Training Matrix'!$AU$32,{"VALID","EXPIRING","EXPIRED","NOT TRAINED","N/A"},0),"✓","!","✗","○","—"),"—")} -> ○ | X30: {=IFERROR(CHOOSE(MATCH('📊 Training Matrix'!$AW$32,{"VALID","EXPIRING","EXPIRED","NOT TRAINED","N/A"},0),"✓","!","✗","○","—"),"—")} -> ✓
A31: Michael Harris | B31: Employee | C31: Water Services › Water Technician | D31: ='📊 Training Matrix'!$I$33 -> 0.66666667 | E31: {=IFERROR(CHOOSE(MATCH('📊 Training Matrix'!$K$33,{"VALID","EXPIRING","EXPIRED","NOT TRAINED","N/A"},0),"✓","!","✗","○","—"),"—")} -> ✓ | F31: {=IFERROR(CHOOSE(MATCH('📊 Training Matrix'!$M$33,{"VALID","EXPIRING","EXPIRED","NOT TRAINED","N/A"},0),"✓","!","✗","○","—"),"—")} -> ○ | G31: {=IFERROR(CHOOSE(MATCH('📊 Training Matrix'!$O$33,{"VALID","EXPIRING","EXPIRED","NOT TRAINED","N/A"},0),"✓","!","✗","○","—"),"—")} -> ○ | H31: {=IFERROR(CHOOSE(MATCH('📊 Training Matrix'!$Q$33,{"VALID","EXPIRING","EXPIRED","NOT TRAINED","N/A"},0),"✓","!","✗","○","—"),"—")} -> ✗ | I31: {=IFERROR(CHOOSE(MATCH('📊 Training Matrix'!$S$33,{"VALID","EXPIRING","EXPIRED","NOT TRAINED","N/A"},0),"✓","!","✗","○","—"),"—")} -> ✓ | J31: {=IFERROR(CHOOSE(MATCH('📊 Training Matrix'!$U$33,{"VALID","EXPIRING","EXPIRED","NOT TRAINED","N/A"},0),"✓","!","✗","○","—"),"—")} -> ○ | K31: {=IFERROR(CHOOSE(MATCH('📊 Training Matrix'!$W$33,{"VALID","EXPIRING","EXPIRED","NOT TRAINED","N/A"},0),"✓","!","✗","○","—"),"—")} -> ○ | L31: {=IFERROR(CHOOSE(MATCH('📊 Training Matrix'!$Y$33,{"VALID","EXPIRING","EXPIRED","NOT TRAINED","N/A"},0),"✓","!","✗","○","—"),"—")} -> ○ | M31: {=IFERROR(CHOOSE(MATCH('📊 Training Matrix'!$AA$33,{"VALID","EXPIRING","EXPIRED","NOT TRAINED","N/A"},0),"✓","!","✗","○","—"),"—")} -> ○ | N31: {=IFERROR(CHOOSE(MATCH('📊 Training Matrix'!$AC$33,{"VALID","EXPIRING","EXPIRED","NOT TRAINED","N/A"},0),"✓","!","✗","○","—"),"—")} -> ○ | O31: {=IFERROR(CHOOSE(MATCH('📊 Training Matrix'!$AE$33,{"VALID","EXPIRING","EXPIRED","NOT TRAINED","N/A"},0),"✓","!","✗","○","—"),"—")} -> ○ | P31: {=IFERROR(CHOOSE(MATCH('📊 Training Matrix'!$AG$33,{"VALID","EXPIRING","EXPIRED","NOT TRAINED","N/A"},0),"✓","!","✗","○","—"),"—")} -> ○ | Q31: {=IFERROR(CHOOSE(MATCH('📊 Training Matrix'!$AI$33,{"VALID","EXPIRING","EXPIRED","NOT TRAINED","N/A"},0),"✓","!","✗","○","—"),"—")} -> ✗ | R31: {=IFERROR(CHOOSE(MATCH('📊 Training Matrix'!$AK$33,{"VALID","EXPIRING","EXPIRED","NOT TRAINED","N/A"},0),"✓","!","✗","○","—"),"—")} -> ○ | S31: {=IFERROR(CHOOSE(MATCH('📊 Training Matrix'!$AM$33,{"VALID","EXPIRING","EXPIRED","NOT TRAINED","N/A"},0),"✓","!","✗","○","—"),"—")} -> ○ | T31: {=IFERROR(CHOOSE(MATCH('📊 Training Matrix'!$AO$33,{"VALID","EXPIRING","EXPIRED","NOT TRAINED","N/A"},0),"✓","!","✗","○","—"),"—")} -> ✓ | U31: {=IFERROR(CHOOSE(MATCH('📊 Training Matrix'!$AQ$33,{"VALID","EXPIRING","EXPIRED","NOT TRAINED","N/A"},0),"✓","!","✗","○","—"),"—")} -> ○ | V31: {=IFERROR(CHOOSE(MATCH('📊 Training Matrix'!$AS$33,{"VALID","EXPIRING","EXPIRED","NOT TRAINED","N/A"},0),"✓","!","✗","○","—"),"—")} -> ○ | W31: {=IFERROR(CHOOSE(MATCH('📊 Training Matrix'!$AU$33,{"VALID","EXPIRING","EXPIRED","NOT TRAINED","N/A"},0),"✓","!","✗","○","—"),"—")} -> ○ | X31: {=IFERROR(CHOOSE(MATCH('📊 Training Matrix'!$AW$33,{"VALID","EXPIRING","EXPIRED","NOT TRAINED","N/A"},0),"✓","!","✗","○","—"),"—")} -> ✓
A32: Sarah Davis | B32: Employee | C32: IT & Systems › GIS Analyst | D32: ='📊 Training Matrix'!$I$34 -> 0.33333333 | E32: {=IFERROR(CHOOSE(MATCH('📊 Training Matrix'!$K$34,{"VALID","EXPIRING","EXPIRED","NOT TRAINED","N/A"},0),"✓","!","✗","○","—"),"—")} -> ✓ | F32: {=IFERROR(CHOOSE(MATCH('📊 Training Matrix'!$M$34,{"VALID","EXPIRING","EXPIRED","NOT TRAINED","N/A"},0),"✓","!","✗","○","—"),"—")} -> ○ | G32: {=IFERROR(CHOOSE(MATCH('📊 Training Matrix'!$O$34,{"VALID","EXPIRING","EXPIRED","NOT TRAINED","N/A"},0),"✓","!","✗","○","—"),"—")} -> ○ | H32: {=IFERROR(CHOOSE(MATCH('📊 Training Matrix'!$Q$34,{"VALID","EXPIRING","EXPIRED","NOT TRAINED","N/A"},0),"✓","!","✗","○","—"),"—")} -> ✗ | I32: {=IFERROR(CHOOSE(MATCH('📊 Training Matrix'!$S$34,{"VALID","EXPIRING","EXPIRED","NOT TRAINED","N/A"},0),"✓","!","✗","○","—"),"—")} -> ✗ | J32: {=IFERROR(CHOOSE(MATCH('📊 Training Matrix'!$U$34,{"VALID","EXPIRING","EXPIRED","NOT TRAINED","N/A"},0),"✓","!","✗","○","—"),"—")} -> ○ | K32: {=IFERROR(CHOOSE(MATCH('📊 Training Matrix'!$W$34,{"VALID","EXPIRING","EXPIRED","NOT TRAINED","N/A"},0),"✓","!","✗","○","—"),"—")} -> ○ | L32: {=IFERROR(CHOOSE(MATCH('📊 Training Matrix'!$Y$34,{"VALID","EXPIRING","EXPIRED","NOT TRAINED","N/A"},0),"✓","!","✗","○","—"),"—")} -> ○ | M32: {=IFERROR(CHOOSE(MATCH('📊 Training Matrix'!$AA$34,{"VALID","EXPIRING","EXPIRED","NOT TRAINED","N/A"},0),"✓","!","✗","○","—"),"—")} -> ○ | N32: {=IFERROR(CHOOSE(MATCH('📊 Training Matrix'!$AC$34,{"VALID","EXPIRING","EXPIRED","NOT TRAINED","N/A"},0),"✓","!","✗","○","—"),"—")} -> ○ | O32: {=IFERROR(CHOOSE(MATCH('📊 Training Matrix'!$AE$34,{"VALID","EXPIRING","EXPIRED","NOT TRAINED","N/A"},0),"✓","!","✗","○","—"),"—")} -> ○ | P32: {=IFERROR(CHOOSE(MATCH('📊 Training Matrix'!$AG$34,{"VALID","EXPIRING","EXPIRED","NOT TRAINED","N/A"},0),"✓","!","✗","○","—"),"—")} -> ○ | Q32: {=IFERROR(CHOOSE(MATCH('📊 Training Matrix'!$AI$34,{"VALID","EXPIRING","EXPIRED","NOT TRAINED","N/A"},0),"✓","!","✗","○","—"),"—")} -> ○ | R32: {=IFERROR(CHOOSE(MATCH('📊 Training Matrix'!$AK$34,{"VALID","EXPIRING","EXPIRED","NOT TRAINED","N/A"},0),"✓","!","✗","○","—"),"—")} -> ○ | S32: {=IFERROR(CHOOSE(MATCH('📊 Training Matrix'!$AM$34,{"VALID","EXPIRING","EXPIRED","NOT TRAINED","N/A"},0),"✓","!","✗","○","—"),"—")} -> ○ | T32: {=IFERROR(CHOOSE(MATCH('📊 Training Matrix'!$AO$34,{"VALID","EXPIRING","EXPIRED","NOT TRAINED","N/A"},0),"✓","!","✗","○","—"),"—")} -> ○ | U32: {=IFERROR(CHOOSE(MATCH('📊 Training Matrix'!$AQ$34,{"VALID","EXPIRING","EXPIRED","NOT TRAINED","N/A"},0),"✓","!","✗","○","—"),"—")} -> ○ | V32: {=IFERROR(CHOOSE(MATCH('📊 Training Matrix'!$AS$34,{"VALID","EXPIRING","EXPIRED","NOT TRAINED","N/A"},0),"✓","!","✗","○","—"),"—")} -> ○ | W32: {=IFERROR(CHOOSE(MATCH('📊 Training Matrix'!$AU$34,{"VALID","EXPIRING","EXPIRED","NOT TRAINED","N/A"},0),"✓","!","✗","○","—"),"—")} -> ○ | X32: {=IFERROR(CHOOSE(MATCH('📊 Training Matrix'!$AW$34,{"VALID","EXPIRING","EXPIRED","NOT TRAINED","N/A"},0),"✓","!","✗","○","—"),"—")} -> ○
A33: Emma Green | B33: Employee | C33: Gas Operations › Metering Specialist | D33: ='📊 Training Matrix'!$I$35 -> 0.2 | E33: {=IFERROR(CHOOSE(MATCH('📊 Training Matrix'!$K$35,{"VALID","EXPIRING","EXPIRED","NOT TRAINED","N/A"},0),"✓","!","✗","○","—"),"—")} -> ✗ | F33: {=IFERROR(CHOOSE(MATCH('📊 Training Matrix'!$M$35,{"VALID","EXPIRING","EXPIRED","NOT TRAINED","N/A"},0),"✓","!","✗","○","—"),"—")} -> ○ | G33: {=IFERROR(CHOOSE(MATCH('📊 Training Matrix'!$O$35,{"VALID","EXPIRING","EXPIRED","NOT TRAINED","N/A"},0),"✓","!","✗","○","—"),"—")} -> ○ | H33: {=IFERROR(CHOOSE(MATCH('📊 Training Matrix'!$Q$35,{"VALID","EXPIRING","EXPIRED","NOT TRAINED","N/A"},0),"✓","!","✗","○","—"),"—")} -> ✗ | I33: {=IFERROR(CHOOSE(MATCH('📊 Training Matrix'!$S$35,{"VALID","EXPIRING","EXPIRED","NOT TRAINED","N/A"},0),"✓","!","✗","○","—"),"—")} -> ✗ | J33: {=IFERROR(CHOOSE(MATCH('📊 Training Matrix'!$U$35,{"VALID","EXPIRING","EXPIRED","NOT TRAINED","N/A"},0),"✓","!","✗","○","—"),"—")} -> ○ | K33: {=IFERROR(CHOOSE(MATCH('📊 Training Matrix'!$W$35,{"VALID","EXPIRING","EXPIRED","NOT TRAINED","N/A"},0),"✓","!","✗","○","—"),"—")} -> ○ | L33: {=IFERROR(CHOOSE(MATCH('📊 Training Matrix'!$Y$35,{"VALID","EXPIRING","EXPIRED","NOT TRAINED","N/A"},0),"✓","!","✗","○","—"),"—")} -> ○ | M33: {=IFERROR(CHOOSE(MATCH('📊 Training Matrix'!$AA$35,{"VALID","EXPIRING","EXPIRED","NOT TRAINED","N/A"},0),"✓","!","✗","○","—"),"—")} -> ○ | N33: {=IFERROR(CHOOSE(MATCH('📊 Training Matrix'!$AC$35,{"VALID","EXPIRING","EXPIRED","NOT TRAINED","N/A"},0),"✓","!","✗","○","—"),"—")} -> ○ | O33: {=IFERROR(CHOOSE(MATCH('📊 Training Matrix'!$AE$35,{"VALID","EXPIRING","EXPIRED","NOT TRAINED","N/A"},0),"✓","!","✗","○","—"),"—")} -> ○ | P33: {=IFERROR(CHOOSE(MATCH('📊 Training Matrix'!$AG$35,{"VALID","EXPIRING","EXPIRED","NOT TRAINED","N/A"},0),"✓","!","✗","○","—"),"—")} -> ○ | Q33: {=IFERROR(CHOOSE(MATCH('📊 Training Matrix'!$AI$35,{"VALID","EXPIRING","EXPIRED","NOT TRAINED","N/A"},0),"✓","!","✗","○","—"),"—")} -> ○ | R33: {=IFERROR(CHOOSE(MATCH('📊 Training Matrix'!$AK$35,{"VALID","EXPIRING","EXPIRED","NOT TRAINED","N/A"},0),"✓","!","✗","○","—"),"—")} -> ✓ | S33: {=IFERROR(CHOOSE(MATCH('📊 Training Matrix'!$AM$35,{"VALID","EXPIRING","EXPIRED","NOT TRAINED","N/A"},0),"✓","!","✗","○","—"),"—")} -> ○ | T33: {=IFERROR(CHOOSE(MATCH('📊 Training Matrix'!$AO$35,{"VALID","EXPIRING","EXPIRED","NOT TRAINED","N/A"},0),"✓","!","✗","○","—"),"—")} -> ○ | U33: {=IFERROR(CHOOSE(MATCH('📊 Training Matrix'!$AQ$35,{"VALID","EXPIRING","EXPIRED","NOT TRAINED","N/A"},0),"✓","!","✗","○","—"),"—")} -> ○ | V33: {=IFERROR(CHOOSE(MATCH('📊 Training Matrix'!$AS$35,{"VALID","EXPIRING","EXPIRED","NOT TRAINED","N/A"},0),"✓","!","✗","○","—"),"—")} -> ○ | W33: {=IFERROR(CHOOSE(MATCH('📊 Training Matrix'!$AU$35,{"VALID","EXPIRING","EXPIRED","NOT TRAINED","N/A"},0),"✓","!","✗","○","—"),"—")} -> ○ | X33: {=IFERROR(CHOOSE(MATCH('📊 Training Matrix'!$AW$35,{"VALID","EXPIRING","EXPIRED","NOT TRAINED","N/A"},0),"✓","!","✗","○","—"),"—")} -> !
A34: 🔶 Sophie Stewart | B34: Subcontractor | C34: Water Services › Water Technician | D34: ='📊 Training Matrix'!$I$36 -> 0.375 | E34: {=IFERROR(CHOOSE(MATCH('📊 Training Matrix'!$K$36,{"VALID","EXPIRING","EXPIRED","NOT TRAINED","N/A"},0),"✓","!","✗","○","—"),"—")} -> ✓ | F34: {=IFERROR(CHOOSE(MATCH('📊 Training Matrix'!$M$36,{"VALID","EXPIRING","EXPIRED","NOT TRAINED","N/A"},0),"✓","!","✗","○","—"),"—")} -> ✗ | G34: {=IFERROR(CHOOSE(MATCH('📊 Training Matrix'!$O$36,{"VALID","EXPIRING","EXPIRED","NOT TRAINED","N/A"},0),"✓","!","✗","○","—"),"—")} -> ✗ | H34: {=IFERROR(CHOOSE(MATCH('📊 Training Matrix'!$Q$36,{"VALID","EXPIRING","EXPIRED","NOT TRAINED","N/A"},0),"✓","!","✗","○","—"),"—")} -> ✓ | I34: {=IFERROR(CHOOSE(MATCH('📊 Training Matrix'!$S$36,{"VALID","EXPIRING","EXPIRED","NOT TRAINED","N/A"},0),"✓","!","✗","○","—"),"—")} -> ! | J34: {=IFERROR(CHOOSE(MATCH('📊 Training Matrix'!$U$36,{"VALID","EXPIRING","EXPIRED","NOT TRAINED","N/A"},0),"✓","!","✗","○","—"),"—")} -> ○ | K34: {=IFERROR(CHOOSE(MATCH('📊 Training Matrix'!$W$36,{"VALID","EXPIRING","EXPIRED","NOT TRAINED","N/A"},0),"✓","!","✗","○","—"),"—")} -> ○ | L34: {=IFERROR(CHOOSE(MATCH('📊 Training Matrix'!$Y$36,{"VALID","EXPIRING","EXPIRED","NOT TRAINED","N/A"},0),"✓","!","✗","○","—"),"—")} -> ○ | M34: {=IFERROR(CHOOSE(MATCH('📊 Training Matrix'!$AA$36,{"VALID","EXPIRING","EXPIRED","NOT TRAINED","N/A"},0),"✓","!","✗","○","—"),"—")} -> ○ | N34: {=IFERROR(CHOOSE(MATCH('📊 Training Matrix'!$AC$36,{"VALID","EXPIRING","EXPIRED","NOT TRAINED","N/A"},0),"✓","!","✗","○","—"),"—")} -> ○ | O34: {=IFERROR(CHOOSE(MATCH('📊 Training Matrix'!$AE$36,{"VALID","EXPIRING","EXPIRED","NOT TRAINED","N/A"},0),"✓","!","✗","○","—"),"—")} -> ○ | P34: {=IFERROR(CHOOSE(MATCH('📊 Training Matrix'!$AG$36,{"VALID","EXPIRING","EXPIRED","NOT TRAINED","N/A"},0),"✓","!","✗","○","—"),"—")} -> ○ | Q34: {=IFERROR(CHOOSE(MATCH('📊 Training Matrix'!$AI$36,{"VALID","EXPIRING","EXPIRED","NOT TRAINED","N/A"},0),"✓","!","✗","○","—"),"—")} -> ✗ | R34: {=IFERROR(CHOOSE(MATCH('📊 Training Matrix'!$AK$36,{"VALID","EXPIRING","EXPIRED","NOT TRAINED","N/A"},0),"✓","!","✗","○","—"),"—")} -> ○ | S34: {=IFERROR(CHOOSE(MATCH('📊 Training Matrix'!$AM$36,{"VALID","EXPIRING","EXPIRED","NOT TRAINED","N/A"},0),"✓","!","✗","○","—"),"—")} -> ○ | T34: {=IFERROR(CHOOSE(MATCH('📊 Training Matrix'!$AO$36,{"VALID","EXPIRING","EXPIRED","NOT TRAINED","N/A"},0),"✓","!","✗","○","—"),"—")} -> ✓ | U34: {=IFERROR(CHOOSE(MATCH('📊 Training Matrix'!$AQ$36,{"VALID","EXPIRING","EXPIRED","NOT TRAINED","N/A"},0),"✓","!","✗","○","—"),"—")} -> ○ | V34: {=IFERROR(CHOOSE(MATCH('📊 Training Matrix'!$AS$36,{"VALID","EXPIRING","EXPIRED","NOT TRAINED","N/A"},0),"✓","!","✗","○","—"),"—")} -> ○ | W34: {=IFERROR(CHOOSE(MATCH('📊 Training Matrix'!$AU$36,{"VALID","EXPIRING","EXPIRED","NOT TRAINED","N/A"},0),"✓","!","✗","○","—"),"—")} -> ○ | X34: {=IFERROR(CHOOSE(MATCH('📊 Training Matrix'!$AW$36,{"VALID","EXPIRING","EXPIRED","NOT TRAINED","N/A"},0),"✓","!","✗","○","—"),"—")} -> !
A35: Fatima Stewart | B35: Employee | C35: Gas Operations › Metering Specialist | D35: ='📊 Training Matrix'!$I$37 -> 0.6 | E35: {=IFERROR(CHOOSE(MATCH('📊 Training Matrix'!$K$37,{"VALID","EXPIRING","EXPIRED","NOT TRAINED","N/A"},0),"✓","!","✗","○","—"),"—")} -> ✓ | F35: {=IFERROR(CHOOSE(MATCH('📊 Training Matrix'!$M$37,{"VALID","EXPIRING","EXPIRED","NOT TRAINED","N/A"},0),"✓","!","✗","○","—"),"—")} -> ○ | G35: {=IFERROR(CHOOSE(MATCH('📊 Training Matrix'!$O$37,{"VALID","EXPIRING","EXPIRED","NOT TRAINED","N/A"},0),"✓","!","✗","○","—"),"—")} -> ○ | H35: {=IFERROR(CHOOSE(MATCH('📊 Training Matrix'!$Q$37,{"VALID","EXPIRING","EXPIRED","NOT TRAINED","N/A"},0),"✓","!","✗","○","—"),"—")} -> ✗ | I35: {=IFERROR(CHOOSE(MATCH('📊 Training Matrix'!$S$37,{"VALID","EXPIRING","EXPIRED","NOT TRAINED","N/A"},0),"✓","!","✗","○","—"),"—")} -> ✗ | J35: {=IFERROR(CHOOSE(MATCH('📊 Training Matrix'!$U$37,{"VALID","EXPIRING","EXPIRED","NOT TRAINED","N/A"},0),"✓","!","✗","○","—"),"—")} -> ○ | K35: {=IFERROR(CHOOSE(MATCH('📊 Training Matrix'!$W$37,{"VALID","EXPIRING","EXPIRED","NOT TRAINED","N/A"},0),"✓","!","✗","○","—"),"—")} -> ○ | L35: {=IFERROR(CHOOSE(MATCH('📊 Training Matrix'!$Y$37,{"VALID","EXPIRING","EXPIRED","NOT TRAINED","N/A"},0),"✓","!","✗","○","—"),"—")} -> ○ | M35: {=IFERROR(CHOOSE(MATCH('📊 Training Matrix'!$AA$37,{"VALID","EXPIRING","EXPIRED","NOT TRAINED","N/A"},0),"✓","!","✗","○","—"),"—")} -> ○ | N35: {=IFERROR(CHOOSE(MATCH('📊 Training Matrix'!$AC$37,{"VALID","EXPIRING","EXPIRED","NOT TRAINED","N/A"},0),"✓","!","✗","○","—"),"—")} -> ○ | O35: {=IFERROR(CHOOSE(MATCH('📊 Training Matrix'!$AE$37,{"VALID","EXPIRING","EXPIRED","NOT TRAINED","N/A"},0),"✓","!","✗","○","—"),"—")} -> ○ | P35: {=IFERROR(CHOOSE(MATCH('📊 Training Matrix'!$AG$37,{"VALID","EXPIRING","EXPIRED","NOT TRAINED","N/A"},0),"✓","!","✗","○","—"),"—")} -> ○ | Q35: {=IFERROR(CHOOSE(MATCH('📊 Training Matrix'!$AI$37,{"VALID","EXPIRING","EXPIRED","NOT TRAINED","N/A"},0),"✓","!","✗","○","—"),"—")} -> ○ | R35: {=IFERROR(CHOOSE(MATCH('📊 Training Matrix'!$AK$37,{"VALID","EXPIRING","EXPIRED","NOT TRAINED","N/A"},0),"✓","!","✗","○","—"),"—")} -> ✓ | S35: {=IFERROR(CHOOSE(MATCH('📊 Training Matrix'!$AM$37,{"VALID","EXPIRING","EXPIRED","NOT TRAINED","N/A"},0),"✓","!","✗","○","—"),"—")} -> ○ | T35: {=IFERROR(CHOOSE(MATCH('📊 Training Matrix'!$AO$37,{"VALID","EXPIRING","EXPIRED","NOT TRAINED","N/A"},0),"✓","!","✗","○","—"),"—")} -> ○ | U35: {=IFERROR(CHOOSE(MATCH('📊 Training Matrix'!$AQ$37,{"VALID","EXPIRING","EXPIRED","NOT TRAINED","N/A"},0),"✓","!","✗","○","—"),"—")} -> ○ | V35: {=IFERROR(CHOOSE(MATCH('📊 Training Matrix'!$AS$37,{"VALID","EXPIRING","EXPIRED","NOT TRAINED","N/A"},0),"✓","!","✗","○","—"),"—")} -> ○ | W35: {=IFERROR(CHOOSE(MATCH('📊 Training Matrix'!$AU$37,{"VALID","EXPIRING","EXPIRED","NOT TRAINED","N/A"},0),"✓","!","✗","○","—"),"—")} -> ○ | X35: {=IFERROR(CHOOSE(MATCH('📊 Training Matrix'!$AW$37,{"VALID","EXPIRING","EXPIRED","NOT TRAINED","N/A"},0),"✓","!","✗","○","—"),"—")} -> ✓
A36: Nina Turner | B36: Employee | C36: Plant & Vehicles › Crane Operator | D36: ='📊 Training Matrix'!$I$38 -> 0 | E36: {=IFERROR(CHOOSE(MATCH('📊 Training Matrix'!$K$38,{"VALID","EXPIRING","EXPIRED","NOT TRAINED","N/A"},0),"✓","!","✗","○","—"),"—")} -> ✗ | F36: {=IFERROR(CHOOSE(MATCH('📊 Training Matrix'!$M$38,{"VALID","EXPIRING","EXPIRED","NOT TRAINED","N/A"},0),"✓","!","✗","○","—"),"—")} -> ✗ | G36: {=IFERROR(CHOOSE(MATCH('📊 Training Matrix'!$O$38,{"VALID","EXPIRING","EXPIRED","NOT TRAINED","N/A"},0),"✓","!","✗","○","—"),"—")} -> ○ | H36: {=IFERROR(CHOOSE(MATCH('📊 Training Matrix'!$Q$38,{"VALID","EXPIRING","EXPIRED","NOT TRAINED","N/A"},0),"✓","!","✗","○","—"),"—")} -> ✗ | I36: {=IFERROR(CHOOSE(MATCH('📊 Training Matrix'!$S$38,{"VALID","EXPIRING","EXPIRED","NOT TRAINED","N/A"},0),"✓","!","✗","○","—"),"—")} -> ✗ | J36: {=IFERROR(CHOOSE(MATCH('📊 Training Matrix'!$U$38,{"VALID","EXPIRING","EXPIRED","NOT TRAINED","N/A"},0),"✓","!","✗","○","—"),"—")} -> ○ | K36: {=IFERROR(CHOOSE(MATCH('📊 Training Matrix'!$W$38,{"VALID","EXPIRING","EXPIRED","NOT TRAINED","N/A"},0),"✓","!","✗","○","—"),"—")} -> ○ | L36: {=IFERROR(CHOOSE(MATCH('📊 Training Matrix'!$Y$38,{"VALID","EXPIRING","EXPIRED","NOT TRAINED","N/A"},0),"✓","!","✗","○","—"),"—")} -> ○ | M36: {=IFERROR(CHOOSE(MATCH('📊 Training Matrix'!$AA$38,{"VALID","EXPIRING","EXPIRED","NOT TRAINED","N/A"},0),"✓","!","✗","○","—"),"—")} -> ○ | N36: {=IFERROR(CHOOSE(MATCH('📊 Training Matrix'!$AC$38,{"VALID","EXPIRING","EXPIRED","NOT TRAINED","N/A"},0),"✓","!","✗","○","—"),"—")} -> ○ | O36: {=IFERROR(CHOOSE(MATCH('📊 Training Matrix'!$AE$38,{"VALID","EXPIRING","EXPIRED","NOT TRAINED","N/A"},0),"✓","!","✗","○","—"),"—")} -> ○ | P36: {=IFERROR(CHOOSE(MATCH('📊 Training Matrix'!$AG$38,{"VALID","EXPIRING","EXPIRED","NOT TRAINED","N/A"},0),"✓","!","✗","○","—"),"—")} -> ○ | Q36: {=IFERROR(CHOOSE(MATCH('📊 Training Matrix'!$AI$38,{"VALID","EXPIRING","EXPIRED","NOT TRAINED","N/A"},0),"✓","!","✗","○","—"),"—")} -> ○ | R36: {=IFERROR(CHOOSE(MATCH('📊 Training Matrix'!$AK$38,{"VALID","EXPIRING","EXPIRED","NOT TRAINED","N/A"},0),"✓","!","✗","○","—"),"—")} -> ○ | S36: {=IFERROR(CHOOSE(MATCH('📊 Training Matrix'!$AM$38,{"VALID","EXPIRING","EXPIRED","NOT TRAINED","N/A"},0),"✓","!","✗","○","—"),"—")} -> ○ | T36: {=IFERROR(CHOOSE(MATCH('📊 Training Matrix'!$AO$38,{"VALID","EXPIRING","EXPIRED","NOT TRAINED","N/A"},0),"✓","!","✗","○","—"),"—")} -> ○ | U36: {=IFERROR(CHOOSE(MATCH('📊 Training Matrix'!$AQ$38,{"VALID","EXPIRING","EXPIRED","NOT TRAINED","N/A"},0),"✓","!","✗","○","—"),"—")} -> ○ | V36: {=IFERROR(CHOOSE(MATCH('📊 Training Matrix'!$AS$38,{"VALID","EXPIRING","EXPIRED","NOT TRAINED","N/A"},0),"✓","!","✗","○","—"),"—")} -> ○ | W36: {=IFERROR(CHOOSE(MATCH('📊 Training Matrix'!$AU$38,{"VALID","EXPIRING","EXPIRED","NOT TRAINED","N/A"},0),"✓","!","✗","○","—"),"—")} -> ○ | X36: {=IFERROR(CHOOSE(MATCH('📊 Training Matrix'!$AW$38,{"VALID","EXPIRING","EXPIRED","NOT TRAINED","N/A"},0),"✓","!","✗","○","—"),"—")} -> ✗
A37: 🔶 Robert Taylor | B37: Subcontractor | C37: IT & Systems › SCADA Engineer | D37: ='📊 Training Matrix'!$I$39 -> 0.5 | E37: {=IFERROR(CHOOSE(MATCH('📊 Training Matrix'!$K$39,{"VALID","EXPIRING","EXPIRED","NOT TRAINED","N/A"},0),"✓","!","✗","○","—"),"—")} -> ✓ | F37: {=IFERROR(CHOOSE(MATCH('📊 Training Matrix'!$M$39,{"VALID","EXPIRING","EXPIRED","NOT TRAINED","N/A"},0),"✓","!","✗","○","—"),"—")} -> ○ | G37: {=IFERROR(CHOOSE(MATCH('📊 Training Matrix'!$O$39,{"VALID","EXPIRING","EXPIRED","NOT TRAINED","N/A"},0),"✓","!","✗","○","—"),"—")} -> ○ | H37: {=IFERROR(CHOOSE(MATCH('📊 Training Matrix'!$Q$39,{"VALID","EXPIRING","EXPIRED","NOT TRAINED","N/A"},0),"✓","!","✗","○","—"),"—")} -> ✓ | I37: {=IFERROR(CHOOSE(MATCH('📊 Training Matrix'!$S$39,{"VALID","EXPIRING","EXPIRED","NOT TRAINED","N/A"},0),"✓","!","✗","○","—"),"—")} -> ✗ | J37: {=IFERROR(CHOOSE(MATCH('📊 Training Matrix'!$U$39,{"VALID","EXPIRING","EXPIRED","NOT TRAINED","N/A"},0),"✓","!","✗","○","—"),"—")} -> ○ | K37: {=IFERROR(CHOOSE(MATCH('📊 Training Matrix'!$W$39,{"VALID","EXPIRING","EXPIRED","NOT TRAINED","N/A"},0),"✓","!","✗","○","—"),"—")} -> ○ | L37: {=IFERROR(CHOOSE(MATCH('📊 Training Matrix'!$Y$39,{"VALID","EXPIRING","EXPIRED","NOT TRAINED","N/A"},0),"✓","!","✗","○","—"),"—")} -> ○ | M37: {=IFERROR(CHOOSE(MATCH('📊 Training Matrix'!$AA$39,{"VALID","EXPIRING","EXPIRED","NOT TRAINED","N/A"},0),"✓","!","✗","○","—"),"—")} -> ○ | N37: {=IFERROR(CHOOSE(MATCH('📊 Training Matrix'!$AC$39,{"VALID","EXPIRING","EXPIRED","NOT TRAINED","N/A"},0),"✓","!","✗","○","—"),"—")} -> ○ | O37: {=IFERROR(CHOOSE(MATCH('📊 Training Matrix'!$AE$39,{"VALID","EXPIRING","EXPIRED","NOT TRAINED","N/A"},0),"✓","!","✗","○","—"),"—")} -> ○ | P37: {=IFERROR(CHOOSE(MATCH('📊 Training Matrix'!$AG$39,{"VALID","EXPIRING","EXPIRED","NOT TRAINED","N/A"},0),"✓","!","✗","○","—"),"—")} -> ○ | Q37: {=IFERROR(CHOOSE(MATCH('📊 Training Matrix'!$AI$39,{"VALID","EXPIRING","EXPIRED","NOT TRAINED","N/A"},0),"✓","!","✗","○","—"),"—")} -> ○ | R37: {=IFERROR(CHOOSE(MATCH('📊 Training Matrix'!$AK$39,{"VALID","EXPIRING","EXPIRED","NOT TRAINED","N/A"},0),"✓","!","✗","○","—"),"—")} -> ○ | S37: {=IFERROR(CHOOSE(MATCH('📊 Training Matrix'!$AM$39,{"VALID","EXPIRING","EXPIRED","NOT TRAINED","N/A"},0),"✓","!","✗","○","—"),"—")} -> ○ | T37: {=IFERROR(CHOOSE(MATCH('📊 Training Matrix'!$AO$39,{"VALID","EXPIRING","EXPIRED","NOT TRAINED","N/A"},0),"✓","!","✗","○","—"),"—")} -> ○ | U37: {=IFERROR(CHOOSE(MATCH('📊 Training Matrix'!$AQ$39,{"VALID","EXPIRING","EXPIRED","NOT TRAINED","N/A"},0),"✓","!","✗","○","—"),"—")} -> ○ | V37: {=IFERROR(CHOOSE(MATCH('📊 Training Matrix'!$AS$39,{"VALID","EXPIRING","EXPIRED","NOT TRAINED","N/A"},0),"✓","!","✗","○","—"),"—")} -> ○ | W37: {=IFERROR(CHOOSE(MATCH('📊 Training Matrix'!$AU$39,{"VALID","EXPIRING","EXPIRED","NOT TRAINED","N/A"},0),"✓","!","✗","○","—"),"—")} -> ○ | X37: {=IFERROR(CHOOSE(MATCH('📊 Training Matrix'!$AW$39,{"VALID","EXPIRING","EXPIRED","NOT TRAINED","N/A"},0),"✓","!","✗","○","—"),"—")} -> ✗
A38: 🔶 James Miller | B38: Subcontractor | C38: Plant & Vehicles › Crane Operator | D38: ='📊 Training Matrix'!$I$40 -> 0.16666667 | E38: {=IFERROR(CHOOSE(MATCH('📊 Training Matrix'!$K$40,{"VALID","EXPIRING","EXPIRED","NOT TRAINED","N/A"},0),"✓","!","✗","○","—"),"—")} -> ✗ | F38: {=IFERROR(CHOOSE(MATCH('📊 Training Matrix'!$M$40,{"VALID","EXPIRING","EXPIRED","NOT TRAINED","N/A"},0),"✓","!","✗","○","—"),"—")} -> ✓ | G38: {=IFERROR(CHOOSE(MATCH('📊 Training Matrix'!$O$40,{"VALID","EXPIRING","EXPIRED","NOT TRAINED","N/A"},0),"✓","!","✗","○","—"),"—")} -> ○ | H38: {=IFERROR(CHOOSE(MATCH('📊 Training Matrix'!$Q$40,{"VALID","EXPIRING","EXPIRED","NOT TRAINED","N/A"},0),"✓","!","✗","○","—"),"—")} -> ✗ | I38: {=IFERROR(CHOOSE(MATCH('📊 Training Matrix'!$S$40,{"VALID","EXPIRING","EXPIRED","NOT TRAINED","N/A"},0),"✓","!","✗","○","—"),"—")} -> ✗ | J38: {=IFERROR(CHOOSE(MATCH('📊 Training Matrix'!$U$40,{"VALID","EXPIRING","EXPIRED","NOT TRAINED","N/A"},0),"✓","!","✗","○","—"),"—")} -> ○ | K38: {=IFERROR(CHOOSE(MATCH('📊 Training Matrix'!$W$40,{"VALID","EXPIRING","EXPIRED","NOT TRAINED","N/A"},0),"✓","!","✗","○","—"),"—")} -> ○ | L38: {=IFERROR(CHOOSE(MATCH('📊 Training Matrix'!$Y$40,{"VALID","EXPIRING","EXPIRED","NOT TRAINED","N/A"},0),"✓","!","✗","○","—"),"—")} -> ○ | M38: {=IFERROR(CHOOSE(MATCH('📊 Training Matrix'!$AA$40,{"VALID","EXPIRING","EXPIRED","NOT TRAINED","N/A"},0),"✓","!","✗","○","—"),"—")} -> ○ | N38: {=IFERROR(CHOOSE(MATCH('📊 Training Matrix'!$AC$40,{"VALID","EXPIRING","EXPIRED","NOT TRAINED","N/A"},0),"✓","!","✗","○","—"),"—")} -> ○ | O38: {=IFERROR(CHOOSE(MATCH('📊 Training Matrix'!$AE$40,{"VALID","EXPIRING","EXPIRED","NOT TRAINED","N/A"},0),"✓","!","✗","○","—"),"—")} -> ○ | P38: {=IFERROR(CHOOSE(MATCH('📊 Training Matrix'!$AG$40,{"VALID","EXPIRING","EXPIRED","NOT TRAINED","N/A"},0),"✓","!","✗","○","—"),"—")} -> ○ | Q38: {=IFERROR(CHOOSE(MATCH('📊 Training Matrix'!$AI$40,{"VALID","EXPIRING","EXPIRED","NOT TRAINED","N/A"},0),"✓","!","✗","○","—"),"—")} -> ○ | R38: {=IFERROR(CHOOSE(MATCH('📊 Training Matrix'!$AK$40,{"VALID","EXPIRING","EXPIRED","NOT TRAINED","N/A"},0),"✓","!","✗","○","—"),"—")} -> ○ | S38: {=IFERROR(CHOOSE(MATCH('📊 Training Matrix'!$AM$40,{"VALID","EXPIRING","EXPIRED","NOT TRAINED","N/A"},0),"✓","!","✗","○","—"),"—")} -> ○ | T38: {=IFERROR(CHOOSE(MATCH('📊 Training Matrix'!$AO$40,{"VALID","EXPIRING","EXPIRED","NOT TRAINED","N/A"},0),"✓","!","✗","○","—"),"—")} -> ○ | U38: {=IFERROR(CHOOSE(MATCH('📊 Training Matrix'!$AQ$40,{"VALID","EXPIRING","EXPIRED","NOT TRAINED","N/A"},0),"✓","!","✗","○","—"),"—")} -> ✗ | V38: {=IFERROR(CHOOSE(MATCH('📊 Training Matrix'!$AS$40,{"VALID","EXPIRING","EXPIRED","NOT TRAINED","N/A"},0),"✓","!","✗","○","—"),"—")} -> ○ | W38: {=IFERROR(CHOOSE(MATCH('📊 Training Matrix'!$AU$40,{"VALID","EXPIRING","EXPIRED","NOT TRAINED","N/A"},0),"✓","!","✗","○","—"),"—")} -> ○ | X38: {=IFERROR(CHOOSE(MATCH('📊 Training Matrix'!$AW$40,{"VALID","EXPIRING","EXPIRED","NOT TRAINED","N/A"},0),"✓","!","✗","○","—"),"—")} -> ✗
A39: Claire Collins | B39: Employee | C39: Plant & Vehicles › Transport Manager | D39: ='📊 Training Matrix'!$I$41 -> 0.33333333 | E39: {=IFERROR(CHOOSE(MATCH('📊 Training Matrix'!$K$41,{"VALID","EXPIRING","EXPIRED","NOT TRAINED","N/A"},0),"✓","!","✗","○","—"),"—")} -> ✗ | F39: {=IFERROR(CHOOSE(MATCH('📊 Training Matrix'!$M$41,{"VALID","EXPIRING","EXPIRED","NOT TRAINED","N/A"},0),"✓","!","✗","○","—"),"—")} -> ○ | G39: {=IFERROR(CHOOSE(MATCH('📊 Training Matrix'!$O$41,{"VALID","EXPIRING","EXPIRED","NOT TRAINED","N/A"},0),"✓","!","✗","○","—"),"—")} -> ○ | H39: {=IFERROR(CHOOSE(MATCH('📊 Training Matrix'!$Q$41,{"VALID","EXPIRING","EXPIRED","NOT TRAINED","N/A"},0),"✓","!","✗","○","—"),"—")} -> ✗ | I39: {=IFERROR(CHOOSE(MATCH('📊 Training Matrix'!$S$41,{"VALID","EXPIRING","EXPIRED","NOT TRAINED","N/A"},0),"✓","!","✗","○","—"),"—")} -> ✓ | J39: {=IFERROR(CHOOSE(MATCH('📊 Training Matrix'!$U$41,{"VALID","EXPIRING","EXPIRED","NOT TRAINED","N/A"},0),"✓","!","✗","○","—"),"—")} -> ○ | K39: {=IFERROR(CHOOSE(MATCH('📊 Training Matrix'!$W$41,{"VALID","EXPIRING","EXPIRED","NOT TRAINED","N/A"},0),"✓","!","✗","○","—"),"—")} -> ○ | L39: {=IFERROR(CHOOSE(MATCH('📊 Training Matrix'!$Y$41,{"VALID","EXPIRING","EXPIRED","NOT TRAINED","N/A"},0),"✓","!","✗","○","—"),"—")} -> ○ | M39: {=IFERROR(CHOOSE(MATCH('📊 Training Matrix'!$AA$41,{"VALID","EXPIRING","EXPIRED","NOT TRAINED","N/A"},0),"✓","!","✗","○","—"),"—")} -> ○ | N39: {=IFERROR(CHOOSE(MATCH('📊 Training Matrix'!$AC$41,{"VALID","EXPIRING","EXPIRED","NOT TRAINED","N/A"},0),"✓","!","✗","○","—"),"—")} -> ○ | O39: {=IFERROR(CHOOSE(MATCH('📊 Training Matrix'!$AE$41,{"VALID","EXPIRING","EXPIRED","NOT TRAINED","N/A"},0),"✓","!","✗","○","—"),"—")} -> ○ | P39: {=IFERROR(CHOOSE(MATCH('📊 Training Matrix'!$AG$41,{"VALID","EXPIRING","EXPIRED","NOT TRAINED","N/A"},0),"✓","!","✗","○","—"),"—")} -> ○ | Q39: {=IFERROR(CHOOSE(MATCH('📊 Training Matrix'!$AI$41,{"VALID","EXPIRING","EXPIRED","NOT TRAINED","N/A"},0),"✓","!","✗","○","—"),"—")} -> ○ | R39: {=IFERROR(CHOOSE(MATCH('📊 Training Matrix'!$AK$41,{"VALID","EXPIRING","EXPIRED","NOT TRAINED","N/A"},0),"✓","!","✗","○","—"),"—")} -> ○ | S39: {=IFERROR(CHOOSE(MATCH('📊 Training Matrix'!$AM$41,{"VALID","EXPIRING","EXPIRED","NOT TRAINED","N/A"},0),"✓","!","✗","○","—"),"—")} -> ○ | T39: {=IFERROR(CHOOSE(MATCH('📊 Training Matrix'!$AO$41,{"VALID","EXPIRING","EXPIRED","NOT TRAINED","N/A"},0),"✓","!","✗","○","—"),"—")} -> ○ | U39: {=IFERROR(CHOOSE(MATCH('📊 Training Matrix'!$AQ$41,{"VALID","EXPIRING","EXPIRED","NOT TRAINED","N/A"},0),"✓","!","✗","○","—"),"—")} -> ○ | V39: {=IFERROR(CHOOSE(MATCH('📊 Training Matrix'!$AS$41,{"VALID","EXPIRING","EXPIRED","NOT TRAINED","N/A"},0),"✓","!","✗","○","—"),"—")} -> ○ | W39: {=IFERROR(CHOOSE(MATCH('📊 Training Matrix'!$AU$41,{"VALID","EXPIRING","EXPIRED","NOT TRAINED","N/A"},0),"✓","!","✗","○","—"),"—")} -> ○ | X39: {=IFERROR(CHOOSE(MATCH('📊 Training Matrix'!$AW$41,{"VALID","EXPIRING","EXPIRED","NOT TRAINED","N/A"},0),"✓","!","✗","○","—"),"—")} -> ○
A40: Wendy Roberts | B40: Employee | C40: IT & Systems › SCADA Engineer | D40: ='📊 Training Matrix'!$I$42 -> 0.5 | E40: {=IFERROR(CHOOSE(MATCH('📊 Training Matrix'!$K$42,{"VALID","EXPIRING","EXPIRED","NOT TRAINED","N/A"},0),"✓","!","✗","○","—"),"—")} -> ✓ | F40: {=IFERROR(CHOOSE(MATCH('📊 Training Matrix'!$M$42,{"VALID","EXPIRING","EXPIRED","NOT TRAINED","N/A"},0),"✓","!","✗","○","—"),"—")} -> ○ | G40: {=IFERROR(CHOOSE(MATCH('📊 Training Matrix'!$O$42,{"VALID","EXPIRING","EXPIRED","NOT TRAINED","N/A"},0),"✓","!","✗","○","—"),"—")} -> ○ | H40: {=IFERROR(CHOOSE(MATCH('📊 Training Matrix'!$Q$42,{"VALID","EXPIRING","EXPIRED","NOT TRAINED","N/A"},0),"✓","!","✗","○","—"),"—")} -> ✓ | I40: {=IFERROR(CHOOSE(MATCH('📊 Training Matrix'!$S$42,{"VALID","EXPIRING","EXPIRED","NOT TRAINED","N/A"},0),"✓","!","✗","○","—"),"—")} -> ✗ | J40: {=IFERROR(CHOOSE(MATCH('📊 Training Matrix'!$U$42,{"VALID","EXPIRING","EXPIRED","NOT TRAINED","N/A"},0),"✓","!","✗","○","—"),"—")} -> ○ | K40: {=IFERROR(CHOOSE(MATCH('📊 Training Matrix'!$W$42,{"VALID","EXPIRING","EXPIRED","NOT TRAINED","N/A"},0),"✓","!","✗","○","—"),"—")} -> ○ | L40: {=IFERROR(CHOOSE(MATCH('📊 Training Matrix'!$Y$42,{"VALID","EXPIRING","EXPIRED","NOT TRAINED","N/A"},0),"✓","!","✗","○","—"),"—")} -> ○ | M40: {=IFERROR(CHOOSE(MATCH('📊 Training Matrix'!$AA$42,{"VALID","EXPIRING","EXPIRED","NOT TRAINED","N/A"},0),"✓","!","✗","○","—"),"—")} -> ○ | N40: {=IFERROR(CHOOSE(MATCH('📊 Training Matrix'!$AC$42,{"VALID","EXPIRING","EXPIRED","NOT TRAINED","N/A"},0),"✓","!","✗","○","—"),"—")} -> ○ | O40: {=IFERROR(CHOOSE(MATCH('📊 Training Matrix'!$AE$42,{"VALID","EXPIRING","EXPIRED","NOT TRAINED","N/A"},0),"✓","!","✗","○","—"),"—")} -> ○ | P40: {=IFERROR(CHOOSE(MATCH('📊 Training Matrix'!$AG$42,{"VALID","EXPIRING","EXPIRED","NOT TRAINED","N/A"},0),"✓","!","✗","○","—"),"—")} -> ○ | Q40: {=IFERROR(CHOOSE(MATCH('📊 Training Matrix'!$AI$42,{"VALID","EXPIRING","EXPIRED","NOT TRAINED","N/A"},0),"✓","!","✗","○","—"),"—")} -> ○ | R40: {=IFERROR(CHOOSE(MATCH('📊 Training Matrix'!$AK$42,{"VALID","EXPIRING","EXPIRED","NOT TRAINED","N/A"},0),"✓","!","✗","○","—"),"—")} -> ○ | S40: {=IFERROR(CHOOSE(MATCH('📊 Training Matrix'!$AM$42,{"VALID","EXPIRING","EXPIRED","NOT TRAINED","N/A"},0),"✓","!","✗","○","—"),"—")} -> ○ | T40: {=IFERROR(CHOOSE(MATCH('📊 Training Matrix'!$AO$42,{"VALID","EXPIRING","EXPIRED","NOT TRAINED","N/A"},0),"✓","!","✗","○","—"),"—")} -> ○ | U40: {=IFERROR(CHOOSE(MATCH('📊 Training Matrix'!$AQ$42,{"VALID","EXPIRING","EXPIRED","NOT TRAINED","N/A"},0),"✓","!","✗","○","—"),"—")} -> ○ | V40: {=IFERROR(CHOOSE(MATCH('📊 Training Matrix'!$AS$42,{"VALID","EXPIRING","EXPIRED","NOT TRAINED","N/A"},0),"✓","!","✗","○","—"),"—")} -> ○ | W40: {=IFERROR(CHOOSE(MATCH('📊 Training Matrix'!$AU$42,{"VALID","EXPIRING","EXPIRED","NOT TRAINED","N/A"},0),"✓","!","✗","○","—"),"—")} -> ○ | X40: {=IFERROR(CHOOSE(MATCH('📊 Training Matrix'!$AW$42,{"VALID","EXPIRING","EXPIRED","NOT TRAINED","N/A"},0),"✓","!","✗","○","—"),"—")} -> ✗
A41: 🔶 Zara Harris | B41: Subcontractor | C41: Water Services › Meter Operator | D41: ='📊 Training Matrix'!$I$43 -> 0.4 | E41: {=IFERROR(CHOOSE(MATCH('📊 Training Matrix'!$K$43,{"VALID","EXPIRING","EXPIRED","NOT TRAINED","N/A"},0),"✓","!","✗","○","—"),"—")} -> ✓ | F41: {=IFERROR(CHOOSE(MATCH('📊 Training Matrix'!$M$43,{"VALID","EXPIRING","EXPIRED","NOT TRAINED","N/A"},0),"✓","!","✗","○","—"),"—")} -> ✓ | G41: {=IFERROR(CHOOSE(MATCH('📊 Training Matrix'!$O$43,{"VALID","EXPIRING","EXPIRED","NOT TRAINED","N/A"},0),"✓","!","✗","○","—"),"—")} -> ○ | H41: {=IFERROR(CHOOSE(MATCH('📊 Training Matrix'!$Q$43,{"VALID","EXPIRING","EXPIRED","NOT TRAINED","N/A"},0),"✓","!","✗","○","—"),"—")} -> ✗ | I41: {=IFERROR(CHOOSE(MATCH('📊 Training Matrix'!$S$43,{"VALID","EXPIRING","EXPIRED","NOT TRAINED","N/A"},0),"✓","!","✗","○","—"),"—")} -> ✗ | J41: {=IFERROR(CHOOSE(MATCH('📊 Training Matrix'!$U$43,{"VALID","EXPIRING","EXPIRED","NOT TRAINED","N/A"},0),"✓","!","✗","○","—"),"—")} -> ○ | K41: {=IFERROR(CHOOSE(MATCH('📊 Training Matrix'!$W$43,{"VALID","EXPIRING","EXPIRED","NOT TRAINED","N/A"},0),"✓","!","✗","○","—"),"—")} -> ○ | L41: {=IFERROR(CHOOSE(MATCH('📊 Training Matrix'!$Y$43,{"VALID","EXPIRING","EXPIRED","NOT TRAINED","N/A"},0),"✓","!","✗","○","—"),"—")} -> ○ | M41: {=IFERROR(CHOOSE(MATCH('📊 Training Matrix'!$AA$43,{"VALID","EXPIRING","EXPIRED","NOT TRAINED","N/A"},0),"✓","!","✗","○","—"),"—")} -> ○ | N41: {=IFERROR(CHOOSE(MATCH('📊 Training Matrix'!$AC$43,{"VALID","EXPIRING","EXPIRED","NOT TRAINED","N/A"},0),"✓","!","✗","○","—"),"—")} -> ○ | O41: {=IFERROR(CHOOSE(MATCH('📊 Training Matrix'!$AE$43,{"VALID","EXPIRING","EXPIRED","NOT TRAINED","N/A"},0),"✓","!","✗","○","—"),"—")} -> ○ | P41: {=IFERROR(CHOOSE(MATCH('📊 Training Matrix'!$AG$43,{"VALID","EXPIRING","EXPIRED","NOT TRAINED","N/A"},0),"✓","!","✗","○","—"),"—")} -> ○ | Q41: {=IFERROR(CHOOSE(MATCH('📊 Training Matrix'!$AI$43,{"VALID","EXPIRING","EXPIRED","NOT TRAINED","N/A"},0),"✓","!","✗","○","—"),"—")} -> ○ | R41: {=IFERROR(CHOOSE(MATCH('📊 Training Matrix'!$AK$43,{"VALID","EXPIRING","EXPIRED","NOT TRAINED","N/A"},0),"✓","!","✗","○","—"),"—")} -> ○ | S41: {=IFERROR(CHOOSE(MATCH('📊 Training Matrix'!$AM$43,{"VALID","EXPIRING","EXPIRED","NOT TRAINED","N/A"},0),"✓","!","✗","○","—"),"—")} -> ○ | T41: {=IFERROR(CHOOSE(MATCH('📊 Training Matrix'!$AO$43,{"VALID","EXPIRING","EXPIRED","NOT TRAINED","N/A"},0),"✓","!","✗","○","—"),"—")} -> ○ | U41: {=IFERROR(CHOOSE(MATCH('📊 Training Matrix'!$AQ$43,{"VALID","EXPIRING","EXPIRED","NOT TRAINED","N/A"},0),"✓","!","✗","○","—"),"—")} -> ○ | V41: {=IFERROR(CHOOSE(MATCH('📊 Training Matrix'!$AS$43,{"VALID","EXPIRING","EXPIRED","NOT TRAINED","N/A"},0),"✓","!","✗","○","—"),"—")} -> ○ | W41: {=IFERROR(CHOOSE(MATCH('📊 Training Matrix'!$AU$43,{"VALID","EXPIRING","EXPIRED","NOT TRAINED","N/A"},0),"✓","!","✗","○","—"),"—")} -> ○ | X41: {=IFERROR(CHOOSE(MATCH('📊 Training Matrix'!$AW$43,{"VALID","EXPIRING","EXPIRED","NOT TRAINED","N/A"},0),"✓","!","✗","○","—"),"—")} -> ✗
A42: Diane Johnson | B42: Employee | C42: Electrical › Electrical Inspector | D42: ='📊 Training Matrix'!$I$44 -> 0.6 | E42: {=IFERROR(CHOOSE(MATCH('📊 Training Matrix'!$K$44,{"VALID","EXPIRING","EXPIRED","NOT TRAINED","N/A"},0),"✓","!","✗","○","—"),"—")} -> ✓ | F42: {=IFERROR(CHOOSE(MATCH('📊 Training Matrix'!$M$44,{"VALID","EXPIRING","EXPIRED","NOT TRAINED","N/A"},0),"✓","!","✗","○","—"),"—")} -> ! | G42: {=IFERROR(CHOOSE(MATCH('📊 Training Matrix'!$O$44,{"VALID","EXPIRING","EXPIRED","NOT TRAINED","N/A"},0),"✓","!","✗","○","—"),"—")} -> ○ | H42: {=IFERROR(CHOOSE(MATCH('📊 Training Matrix'!$Q$44,{"VALID","EXPIRING","EXPIRED","NOT TRAINED","N/A"},0),"✓","!","✗","○","—"),"—")} -> ✗ | I42: {=IFERROR(CHOOSE(MATCH('📊 Training Matrix'!$S$44,{"VALID","EXPIRING","EXPIRED","NOT TRAINED","N/A"},0),"✓","!","✗","○","—"),"—")} -> ○ | J42: {=IFERROR(CHOOSE(MATCH('📊 Training Matrix'!$U$44,{"VALID","EXPIRING","EXPIRED","NOT TRAINED","N/A"},0),"✓","!","✗","○","—"),"—")} -> ✓ | K42: {=IFERROR(CHOOSE(MATCH('📊 Training Matrix'!$W$44,{"VALID","EXPIRING","EXPIRED","NOT TRAINED","N/A"},0),"✓","!","✗","○","—"),"—")} -> ○ | L42: {=IFERROR(CHOOSE(MATCH('📊 Training Matrix'!$Y$44,{"VALID","EXPIRING","EXPIRED","NOT TRAINED","N/A"},0),"✓","!","✗","○","—"),"—")} -> ○ | M42: {=IFERROR(CHOOSE(MATCH('📊 Training Matrix'!$AA$44,{"VALID","EXPIRING","EXPIRED","NOT TRAINED","N/A"},0),"✓","!","✗","○","—"),"—")} -> ○ | N42: {=IFERROR(CHOOSE(MATCH('📊 Training Matrix'!$AC$44,{"VALID","EXPIRING","EXPIRED","NOT TRAINED","N/A"},0),"✓","!","✗","○","—"),"—")} -> ○ | O42: {=IFERROR(CHOOSE(MATCH('📊 Training Matrix'!$AE$44,{"VALID","EXPIRING","EXPIRED","NOT TRAINED","N/A"},0),"✓","!","✗","○","—"),"—")} -> ○ | P42: {=IFERROR(CHOOSE(MATCH('📊 Training Matrix'!$AG$44,{"VALID","EXPIRING","EXPIRED","NOT TRAINED","N/A"},0),"✓","!","✗","○","—"),"—")} -> ○ | Q42: {=IFERROR(CHOOSE(MATCH('📊 Training Matrix'!$AI$44,{"VALID","EXPIRING","EXPIRED","NOT TRAINED","N/A"},0),"✓","!","✗","○","—"),"—")} -> ○ | R42: {=IFERROR(CHOOSE(MATCH('📊 Training Matrix'!$AK$44,{"VALID","EXPIRING","EXPIRED","NOT TRAINED","N/A"},0),"✓","!","✗","○","—"),"—")} -> ○ | S42: {=IFERROR(CHOOSE(MATCH('📊 Training Matrix'!$AM$44,{"VALID","EXPIRING","EXPIRED","NOT TRAINED","N/A"},0),"✓","!","✗","○","—"),"—")} -> ○ | T42: {=IFERROR(CHOOSE(MATCH('📊 Training Matrix'!$AO$44,{"VALID","EXPIRING","EXPIRED","NOT TRAINED","N/A"},0),"✓","!","✗","○","—"),"—")} -> ○ | U42: {=IFERROR(CHOOSE(MATCH('📊 Training Matrix'!$AQ$44,{"VALID","EXPIRING","EXPIRED","NOT TRAINED","N/A"},0),"✓","!","✗","○","—"),"—")} -> ○ | V42: {=IFERROR(CHOOSE(MATCH('📊 Training Matrix'!$AS$44,{"VALID","EXPIRING","EXPIRED","NOT TRAINED","N/A"},0),"✓","!","✗","○","—"),"—")} -> ○ | W42: {=IFERROR(CHOOSE(MATCH('📊 Training Matrix'!$AU$44,{"VALID","EXPIRING","EXPIRED","NOT TRAINED","N/A"},0),"✓","!","✗","○","—"),"—")} -> ○ | X42: {=IFERROR(CHOOSE(MATCH('📊 Training Matrix'!$AW$44,{"VALID","EXPIRING","EXPIRED","NOT TRAINED","N/A"},0),"✓","!","✗","○","—"),"—")} -> ✓
A43: Frank Harris | B43: Employee | C43: HSEQ › Environmental Coordinator | D43: ='📊 Training Matrix'!$I$45 -> 1 | E43: {=IFERROR(CHOOSE(MATCH('📊 Training Matrix'!$K$45,{"VALID","EXPIRING","EXPIRED","NOT TRAINED","N/A"},0),"✓","!","✗","○","—"),"—")} -> ✓ | F43: {=IFERROR(CHOOSE(MATCH('📊 Training Matrix'!$M$45,{"VALID","EXPIRING","EXPIRED","NOT TRAINED","N/A"},0),"✓","!","✗","○","—"),"—")} -> ○ | G43: {=IFERROR(CHOOSE(MATCH('📊 Training Matrix'!$O$45,{"VALID","EXPIRING","EXPIRED","NOT TRAINED","N/A"},0),"✓","!","✗","○","—"),"—")} -> ○ | H43: {=IFERROR(CHOOSE(MATCH('📊 Training Matrix'!$Q$45,{"VALID","EXPIRING","EXPIRED","NOT TRAINED","N/A"},0),"✓","!","✗","○","—"),"—")} -> ✓ | I43: {=IFERROR(CHOOSE(MATCH('📊 Training Matrix'!$S$45,{"VALID","EXPIRING","EXPIRED","NOT TRAINED","N/A"},0),"✓","!","✗","○","—"),"—")} -> ✓ | J43: {=IFERROR(CHOOSE(MATCH('📊 Training Matrix'!$U$45,{"VALID","EXPIRING","EXPIRED","NOT TRAINED","N/A"},0),"✓","!","✗","○","—"),"—")} -> ○ | K43: {=IFERROR(CHOOSE(MATCH('📊 Training Matrix'!$W$45,{"VALID","EXPIRING","EXPIRED","NOT TRAINED","N/A"},0),"✓","!","✗","○","—"),"—")} -> ○ | L43: {=IFERROR(CHOOSE(MATCH('📊 Training Matrix'!$Y$45,{"VALID","EXPIRING","EXPIRED","NOT TRAINED","N/A"},0),"✓","!","✗","○","—"),"—")} -> ○ | M43: {=IFERROR(CHOOSE(MATCH('📊 Training Matrix'!$AA$45,{"VALID","EXPIRING","EXPIRED","NOT TRAINED","N/A"},0),"✓","!","✗","○","—"),"—")} -> ○ | N43: {=IFERROR(CHOOSE(MATCH('📊 Training Matrix'!$AC$45,{"VALID","EXPIRING","EXPIRED","NOT TRAINED","N/A"},0),"✓","!","✗","○","—"),"—")} -> ○ | O43: {=IFERROR(CHOOSE(MATCH('📊 Training Matrix'!$AE$45,{"VALID","EXPIRING","EXPIRED","NOT TRAINED","N/A"},0),"✓","!","✗","○","—"),"—")} -> ○ | P43: {=IFERROR(CHOOSE(MATCH('📊 Training Matrix'!$AG$45,{"VALID","EXPIRING","EXPIRED","NOT TRAINED","N/A"},0),"✓","!","✗","○","—"),"—")} -> ○ | Q43: {=IFERROR(CHOOSE(MATCH('📊 Training Matrix'!$AI$45,{"VALID","EXPIRING","EXPIRED","NOT TRAINED","N/A"},0),"✓","!","✗","○","—"),"—")} -> ○ | R43: {=IFERROR(CHOOSE(MATCH('📊 Training Matrix'!$AK$45,{"VALID","EXPIRING","EXPIRED","NOT TRAINED","N/A"},0),"✓","!","✗","○","—"),"—")} -> ○ | S43: {=IFERROR(CHOOSE(MATCH('📊 Training Matrix'!$AM$45,{"VALID","EXPIRING","EXPIRED","NOT TRAINED","N/A"},0),"✓","!","✗","○","—"),"—")} -> ○ | T43: {=IFERROR(CHOOSE(MATCH('📊 Training Matrix'!$AO$45,{"VALID","EXPIRING","EXPIRED","NOT TRAINED","N/A"},0),"✓","!","✗","○","—"),"—")} -> ○ | U43: {=IFERROR(CHOOSE(MATCH('📊 Training Matrix'!$AQ$45,{"VALID","EXPIRING","EXPIRED","NOT TRAINED","N/A"},0),"✓","!","✗","○","—"),"—")} -> ○ | V43: {=IFERROR(CHOOSE(MATCH('📊 Training Matrix'!$AS$45,{"VALID","EXPIRING","EXPIRED","NOT TRAINED","N/A"},0),"✓","!","✗","○","—"),"—")} -> ○ | W43: {=IFERROR(CHOOSE(MATCH('📊 Training Matrix'!$AU$45,{"VALID","EXPIRING","EXPIRED","NOT TRAINED","N/A"},0),"✓","!","✗","○","—"),"—")} -> ○ | X43: {=IFERROR(CHOOSE(MATCH('📊 Training Matrix'!$AW$45,{"VALID","EXPIRING","EXPIRED","NOT TRAINED","N/A"},0),"✓","!","✗","○","—"),"—")} -> ✓
A44: Karen Campbell | B44: Employee | C44: Civil Works › Plant Operator | D44: ='📊 Training Matrix'!$I$46 -> 0.2 | E44: {=IFERROR(CHOOSE(MATCH('📊 Training Matrix'!$K$46,{"VALID","EXPIRING","EXPIRED","NOT TRAINED","N/A"},0),"✓","!","✗","○","—"),"—")} -> ✗ | F44: {=IFERROR(CHOOSE(MATCH('📊 Training Matrix'!$M$46,{"VALID","EXPIRING","EXPIRED","NOT TRAINED","N/A"},0),"✓","!","✗","○","—"),"—")} -> ✗ | G44: {=IFERROR(CHOOSE(MATCH('📊 Training Matrix'!$O$46,{"VALID","EXPIRING","EXPIRED","NOT TRAINED","N/A"},0),"✓","!","✗","○","—"),"—")} -> ○ | H44: {=IFERROR(CHOOSE(MATCH('📊 Training Matrix'!$Q$46,{"VALID","EXPIRING","EXPIRED","NOT TRAINED","N/A"},0),"✓","!","✗","○","—"),"—")} -> ! | I44: {=IFERROR(CHOOSE(MATCH('📊 Training Matrix'!$S$46,{"VALID","EXPIRING","EXPIRED","NOT TRAINED","N/A"},0),"✓","!","✗","○","—"),"—")} -> ✓ | J44: {=IFERROR(CHOOSE(MATCH('📊 Training Matrix'!$U$46,{"VALID","EXPIRING","EXPIRED","NOT TRAINED","N/A"},0),"✓","!","✗","○","—"),"—")} -> ○ | K44: {=IFERROR(CHOOSE(MATCH('📊 Training Matrix'!$W$46,{"VALID","EXPIRING","EXPIRED","NOT TRAINED","N/A"},0),"✓","!","✗","○","—"),"—")} -> ○ | L44: {=IFERROR(CHOOSE(MATCH('📊 Training Matrix'!$Y$46,{"VALID","EXPIRING","EXPIRED","NOT TRAINED","N/A"},0),"✓","!","✗","○","—"),"—")} -> ○ | M44: {=IFERROR(CHOOSE(MATCH('📊 Training Matrix'!$AA$46,{"VALID","EXPIRING","EXPIRED","NOT TRAINED","N/A"},0),"✓","!","✗","○","—"),"—")} -> ○ | N44: {=IFERROR(CHOOSE(MATCH('📊 Training Matrix'!$AC$46,{"VALID","EXPIRING","EXPIRED","NOT TRAINED","N/A"},0),"✓","!","✗","○","—"),"—")} -> ○ | O44: {=IFERROR(CHOOSE(MATCH('📊 Training Matrix'!$AE$46,{"VALID","EXPIRING","EXPIRED","NOT TRAINED","N/A"},0),"✓","!","✗","○","—"),"—")} -> ○ | P44: {=IFERROR(CHOOSE(MATCH('📊 Training Matrix'!$AG$46,{"VALID","EXPIRING","EXPIRED","NOT TRAINED","N/A"},0),"✓","!","✗","○","—"),"—")} -> ○ | Q44: {=IFERROR(CHOOSE(MATCH('📊 Training Matrix'!$AI$46,{"VALID","EXPIRING","EXPIRED","NOT TRAINED","N/A"},0),"✓","!","✗","○","—"),"—")} -> ○ | R44: {=IFERROR(CHOOSE(MATCH('📊 Training Matrix'!$AK$46,{"VALID","EXPIRING","EXPIRED","NOT TRAINED","N/A"},0),"✓","!","✗","○","—"),"—")} -> ○ | S44: {=IFERROR(CHOOSE(MATCH('📊 Training Matrix'!$AM$46,{"VALID","EXPIRING","EXPIRED","NOT TRAINED","N/A"},0),"✓","!","✗","○","—"),"—")} -> ○ | T44: {=IFERROR(CHOOSE(MATCH('📊 Training Matrix'!$AO$46,{"VALID","EXPIRING","EXPIRED","NOT TRAINED","N/A"},0),"✓","!","✗","○","—"),"—")} -> ○ | U44: {=IFERROR(CHOOSE(MATCH('📊 Training Matrix'!$AQ$46,{"VALID","EXPIRING","EXPIRED","NOT TRAINED","N/A"},0),"✓","!","✗","○","—"),"—")} -> ○ | V44: {=IFERROR(CHOOSE(MATCH('📊 Training Matrix'!$AS$46,{"VALID","EXPIRING","EXPIRED","NOT TRAINED","N/A"},0),"✓","!","✗","○","—"),"—")} -> ○ | W44: {=IFERROR(CHOOSE(MATCH('📊 Training Matrix'!$AU$46,{"VALID","EXPIRING","EXPIRED","NOT TRAINED","N/A"},0),"✓","!","✗","○","—"),"—")} -> ○ | X44: {=IFERROR(CHOOSE(MATCH('📊 Training Matrix'!$AW$46,{"VALID","EXPIRING","EXPIRED","NOT TRAINED","N/A"},0),"✓","!","✗","○","—"),"—")} -> ✗
A45: Nadia Hall | B45: Employee | C45: Project Management › Project Coordinator | D45: ='📊 Training Matrix'!$I$47 -> 0.5 | E45: {=IFERROR(CHOOSE(MATCH('📊 Training Matrix'!$K$47,{"VALID","EXPIRING","EXPIRED","NOT TRAINED","N/A"},0),"✓","!","✗","○","—"),"—")} -> ✓ | F45: {=IFERROR(CHOOSE(MATCH('📊 Training Matrix'!$M$47,{"VALID","EXPIRING","EXPIRED","NOT TRAINED","N/A"},0),"✓","!","✗","○","—"),"—")} -> ○ | G45: {=IFERROR(CHOOSE(MATCH('📊 Training Matrix'!$O$47,{"VALID","EXPIRING","EXPIRED","NOT TRAINED","N/A"},0),"✓","!","✗","○","—"),"—")} -> ○ | H45: {=IFERROR(CHOOSE(MATCH('📊 Training Matrix'!$Q$47,{"VALID","EXPIRING","EXPIRED","NOT TRAINED","N/A"},0),"✓","!","✗","○","—"),"—")} -> ✗ | I45: {=IFERROR(CHOOSE(MATCH('📊 Training Matrix'!$S$47,{"VALID","EXPIRING","EXPIRED","NOT TRAINED","N/A"},0),"✓","!","✗","○","—"),"—")} -> ✗ | J45: {=IFERROR(CHOOSE(MATCH('📊 Training Matrix'!$U$47,{"VALID","EXPIRING","EXPIRED","NOT TRAINED","N/A"},0),"✓","!","✗","○","—"),"—")} -> ○ | K45: {=IFERROR(CHOOSE(MATCH('📊 Training Matrix'!$W$47,{"VALID","EXPIRING","EXPIRED","NOT TRAINED","N/A"},0),"✓","!","✗","○","—"),"—")} -> ○ | L45: {=IFERROR(CHOOSE(MATCH('📊 Training Matrix'!$Y$47,{"VALID","EXPIRING","EXPIRED","NOT TRAINED","N/A"},0),"✓","!","✗","○","—"),"—")} -> ○ | M45: {=IFERROR(CHOOSE(MATCH('📊 Training Matrix'!$AA$47,{"VALID","EXPIRING","EXPIRED","NOT TRAINED","N/A"},0),"✓","!","✗","○","—"),"—")} -> ○ | N45: {=IFERROR(CHOOSE(MATCH('📊 Training Matrix'!$AC$47,{"VALID","EXPIRING","EXPIRED","NOT TRAINED","N/A"},0),"✓","!","✗","○","—"),"—")} -> ○ | O45: {=IFERROR(CHOOSE(MATCH('📊 Training Matrix'!$AE$47,{"VALID","EXPIRING","EXPIRED","NOT TRAINED","N/A"},0),"✓","!","✗","○","—"),"—")} -> ○ | P45: {=IFERROR(CHOOSE(MATCH('📊 Training Matrix'!$AG$47,{"VALID","EXPIRING","EXPIRED","NOT TRAINED","N/A"},0),"✓","!","✗","○","—"),"—")} -> ○ | Q45: {=IFERROR(CHOOSE(MATCH('📊 Training Matrix'!$AI$47,{"VALID","EXPIRING","EXPIRED","NOT TRAINED","N/A"},0),"✓","!","✗","○","—"),"—")} -> ○ | R45: {=IFERROR(CHOOSE(MATCH('📊 Training Matrix'!$AK$47,{"VALID","EXPIRING","EXPIRED","NOT TRAINED","N/A"},0),"✓","!","✗","○","—"),"—")} -> ○ | S45: {=IFERROR(CHOOSE(MATCH('📊 Training Matrix'!$AM$47,{"VALID","EXPIRING","EXPIRED","NOT TRAINED","N/A"},0),"✓","!","✗","○","—"),"—")} -> ○ | T45: {=IFERROR(CHOOSE(MATCH('📊 Training Matrix'!$AO$47,{"VALID","EXPIRING","EXPIRED","NOT TRAINED","N/A"},0),"✓","!","✗","○","—"),"—")} -> ○ | U45: {=IFERROR(CHOOSE(MATCH('📊 Training Matrix'!$AQ$47,{"VALID","EXPIRING","EXPIRED","NOT TRAINED","N/A"},0),"✓","!","✗","○","—"),"—")} -> ○ | V45: {=IFERROR(CHOOSE(MATCH('📊 Training Matrix'!$AS$47,{"VALID","EXPIRING","EXPIRED","NOT TRAINED","N/A"},0),"✓","!","✗","○","—"),"—")} -> ○ | W45: {=IFERROR(CHOOSE(MATCH('📊 Training Matrix'!$AU$47,{"VALID","EXPIRING","EXPIRED","NOT TRAINED","N/A"},0),"✓","!","✗","○","—"),"—")} -> ○ | X45: {=IFERROR(CHOOSE(MATCH('📊 Training Matrix'!$AW$47,{"VALID","EXPIRING","EXPIRED","NOT TRAINED","N/A"},0),"✓","!","✗","○","—"),"—")} -> ✓
A46: Ahmed Johnson | B46: Employee | C46: Water Services › Water Services Engineer | D46: ='📊 Training Matrix'!$I$48 -> 0.8 | E46: {=IFERROR(CHOOSE(MATCH('📊 Training Matrix'!$K$48,{"VALID","EXPIRING","EXPIRED","NOT TRAINED","N/A"},0),"✓","!","✗","○","—"),"—")} -> ✓ | F46: {=IFERROR(CHOOSE(MATCH('📊 Training Matrix'!$M$48,{"VALID","EXPIRING","EXPIRED","NOT TRAINED","N/A"},0),"✓","!","✗","○","—"),"—")} -> ○ | G46: {=IFERROR(CHOOSE(MATCH('📊 Training Matrix'!$O$48,{"VALID","EXPIRING","EXPIRED","NOT TRAINED","N/A"},0),"✓","!","✗","○","—"),"—")} -> ○ | H46: {=IFERROR(CHOOSE(MATCH('📊 Training Matrix'!$Q$48,{"VALID","EXPIRING","EXPIRED","NOT TRAINED","N/A"},0),"✓","!","✗","○","—"),"—")} -> ✓ | I46: {=IFERROR(CHOOSE(MATCH('📊 Training Matrix'!$S$48,{"VALID","EXPIRING","EXPIRED","NOT TRAINED","N/A"},0),"✓","!","✗","○","—"),"—")} -> ✗ | J46: {=IFERROR(CHOOSE(MATCH('📊 Training Matrix'!$U$48,{"VALID","EXPIRING","EXPIRED","NOT TRAINED","N/A"},0),"✓","!","✗","○","—"),"—")} -> ○ | K46: {=IFERROR(CHOOSE(MATCH('📊 Training Matrix'!$W$48,{"VALID","EXPIRING","EXPIRED","NOT TRAINED","N/A"},0),"✓","!","✗","○","—"),"—")} -> ○ | L46: {=IFERROR(CHOOSE(MATCH('📊 Training Matrix'!$Y$48,{"VALID","EXPIRING","EXPIRED","NOT TRAINED","N/A"},0),"✓","!","✗","○","—"),"—")} -> ○ | M46: {=IFERROR(CHOOSE(MATCH('📊 Training Matrix'!$AA$48,{"VALID","EXPIRING","EXPIRED","NOT TRAINED","N/A"},0),"✓","!","✗","○","—"),"—")} -> ○ | N46: {=IFERROR(CHOOSE(MATCH('📊 Training Matrix'!$AC$48,{"VALID","EXPIRING","EXPIRED","NOT TRAINED","N/A"},0),"✓","!","✗","○","—"),"—")} -> ○ | O46: {=IFERROR(CHOOSE(MATCH('📊 Training Matrix'!$AE$48,{"VALID","EXPIRING","EXPIRED","NOT TRAINED","N/A"},0),"✓","!","✗","○","—"),"—")} -> ○ | P46: {=IFERROR(CHOOSE(MATCH('📊 Training Matrix'!$AG$48,{"VALID","EXPIRING","EXPIRED","NOT TRAINED","N/A"},0),"✓","!","✗","○","—"),"—")} -> ○ | Q46: {=IFERROR(CHOOSE(MATCH('📊 Training Matrix'!$AI$48,{"VALID","EXPIRING","EXPIRED","NOT TRAINED","N/A"},0),"✓","!","✗","○","—"),"—")} -> ○ | R46: {=IFERROR(CHOOSE(MATCH('📊 Training Matrix'!$AK$48,{"VALID","EXPIRING","EXPIRED","NOT TRAINED","N/A"},0),"✓","!","✗","○","—"),"—")} -> ○ | S46: {=IFERROR(CHOOSE(MATCH('📊 Training Matrix'!$AM$48,{"VALID","EXPIRING","EXPIRED","NOT TRAINED","N/A"},0),"✓","!","✗","○","—"),"—")} -> ○ | T46: {=IFERROR(CHOOSE(MATCH('📊 Training Matrix'!$AO$48,{"VALID","EXPIRING","EXPIRED","NOT TRAINED","N/A"},0),"✓","!","✗","○","—"),"—")} -> ✓ | U46: {=IFERROR(CHOOSE(MATCH('📊 Training Matrix'!$AQ$48,{"VALID","EXPIRING","EXPIRED","NOT TRAINED","N/A"},0),"✓","!","✗","○","—"),"—")} -> ○ | V46: {=IFERROR(CHOOSE(MATCH('📊 Training Matrix'!$AS$48,{"VALID","EXPIRING","EXPIRED","NOT TRAINED","N/A"},0),"✓","!","✗","○","—"),"—")} -> ○ | W46: {=IFERROR(CHOOSE(MATCH('📊 Training Matrix'!$AU$48,{"VALID","EXPIRING","EXPIRED","NOT TRAINED","N/A"},0),"✓","!","✗","○","—"),"—")} -> ○ | X46: {=IFERROR(CHOOSE(MATCH('📊 Training Matrix'!$AW$48,{"VALID","EXPIRING","EXPIRED","NOT TRAINED","N/A"},0),"✓","!","✗","○","—"),"—")} -> ✓
A47: Daniel Scott | B47: Employee | C47: Control Room › Control Room Manager | D47: ='📊 Training Matrix'!$I$49 -> 0 | E47: {=IFERROR(CHOOSE(MATCH('📊 Training Matrix'!$K$49,{"VALID","EXPIRING","EXPIRED","NOT TRAINED","N/A"},0),"✓","!","✗","○","—"),"—")} -> ✗ | F47: {=IFERROR(CHOOSE(MATCH('📊 Training Matrix'!$M$49,{"VALID","EXPIRING","EXPIRED","NOT TRAINED","N/A"},0),"✓","!","✗","○","—"),"—")} -> ○ | G47: {=IFERROR(CHOOSE(MATCH('📊 Training Matrix'!$O$49,{"VALID","EXPIRING","EXPIRED","NOT TRAINED","N/A"},0),"✓","!","✗","○","—"),"—")} -> ○ | H47: {=IFERROR(CHOOSE(MATCH('📊 Training Matrix'!$Q$49,{"VALID","EXPIRING","EXPIRED","NOT TRAINED","N/A"},0),"✓","!","✗","○","—"),"—")} -> ✗ | I47: {=IFERROR(CHOOSE(MATCH('📊 Training Matrix'!$S$49,{"VALID","EXPIRING","EXPIRED","NOT TRAINED","N/A"},0),"✓","!","✗","○","—"),"—")} -> ✗ | J47: {=IFERROR(CHOOSE(MATCH('📊 Training Matrix'!$U$49,{"VALID","EXPIRING","EXPIRED","NOT TRAINED","N/A"},0),"✓","!","✗","○","—"),"—")} -> ○ | K47: {=IFERROR(CHOOSE(MATCH('📊 Training Matrix'!$W$49,{"VALID","EXPIRING","EXPIRED","NOT TRAINED","N/A"},0),"✓","!","✗","○","—"),"—")} -> ○ | L47: {=IFERROR(CHOOSE(MATCH('📊 Training Matrix'!$Y$49,{"VALID","EXPIRING","EXPIRED","NOT TRAINED","N/A"},0),"✓","!","✗","○","—"),"—")} -> ○ | M47: {=IFERROR(CHOOSE(MATCH('📊 Training Matrix'!$AA$49,{"VALID","EXPIRING","EXPIRED","NOT TRAINED","N/A"},0),"✓","!","✗","○","—"),"—")} -> ○ | N47: {=IFERROR(CHOOSE(MATCH('📊 Training Matrix'!$AC$49,{"VALID","EXPIRING","EXPIRED","NOT TRAINED","N/A"},0),"✓","!","✗","○","—"),"—")} -> ○ | O47: {=IFERROR(CHOOSE(MATCH('📊 Training Matrix'!$AE$49,{"VALID","EXPIRING","EXPIRED","NOT TRAINED","N/A"},0),"✓","!","✗","○","—"),"—")} -> ○ | P47: {=IFERROR(CHOOSE(MATCH('📊 Training Matrix'!$AG$49,{"VALID","EXPIRING","EXPIRED","NOT TRAINED","N/A"},0),"✓","!","✗","○","—"),"—")} -> ○ | Q47: {=IFERROR(CHOOSE(MATCH('📊 Training Matrix'!$AI$49,{"VALID","EXPIRING","EXPIRED","NOT TRAINED","N/A"},0),"✓","!","✗","○","—"),"—")} -> ○ | R47: {=IFERROR(CHOOSE(MATCH('📊 Training Matrix'!$AK$49,{"VALID","EXPIRING","EXPIRED","NOT TRAINED","N/A"},0),"✓","!","✗","○","—"),"—")} -> ○ | S47: {=IFERROR(CHOOSE(MATCH('📊 Training Matrix'!$AM$49,{"VALID","EXPIRING","EXPIRED","NOT TRAINED","N/A"},0),"✓","!","✗","○","—"),"—")} -> ○ | T47: {=IFERROR(CHOOSE(MATCH('📊 Training Matrix'!$AO$49,{"VALID","EXPIRING","EXPIRED","NOT TRAINED","N/A"},0),"✓","!","✗","○","—"),"—")} -> ○ | U47: {=IFERROR(CHOOSE(MATCH('📊 Training Matrix'!$AQ$49,{"VALID","EXPIRING","EXPIRED","NOT TRAINED","N/A"},0),"✓","!","✗","○","—"),"—")} -> ○ | V47: {=IFERROR(CHOOSE(MATCH('📊 Training Matrix'!$AS$49,{"VALID","EXPIRING","EXPIRED","NOT TRAINED","N/A"},0),"✓","!","✗","○","—"),"—")} -> ○ | W47: {=IFERROR(CHOOSE(MATCH('📊 Training Matrix'!$AU$49,{"VALID","EXPIRING","EXPIRED","NOT TRAINED","N/A"},0),"✓","!","✗","○","—"),"—")} -> ○ | X47: {=IFERROR(CHOOSE(MATCH('📊 Training Matrix'!$AW$49,{"VALID","EXPIRING","EXPIRED","NOT TRAINED","N/A"},0),"✓","!","✗","○","—"),"—")} -> !
A48: 🔶 Diane Martin | B48: Subcontractor | C48: Gas Operations › Metering Specialist | D48: ='📊 Training Matrix'!$I$50 -> 0.6 | E48: {=IFERROR(CHOOSE(MATCH('📊 Training Matrix'!$K$50,{"VALID","EXPIRING","EXPIRED","NOT TRAINED","N/A"},0),"✓","!","✗","○","—"),"—")} -> ✗ | F48: {=IFERROR(CHOOSE(MATCH('📊 Training Matrix'!$M$50,{"VALID","EXPIRING","EXPIRED","NOT TRAINED","N/A"},0),"✓","!","✗","○","—"),"—")} -> ○ | G48: {=IFERROR(CHOOSE(MATCH('📊 Training Matrix'!$O$50,{"VALID","EXPIRING","EXPIRED","NOT TRAINED","N/A"},0),"✓","!","✗","○","—"),"—")} -> ○ | H48: {=IFERROR(CHOOSE(MATCH('📊 Training Matrix'!$Q$50,{"VALID","EXPIRING","EXPIRED","NOT TRAINED","N/A"},0),"✓","!","✗","○","—"),"—")} -> ✓ | I48: {=IFERROR(CHOOSE(MATCH('📊 Training Matrix'!$S$50,{"VALID","EXPIRING","EXPIRED","NOT TRAINED","N/A"},0),"✓","!","✗","○","—"),"—")} -> ✗ | J48: {=IFERROR(CHOOSE(MATCH('📊 Training Matrix'!$U$50,{"VALID","EXPIRING","EXPIRED","NOT TRAINED","N/A"},0),"✓","!","✗","○","—"),"—")} -> ○ | K48: {=IFERROR(CHOOSE(MATCH('📊 Training Matrix'!$W$50,{"VALID","EXPIRING","EXPIRED","NOT TRAINED","N/A"},0),"✓","!","✗","○","—"),"—")} -> ○ | L48: {=IFERROR(CHOOSE(MATCH('📊 Training Matrix'!$Y$50,{"VALID","EXPIRING","EXPIRED","NOT TRAINED","N/A"},0),"✓","!","✗","○","—"),"—")} -> ○ | M48: {=IFERROR(CHOOSE(MATCH('📊 Training Matrix'!$AA$50,{"VALID","EXPIRING","EXPIRED","NOT TRAINED","N/A"},0),"✓","!","✗","○","—"),"—")} -> ○ | N48: {=IFERROR(CHOOSE(MATCH('📊 Training Matrix'!$AC$50,{"VALID","EXPIRING","EXPIRED","NOT TRAINED","N/A"},0),"✓","!","✗","○","—"),"—")} -> ○ | O48: {=IFERROR(CHOOSE(MATCH('📊 Training Matrix'!$AE$50,{"VALID","EXPIRING","EXPIRED","NOT TRAINED","N/A"},0),"✓","!","✗","○","—"),"—")} -> ○ | P48: {=IFERROR(CHOOSE(MATCH('📊 Training Matrix'!$AG$50,{"VALID","EXPIRING","EXPIRED","NOT TRAINED","N/A"},0),"✓","!","✗","○","—"),"—")} -> ○ | Q48: {=IFERROR(CHOOSE(MATCH('📊 Training Matrix'!$AI$50,{"VALID","EXPIRING","EXPIRED","NOT TRAINED","N/A"},0),"✓","!","✗","○","—"),"—")} -> ○ | R48: {=IFERROR(CHOOSE(MATCH('📊 Training Matrix'!$AK$50,{"VALID","EXPIRING","EXPIRED","NOT TRAINED","N/A"},0),"✓","!","✗","○","—"),"—")} -> ✓ | S48: {=IFERROR(CHOOSE(MATCH('📊 Training Matrix'!$AM$50,{"VALID","EXPIRING","EXPIRED","NOT TRAINED","N/A"},0),"✓","!","✗","○","—"),"—")} -> ○ | T48: {=IFERROR(CHOOSE(MATCH('📊 Training Matrix'!$AO$50,{"VALID","EXPIRING","EXPIRED","NOT TRAINED","N/A"},0),"✓","!","✗","○","—"),"—")} -> ○ | U48: {=IFERROR(CHOOSE(MATCH('📊 Training Matrix'!$AQ$50,{"VALID","EXPIRING","EXPIRED","NOT TRAINED","N/A"},0),"✓","!","✗","○","—"),"—")} -> ○ | V48: {=IFERROR(CHOOSE(MATCH('📊 Training Matrix'!$AS$50,{"VALID","EXPIRING","EXPIRED","NOT TRAINED","N/A"},0),"✓","!","✗","○","—"),"—")} -> ○ | W48: {=IFERROR(CHOOSE(MATCH('📊 Training Matrix'!$AU$50,{"VALID","EXPIRING","EXPIRED","NOT TRAINED","N/A"},0),"✓","!","✗","○","—"),"—")} -> ○ | X48: {=IFERROR(CHOOSE(MATCH('📊 Training Matrix'!$AW$50,{"VALID","EXPIRING","EXPIRED","NOT TRAINED","N/A"},0),"✓","!","✗","○","—"),"—")} -> ✓
A49: Mark Nelson | B49: Employee | C49: Network Operations › Network Operator | D49: ='📊 Training Matrix'!$I$51 -> 0.16666667 | E49: {=IFERROR(CHOOSE(MATCH('📊 Training Matrix'!$K$51,{"VALID","EXPIRING","EXPIRED","NOT TRAINED","N/A"},0),"✓","!","✗","○","—"),"—")} -> ✓ | F49: {=IFERROR(CHOOSE(MATCH('📊 Training Matrix'!$M$51,{"VALID","EXPIRING","EXPIRED","NOT TRAINED","N/A"},0),"✓","!","✗","○","—"),"—")} -> ✗ | G49: {=IFERROR(CHOOSE(MATCH('📊 Training Matrix'!$O$51,{"VALID","EXPIRING","EXPIRED","NOT TRAINED","N/A"},0),"✓","!","✗","○","—"),"—")} -> ✗ | H49: {=IFERROR(CHOOSE(MATCH('📊 Training Matrix'!$Q$51,{"VALID","EXPIRING","EXPIRED","NOT TRAINED","N/A"},0),"✓","!","✗","○","—"),"—")} -> ✗ | I49: {=IFERROR(CHOOSE(MATCH('📊 Training Matrix'!$S$51,{"VALID","EXPIRING","EXPIRED","NOT TRAINED","N/A"},0),"✓","!","✗","○","—"),"—")} -> ✗ | J49: {=IFERROR(CHOOSE(MATCH('📊 Training Matrix'!$U$51,{"VALID","EXPIRING","EXPIRED","NOT TRAINED","N/A"},0),"✓","!","✗","○","—"),"—")} -> ○ | K49: {=IFERROR(CHOOSE(MATCH('📊 Training Matrix'!$W$51,{"VALID","EXPIRING","EXPIRED","NOT TRAINED","N/A"},0),"✓","!","✗","○","—"),"—")} -> ○ | L49: {=IFERROR(CHOOSE(MATCH('📊 Training Matrix'!$Y$51,{"VALID","EXPIRING","EXPIRED","NOT TRAINED","N/A"},0),"✓","!","✗","○","—"),"—")} -> ○ | M49: {=IFERROR(CHOOSE(MATCH('📊 Training Matrix'!$AA$51,{"VALID","EXPIRING","EXPIRED","NOT TRAINED","N/A"},0),"✓","!","✗","○","—"),"—")} -> ○ | N49: {=IFERROR(CHOOSE(MATCH('📊 Training Matrix'!$AC$51,{"VALID","EXPIRING","EXPIRED","NOT TRAINED","N/A"},0),"✓","!","✗","○","—"),"—")} -> ○ | O49: {=IFERROR(CHOOSE(MATCH('📊 Training Matrix'!$AE$51,{"VALID","EXPIRING","EXPIRED","NOT TRAINED","N/A"},0),"✓","!","✗","○","—"),"—")} -> ○ | P49: {=IFERROR(CHOOSE(MATCH('📊 Training Matrix'!$AG$51,{"VALID","EXPIRING","EXPIRED","NOT TRAINED","N/A"},0),"✓","!","✗","○","—"),"—")} -> ○ | Q49: {=IFERROR(CHOOSE(MATCH('📊 Training Matrix'!$AI$51,{"VALID","EXPIRING","EXPIRED","NOT TRAINED","N/A"},0),"✓","!","✗","○","—"),"—")} -> ○ | R49: {=IFERROR(CHOOSE(MATCH('📊 Training Matrix'!$AK$51,{"VALID","EXPIRING","EXPIRED","NOT TRAINED","N/A"},0),"✓","!","✗","○","—"),"—")} -> ○ | S49: {=IFERROR(CHOOSE(MATCH('📊 Training Matrix'!$AM$51,{"VALID","EXPIRING","EXPIRED","NOT TRAINED","N/A"},0),"✓","!","✗","○","—"),"—")} -> ○ | T49: {=IFERROR(CHOOSE(MATCH('📊 Training Matrix'!$AO$51,{"VALID","EXPIRING","EXPIRED","NOT TRAINED","N/A"},0),"✓","!","✗","○","—"),"—")} -> ○ | U49: {=IFERROR(CHOOSE(MATCH('📊 Training Matrix'!$AQ$51,{"VALID","EXPIRING","EXPIRED","NOT TRAINED","N/A"},0),"✓","!","✗","○","—"),"—")} -> ○ | V49: {=IFERROR(CHOOSE(MATCH('📊 Training Matrix'!$AS$51,{"VALID","EXPIRING","EXPIRED","NOT TRAINED","N/A"},0),"✓","!","✗","○","—"),"—")} -> ○ | W49: {=IFERROR(CHOOSE(MATCH('📊 Training Matrix'!$AU$51,{"VALID","EXPIRING","EXPIRED","NOT TRAINED","N/A"},0),"✓","!","✗","○","—"),"—")} -> ○ | X49: {=IFERROR(CHOOSE(MATCH('📊 Training Matrix'!$AW$51,{"VALID","EXPIRING","EXPIRED","NOT TRAINED","N/A"},0),"✓","!","✗","○","—"),"—")} -> ✗
A50: Diane Young | B50: Employee | C50: Plant & Vehicles › Crane Operator | D50: ='📊 Training Matrix'!$I$52 -> 0.33333333 | E50: {=IFERROR(CHOOSE(MATCH('📊 Training Matrix'!$K$52,{"VALID","EXPIRING","EXPIRED","NOT TRAINED","N/A"},0),"✓","!","✗","○","—"),"—")} -> ✓ | F50: {=IFERROR(CHOOSE(MATCH('📊 Training Matrix'!$M$52,{"VALID","EXPIRING","EXPIRED","NOT TRAINED","N/A"},0),"✓","!","✗","○","—"),"—")} -> ! | G50: {=IFERROR(CHOOSE(MATCH('📊 Training Matrix'!$O$52,{"VALID","EXPIRING","EXPIRED","NOT TRAINED","N/A"},0),"✓","!","✗","○","—"),"—")} -> ○ | H50: {=IFERROR(CHOOSE(MATCH('📊 Training Matrix'!$Q$52,{"VALID","EXPIRING","EXPIRED","NOT TRAINED","N/A"},0),"✓","!","✗","○","—"),"—")} -> ✗ | I50: {=IFERROR(CHOOSE(MATCH('📊 Training Matrix'!$S$52,{"VALID","EXPIRING","EXPIRED","NOT TRAINED","N/A"},0),"✓","!","✗","○","—"),"—")} -> ✓ | J50: {=IFERROR(CHOOSE(MATCH('📊 Training Matrix'!$U$52,{"VALID","EXPIRING","EXPIRED","NOT TRAINED","N/A"},0),"✓","!","✗","○","—"),"—")} -> ○ | K50: {=IFERROR(CHOOSE(MATCH('📊 Training Matrix'!$W$52,{"VALID","EXPIRING","EXPIRED","NOT TRAINED","N/A"},0),"✓","!","✗","○","—"),"—")} -> ○ | L50: {=IFERROR(CHOOSE(MATCH('📊 Training Matrix'!$Y$52,{"VALID","EXPIRING","EXPIRED","NOT TRAINED","N/A"},0),"✓","!","✗","○","—"),"—")} -> ○ | M50: {=IFERROR(CHOOSE(MATCH('📊 Training Matrix'!$AA$52,{"VALID","EXPIRING","EXPIRED","NOT TRAINED","N/A"},0),"✓","!","✗","○","—"),"—")} -> ○ | N50: {=IFERROR(CHOOSE(MATCH('📊 Training Matrix'!$AC$52,{"VALID","EXPIRING","EXPIRED","NOT TRAINED","N/A"},0),"✓","!","✗","○","—"),"—")} -> ○ | O50: {=IFERROR(CHOOSE(MATCH('📊 Training Matrix'!$AE$52,{"VALID","EXPIRING","EXPIRED","NOT TRAINED","N/A"},0),"✓","!","✗","○","—"),"—")} -> ○ | P50: {=IFERROR(CHOOSE(MATCH('📊 Training Matrix'!$AG$52,{"VALID","EXPIRING","EXPIRED","NOT TRAINED","N/A"},0),"✓","!","✗","○","—"),"—")} -> ○ | Q50: {=IFERROR(CHOOSE(MATCH('📊 Training Matrix'!$AI$52,{"VALID","EXPIRING","EXPIRED","NOT TRAINED","N/A"},0),"✓","!","✗","○","—"),"—")} -> ○ | R50: {=IFERROR(CHOOSE(MATCH('📊 Training Matrix'!$AK$52,{"VALID","EXPIRING","EXPIRED","NOT TRAINED","N/A"},0),"✓","!","✗","○","—"),"—")} -> ○ | S50: {=IFERROR(CHOOSE(MATCH('📊 Training Matrix'!$AM$52,{"VALID","EXPIRING","EXPIRED","NOT TRAINED","N/A"},0),"✓","!","✗","○","—"),"—")} -> ○ | T50: {=IFERROR(CHOOSE(MATCH('📊 Training Matrix'!$AO$52,{"VALID","EXPIRING","EXPIRED","NOT TRAINED","N/A"},0),"✓","!","✗","○","—"),"—")} -> ○ | U50: {=IFERROR(CHOOSE(MATCH('📊 Training Matrix'!$AQ$52,{"VALID","EXPIRING","EXPIRED","NOT TRAINED","N/A"},0),"✓","!","✗","○","—"),"—")} -> ✗ | V50: {=IFERROR(CHOOSE(MATCH('📊 Training Matrix'!$AS$52,{"VALID","EXPIRING","EXPIRED","NOT TRAINED","N/A"},0),"✓","!","✗","○","—"),"—")} -> ○ | W50: {=IFERROR(CHOOSE(MATCH('📊 Training Matrix'!$AU$52,{"VALID","EXPIRING","EXPIRED","NOT TRAINED","N/A"},0),"✓","!","✗","○","—"),"—")} -> ○ | X50: {=IFERROR(CHOOSE(MATCH('📊 Training Matrix'!$AW$52,{"VALID","EXPIRING","EXPIRED","NOT TRAINED","N/A"},0),"✓","!","✗","○","—"),"—")} -> !
A51: Kevin Thomas | B51: Employee | C51: Water Services › Water Services Engineer | D51: ='📊 Training Matrix'!$I$53 -> 0.4 | E51: {=IFERROR(CHOOSE(MATCH('📊 Training Matrix'!$K$53,{"VALID","EXPIRING","EXPIRED","NOT TRAINED","N/A"},0),"✓","!","✗","○","—"),"—")} -> ✓ | F51: {=IFERROR(CHOOSE(MATCH('📊 Training Matrix'!$M$53,{"VALID","EXPIRING","EXPIRED","NOT TRAINED","N/A"},0),"✓","!","✗","○","—"),"—")} -> ○ | G51: {=IFERROR(CHOOSE(MATCH('📊 Training Matrix'!$O$53,{"VALID","EXPIRING","EXPIRED","NOT TRAINED","N/A"},0),"✓","!","✗","○","—"),"—")} -> ○ | H51: {=IFERROR(CHOOSE(MATCH('📊 Training Matrix'!$Q$53,{"VALID","EXPIRING","EXPIRED","NOT TRAINED","N/A"},0),"✓","!","✗","○","—"),"—")} -> ✗ | I51: {=IFERROR(CHOOSE(MATCH('📊 Training Matrix'!$S$53,{"VALID","EXPIRING","EXPIRED","NOT TRAINED","N/A"},0),"✓","!","✗","○","—"),"—")} -> ✗ | J51: {=IFERROR(CHOOSE(MATCH('📊 Training Matrix'!$U$53,{"VALID","EXPIRING","EXPIRED","NOT TRAINED","N/A"},0),"✓","!","✗","○","—"),"—")} -> ○ | K51: {=IFERROR(CHOOSE(MATCH('📊 Training Matrix'!$W$53,{"VALID","EXPIRING","EXPIRED","NOT TRAINED","N/A"},0),"✓","!","✗","○","—"),"—")} -> ○ | L51: {=IFERROR(CHOOSE(MATCH('📊 Training Matrix'!$Y$53,{"VALID","EXPIRING","EXPIRED","NOT TRAINED","N/A"},0),"✓","!","✗","○","—"),"—")} -> ○ | M51: {=IFERROR(CHOOSE(MATCH('📊 Training Matrix'!$AA$53,{"VALID","EXPIRING","EXPIRED","NOT TRAINED","N/A"},0),"✓","!","✗","○","—"),"—")} -> ○ | N51: {=IFERROR(CHOOSE(MATCH('📊 Training Matrix'!$AC$53,{"VALID","EXPIRING","EXPIRED","NOT TRAINED","N/A"},0),"✓","!","✗","○","—"),"—")} -> ○ | O51: {=IFERROR(CHOOSE(MATCH('📊 Training Matrix'!$AE$53,{"VALID","EXPIRING","EXPIRED","NOT TRAINED","N/A"},0),"✓","!","✗","○","—"),"—")} -> ○ | P51: {=IFERROR(CHOOSE(MATCH('📊 Training Matrix'!$AG$53,{"VALID","EXPIRING","EXPIRED","NOT TRAINED","N/A"},0),"✓","!","✗","○","—"),"—")} -> ○ | Q51: {=IFERROR(CHOOSE(MATCH('📊 Training Matrix'!$AI$53,{"VALID","EXPIRING","EXPIRED","NOT TRAINED","N/A"},0),"✓","!","✗","○","—"),"—")} -> ○ | R51: {=IFERROR(CHOOSE(MATCH('📊 Training Matrix'!$AK$53,{"VALID","EXPIRING","EXPIRED","NOT TRAINED","N/A"},0),"✓","!","✗","○","—"),"—")} -> ○ | S51: {=IFERROR(CHOOSE(MATCH('📊 Training Matrix'!$AM$53,{"VALID","EXPIRING","EXPIRED","NOT TRAINED","N/A"},0),"✓","!","✗","○","—"),"—")} -> ○ | T51: {=IFERROR(CHOOSE(MATCH('📊 Training Matrix'!$AO$53,{"VALID","EXPIRING","EXPIRED","NOT TRAINED","N/A"},0),"✓","!","✗","○","—"),"—")} -> ✗ | U51: {=IFERROR(CHOOSE(MATCH('📊 Training Matrix'!$AQ$53,{"VALID","EXPIRING","EXPIRED","NOT TRAINED","N/A"},0),"✓","!","✗","○","—"),"—")} -> ○ | V51: {=IFERROR(CHOOSE(MATCH('📊 Training Matrix'!$AS$53,{"VALID","EXPIRING","EXPIRED","NOT TRAINED","N/A"},0),"✓","!","✗","○","—"),"—")} -> ○ | W51: {=IFERROR(CHOOSE(MATCH('📊 Training Matrix'!$AU$53,{"VALID","EXPIRING","EXPIRED","NOT TRAINED","N/A"},0),"✓","!","✗","○","—"),"—")} -> ○ | X51: {=IFERROR(CHOOSE(MATCH('📊 Training Matrix'!$AW$53,{"VALID","EXPIRING","EXPIRED","NOT TRAINED","N/A"},0),"✓","!","✗","○","—"),"—")} -> ✓
A52: Tanya Parker | B52: Employee | C52: Field Engineering › Senior Field Engineer | D52: ='📊 Training Matrix'!$I$54 -> 0.42857143 | E52: {=IFERROR(CHOOSE(MATCH('📊 Training Matrix'!$K$54,{"VALID","EXPIRING","EXPIRED","NOT TRAINED","N/A"},0),"✓","!","✗","○","—"),"—")} -> ✓ | F52: {=IFERROR(CHOOSE(MATCH('📊 Training Matrix'!$M$54,{"VALID","EXPIRING","EXPIRED","NOT TRAINED","N/A"},0),"✓","!","✗","○","—"),"—")} -> ✗ | G52: {=IFERROR(CHOOSE(MATCH('📊 Training Matrix'!$O$54,{"VALID","EXPIRING","EXPIRED","NOT TRAINED","N/A"},0),"✓","!","✗","○","—"),"—")} -> ✓ | H52: {=IFERROR(CHOOSE(MATCH('📊 Training Matrix'!$Q$54,{"VALID","EXPIRING","EXPIRED","NOT TRAINED","N/A"},0),"✓","!","✗","○","—"),"—")} -> ✗ | I52: {=IFERROR(CHOOSE(MATCH('📊 Training Matrix'!$S$54,{"VALID","EXPIRING","EXPIRED","NOT TRAINED","N/A"},0),"✓","!","✗","○","—"),"—")} -> ✗ | J52: {=IFERROR(CHOOSE(MATCH('📊 Training Matrix'!$U$54,{"VALID","EXPIRING","EXPIRED","NOT TRAINED","N/A"},0),"✓","!","✗","○","—"),"—")} -> ✓ | K52: {=IFERROR(CHOOSE(MATCH('📊 Training Matrix'!$W$54,{"VALID","EXPIRING","EXPIRED","NOT TRAINED","N/A"},0),"✓","!","✗","○","—"),"—")} -> ○ | L52: {=IFERROR(CHOOSE(MATCH('📊 Training Matrix'!$Y$54,{"VALID","EXPIRING","EXPIRED","NOT TRAINED","N/A"},0),"✓","!","✗","○","—"),"—")} -> ○ | M52: {=IFERROR(CHOOSE(MATCH('📊 Training Matrix'!$AA$54,{"VALID","EXPIRING","EXPIRED","NOT TRAINED","N/A"},0),"✓","!","✗","○","—"),"—")} -> ○ | N52: {=IFERROR(CHOOSE(MATCH('📊 Training Matrix'!$AC$54,{"VALID","EXPIRING","EXPIRED","NOT TRAINED","N/A"},0),"✓","!","✗","○","—"),"—")} -> ○ | O52: {=IFERROR(CHOOSE(MATCH('📊 Training Matrix'!$AE$54,{"VALID","EXPIRING","EXPIRED","NOT TRAINED","N/A"},0),"✓","!","✗","○","—"),"—")} -> ○ | P52: {=IFERROR(CHOOSE(MATCH('📊 Training Matrix'!$AG$54,{"VALID","EXPIRING","EXPIRED","NOT TRAINED","N/A"},0),"✓","!","✗","○","—"),"—")} -> ○ | Q52: {=IFERROR(CHOOSE(MATCH('📊 Training Matrix'!$AI$54,{"VALID","EXPIRING","EXPIRED","NOT TRAINED","N/A"},0),"✓","!","✗","○","—"),"—")} -> ○ | R52: {=IFERROR(CHOOSE(MATCH('📊 Training Matrix'!$AK$54,{"VALID","EXPIRING","EXPIRED","NOT TRAINED","N/A"},0),"✓","!","✗","○","—"),"—")} -> ○ | S52: {=IFERROR(CHOOSE(MATCH('📊 Training Matrix'!$AM$54,{"VALID","EXPIRING","EXPIRED","NOT TRAINED","N/A"},0),"✓","!","✗","○","—"),"—")} -> ○ | T52: {=IFERROR(CHOOSE(MATCH('📊 Training Matrix'!$AO$54,{"VALID","EXPIRING","EXPIRED","NOT TRAINED","N/A"},0),"✓","!","✗","○","—"),"—")} -> ○ | U52: {=IFERROR(CHOOSE(MATCH('📊 Training Matrix'!$AQ$54,{"VALID","EXPIRING","EXPIRED","NOT TRAINED","N/A"},0),"✓","!","✗","○","—"),"—")} -> ○ | V52: {=IFERROR(CHOOSE(MATCH('📊 Training Matrix'!$AS$54,{"VALID","EXPIRING","EXPIRED","NOT TRAINED","N/A"},0),"✓","!","✗","○","—"),"—")} -> ○ | W52: {=IFERROR(CHOOSE(MATCH('📊 Training Matrix'!$AU$54,{"VALID","EXPIRING","EXPIRED","NOT TRAINED","N/A"},0),"✓","!","✗","○","—"),"—")} -> ○ | X52: {=IFERROR(CHOOSE(MATCH('📊 Training Matrix'!$AW$54,{"VALID","EXPIRING","EXPIRED","NOT TRAINED","N/A"},0),"✓","!","✗","○","—"),"—")} -> ✗
A53: 🔶 Diane Scott | B53: Subcontractor | C53: Gas Operations › Metering Specialist | D53: ='📊 Training Matrix'!$I$55 -> 0.5 | E53: {=IFERROR(CHOOSE(MATCH('📊 Training Matrix'!$K$55,{"VALID","EXPIRING","EXPIRED","NOT TRAINED","N/A"},0),"✓","!","✗","○","—"),"—")} -> ✓ | F53: {=IFERROR(CHOOSE(MATCH('📊 Training Matrix'!$M$55,{"VALID","EXPIRING","EXPIRED","NOT TRAINED","N/A"},0),"✓","!","✗","○","—"),"—")} -> ○ | G53: {=IFERROR(CHOOSE(MATCH('📊 Training Matrix'!$O$55,{"VALID","EXPIRING","EXPIRED","NOT TRAINED","N/A"},0),"✓","!","✗","○","—"),"—")} -> ○ | H53: {=IFERROR(CHOOSE(MATCH('📊 Training Matrix'!$Q$55,{"VALID","EXPIRING","EXPIRED","NOT TRAINED","N/A"},0),"✓","!","✗","○","—"),"—")} -> ! | I53: {=IFERROR(CHOOSE(MATCH('📊 Training Matrix'!$S$55,{"VALID","EXPIRING","EXPIRED","NOT TRAINED","N/A"},0),"✓","!","✗","○","—"),"—")} -> ○ | J53: {=IFERROR(CHOOSE(MATCH('📊 Training Matrix'!$U$55,{"VALID","EXPIRING","EXPIRED","NOT TRAINED","N/A"},0),"✓","!","✗","○","—"),"—")} -> ○ | K53: {=IFERROR(CHOOSE(MATCH('📊 Training Matrix'!$W$55,{"VALID","EXPIRING","EXPIRED","NOT TRAINED","N/A"},0),"✓","!","✗","○","—"),"—")} -> ○ | L53: {=IFERROR(CHOOSE(MATCH('📊 Training Matrix'!$Y$55,{"VALID","EXPIRING","EXPIRED","NOT TRAINED","N/A"},0),"✓","!","✗","○","—"),"—")} -> ○ | M53: {=IFERROR(CHOOSE(MATCH('📊 Training Matrix'!$AA$55,{"VALID","EXPIRING","EXPIRED","NOT TRAINED","N/A"},0),"✓","!","✗","○","—"),"—")} -> ○ | N53: {=IFERROR(CHOOSE(MATCH('📊 Training Matrix'!$AC$55,{"VALID","EXPIRING","EXPIRED","NOT TRAINED","N/A"},0),"✓","!","✗","○","—"),"—")} -> ○ | O53: {=IFERROR(CHOOSE(MATCH('📊 Training Matrix'!$AE$55,{"VALID","EXPIRING","EXPIRED","NOT TRAINED","N/A"},0),"✓","!","✗","○","—"),"—")} -> ○ | P53: {=IFERROR(CHOOSE(MATCH('📊 Training Matrix'!$AG$55,{"VALID","EXPIRING","EXPIRED","NOT TRAINED","N/A"},0),"✓","!","✗","○","—"),"—")} -> ○ | Q53: {=IFERROR(CHOOSE(MATCH('📊 Training Matrix'!$AI$55,{"VALID","EXPIRING","EXPIRED","NOT TRAINED","N/A"},0),"✓","!","✗","○","—"),"—")} -> ○ | R53: {=IFERROR(CHOOSE(MATCH('📊 Training Matrix'!$AK$55,{"VALID","EXPIRING","EXPIRED","NOT TRAINED","N/A"},0),"✓","!","✗","○","—"),"—")} -> ✓ | S53: {=IFERROR(CHOOSE(MATCH('📊 Training Matrix'!$AM$55,{"VALID","EXPIRING","EXPIRED","NOT TRAINED","N/A"},0),"✓","!","✗","○","—"),"—")} -> ○ | T53: {=IFERROR(CHOOSE(MATCH('📊 Training Matrix'!$AO$55,{"VALID","EXPIRING","EXPIRED","NOT TRAINED","N/A"},0),"✓","!","✗","○","—"),"—")} -> ○ | U53: {=IFERROR(CHOOSE(MATCH('📊 Training Matrix'!$AQ$55,{"VALID","EXPIRING","EXPIRED","NOT TRAINED","N/A"},0),"✓","!","✗","○","—"),"—")} -> ○ | V53: {=IFERROR(CHOOSE(MATCH('📊 Training Matrix'!$AS$55,{"VALID","EXPIRING","EXPIRED","NOT TRAINED","N/A"},0),"✓","!","✗","○","—"),"—")} -> ○ | W53: {=IFERROR(CHOOSE(MATCH('📊 Training Matrix'!$AU$55,{"VALID","EXPIRING","EXPIRED","NOT TRAINED","N/A"},0),"✓","!","✗","○","—"),"—")} -> ○ | X53: {=IFERROR(CHOOSE(MATCH('📊 Training Matrix'!$AW$55,{"VALID","EXPIRING","EXPIRED","NOT TRAINED","N/A"},0),"✓","!","✗","○","—"),"—")} -> ✗
A54: Kevin Davis | B54: Employee | C54: Electrical › HV Engineer | D54: ='📊 Training Matrix'!$I$56 -> 0.28571429 | E54: {=IFERROR(CHOOSE(MATCH('📊 Training Matrix'!$K$56,{"VALID","EXPIRING","EXPIRED","NOT TRAINED","N/A"},0),"✓","!","✗","○","—"),"—")} -> ✓ | F54: {=IFERROR(CHOOSE(MATCH('📊 Training Matrix'!$M$56,{"VALID","EXPIRING","EXPIRED","NOT TRAINED","N/A"},0),"✓","!","✗","○","—"),"—")} -> ○ | G54: {=IFERROR(CHOOSE(MATCH('📊 Training Matrix'!$O$56,{"VALID","EXPIRING","EXPIRED","NOT TRAINED","N/A"},0),"✓","!","✗","○","—"),"—")} -> ○ | H54: {=IFERROR(CHOOSE(MATCH('📊 Training Matrix'!$Q$56,{"VALID","EXPIRING","EXPIRED","NOT TRAINED","N/A"},0),"✓","!","✗","○","—"),"—")} -> ✗ | I54: {=IFERROR(CHOOSE(MATCH('📊 Training Matrix'!$S$56,{"VALID","EXPIRING","EXPIRED","NOT TRAINED","N/A"},0),"✓","!","✗","○","—"),"—")} -> ✗ | J54: {=IFERROR(CHOOSE(MATCH('📊 Training Matrix'!$U$56,{"VALID","EXPIRING","EXPIRED","NOT TRAINED","N/A"},0),"✓","!","✗","○","—"),"—")} -> ○ | K54: {=IFERROR(CHOOSE(MATCH('📊 Training Matrix'!$W$56,{"VALID","EXPIRING","EXPIRED","NOT TRAINED","N/A"},0),"✓","!","✗","○","—"),"—")} -> ✗ | L54: {=IFERROR(CHOOSE(MATCH('📊 Training Matrix'!$Y$56,{"VALID","EXPIRING","EXPIRED","NOT TRAINED","N/A"},0),"✓","!","✗","○","—"),"—")} -> ✗ | M54: {=IFERROR(CHOOSE(MATCH('📊 Training Matrix'!$AA$56,{"VALID","EXPIRING","EXPIRED","NOT TRAINED","N/A"},0),"✓","!","✗","○","—"),"—")} -> ✗ | N54: {=IFERROR(CHOOSE(MATCH('📊 Training Matrix'!$AC$56,{"VALID","EXPIRING","EXPIRED","NOT TRAINED","N/A"},0),"✓","!","✗","○","—"),"—")} -> ○ | O54: {=IFERROR(CHOOSE(MATCH('📊 Training Matrix'!$AE$56,{"VALID","EXPIRING","EXPIRED","NOT TRAINED","N/A"},0),"✓","!","✗","○","—"),"—")} -> ○ | P54: {=IFERROR(CHOOSE(MATCH('📊 Training Matrix'!$AG$56,{"VALID","EXPIRING","EXPIRED","NOT TRAINED","N/A"},0),"✓","!","✗","○","—"),"—")} -> ○ | Q54: {=IFERROR(CHOOSE(MATCH('📊 Training Matrix'!$AI$56,{"VALID","EXPIRING","EXPIRED","NOT TRAINED","N/A"},0),"✓","!","✗","○","—"),"—")} -> ○ | R54: {=IFERROR(CHOOSE(MATCH('📊 Training Matrix'!$AK$56,{"VALID","EXPIRING","EXPIRED","NOT TRAINED","N/A"},0),"✓","!","✗","○","—"),"—")} -> ○ | S54: {=IFERROR(CHOOSE(MATCH('📊 Training Matrix'!$AM$56,{"VALID","EXPIRING","EXPIRED","NOT TRAINED","N/A"},0),"✓","!","✗","○","—"),"—")} -> ○ | T54: {=IFERROR(CHOOSE(MATCH('📊 Training Matrix'!$AO$56,{"VALID","EXPIRING","EXPIRED","NOT TRAINED","N/A"},0),"✓","!","✗","○","—"),"—")} -> ○ | U54: {=IFERROR(CHOOSE(MATCH('📊 Training Matrix'!$AQ$56,{"VALID","EXPIRING","EXPIRED","NOT TRAINED","N/A"},0),"✓","!","✗","○","—"),"—")} -> ○ | V54: {=IFERROR(CHOOSE(MATCH('📊 Training Matrix'!$AS$56,{"VALID","EXPIRING","EXPIRED","NOT TRAINED","N/A"},0),"✓","!","✗","○","—"),"—")} -> ○ | W54: {=IFERROR(CHOOSE(MATCH('📊 Training Matrix'!$AU$56,{"VALID","EXPIRING","EXPIRED","NOT TRAINED","N/A"},0),"✓","!","✗","○","—"),"—")} -> ○ | X54: {=IFERROR(CHOOSE(MATCH('📊 Training Matrix'!$AW$56,{"VALID","EXPIRING","EXPIRED","NOT TRAINED","N/A"},0),"✓","!","✗","○","—"),"—")} -> ✓
A55: Mia Thomas | B55: Employee | C55: Field Engineering › Senior Field Engineer | D55: ='📊 Training Matrix'!$I$57 -> 0.42857143 | E55: {=IFERROR(CHOOSE(MATCH('📊 Training Matrix'!$K$57,{"VALID","EXPIRING","EXPIRED","NOT TRAINED","N/A"},0),"✓","!","✗","○","—"),"—")} -> ✓ | F55: {=IFERROR(CHOOSE(MATCH('📊 Training Matrix'!$M$57,{"VALID","EXPIRING","EXPIRED","NOT TRAINED","N/A"},0),"✓","!","✗","○","—"),"—")} -> ✗ | G55: {=IFERROR(CHOOSE(MATCH('📊 Training Matrix'!$O$57,{"VALID","EXPIRING","EXPIRED","NOT TRAINED","N/A"},0),"✓","!","✗","○","—"),"—")} -> ✓ | H55: {=IFERROR(CHOOSE(MATCH('📊 Training Matrix'!$Q$57,{"VALID","EXPIRING","EXPIRED","NOT TRAINED","N/A"},0),"✓","!","✗","○","—"),"—")} -> ✗ | I55: {=IFERROR(CHOOSE(MATCH('📊 Training Matrix'!$S$57,{"VALID","EXPIRING","EXPIRED","NOT TRAINED","N/A"},0),"✓","!","✗","○","—"),"—")} -> ✗ | J55: {=IFERROR(CHOOSE(MATCH('📊 Training Matrix'!$U$57,{"VALID","EXPIRING","EXPIRED","NOT TRAINED","N/A"},0),"✓","!","✗","○","—"),"—")} -> ✓ | K55: {=IFERROR(CHOOSE(MATCH('📊 Training Matrix'!$W$57,{"VALID","EXPIRING","EXPIRED","NOT TRAINED","N/A"},0),"✓","!","✗","○","—"),"—")} -> ○ | L55: {=IFERROR(CHOOSE(MATCH('📊 Training Matrix'!$Y$57,{"VALID","EXPIRING","EXPIRED","NOT TRAINED","N/A"},0),"✓","!","✗","○","—"),"—")} -> ○ | M55: {=IFERROR(CHOOSE(MATCH('📊 Training Matrix'!$AA$57,{"VALID","EXPIRING","EXPIRED","NOT TRAINED","N/A"},0),"✓","!","✗","○","—"),"—")} -> ○ | N55: {=IFERROR(CHOOSE(MATCH('📊 Training Matrix'!$AC$57,{"VALID","EXPIRING","EXPIRED","NOT TRAINED","N/A"},0),"✓","!","✗","○","—"),"—")} -> ○ | O55: {=IFERROR(CHOOSE(MATCH('📊 Training Matrix'!$AE$57,{"VALID","EXPIRING","EXPIRED","NOT TRAINED","N/A"},0),"✓","!","✗","○","—"),"—")} -> ○ | P55: {=IFERROR(CHOOSE(MATCH('📊 Training Matrix'!$AG$57,{"VALID","EXPIRING","EXPIRED","NOT TRAINED","N/A"},0),"✓","!","✗","○","—"),"—")} -> ○ | Q55: {=IFERROR(CHOOSE(MATCH('📊 Training Matrix'!$AI$57,{"VALID","EXPIRING","EXPIRED","NOT TRAINED","N/A"},0),"✓","!","✗","○","—"),"—")} -> ○ | R55: {=IFERROR(CHOOSE(MATCH('📊 Training Matrix'!$AK$57,{"VALID","EXPIRING","EXPIRED","NOT TRAINED","N/A"},0),"✓","!","✗","○","—"),"—")} -> ○ | S55: {=IFERROR(CHOOSE(MATCH('📊 Training Matrix'!$AM$57,{"VALID","EXPIRING","EXPIRED","NOT TRAINED","N/A"},0),"✓","!","✗","○","—"),"—")} -> ○ | T55: {=IFERROR(CHOOSE(MATCH('📊 Training Matrix'!$AO$57,{"VALID","EXPIRING","EXPIRED","NOT TRAINED","N/A"},0),"✓","!","✗","○","—"),"—")} -> ○ | U55: {=IFERROR(CHOOSE(MATCH('📊 Training Matrix'!$AQ$57,{"VALID","EXPIRING","EXPIRED","NOT TRAINED","N/A"},0),"✓","!","✗","○","—"),"—")} -> ○ | V55: {=IFERROR(CHOOSE(MATCH('📊 Training Matrix'!$AS$57,{"VALID","EXPIRING","EXPIRED","NOT TRAINED","N/A"},0),"✓","!","✗","○","—"),"—")} -> ○ | W55: {=IFERROR(CHOOSE(MATCH('📊 Training Matrix'!$AU$57,{"VALID","EXPIRING","EXPIRED","NOT TRAINED","N/A"},0),"✓","!","✗","○","—"),"—")} -> ○ | X55: {=IFERROR(CHOOSE(MATCH('📊 Training Matrix'!$AW$57,{"VALID","EXPIRING","EXPIRED","NOT TRAINED","N/A"},0),"✓","!","✗","○","—"),"—")} -> ✗
A56: 🔶 James Evans | B56: Subcontractor | C56: IT & Systems › SCADA Engineer | D56: ='📊 Training Matrix'!$I$58 -> 0.5 | E56: {=IFERROR(CHOOSE(MATCH('📊 Training Matrix'!$K$58,{"VALID","EXPIRING","EXPIRED","NOT TRAINED","N/A"},0),"✓","!","✗","○","—"),"—")} -> ○ | F56: {=IFERROR(CHOOSE(MATCH('📊 Training Matrix'!$M$58,{"VALID","EXPIRING","EXPIRED","NOT TRAINED","N/A"},0),"✓","!","✗","○","—"),"—")} -> ○ | G56: {=IFERROR(CHOOSE(MATCH('📊 Training Matrix'!$O$58,{"VALID","EXPIRING","EXPIRED","NOT TRAINED","N/A"},0),"✓","!","✗","○","—"),"—")} -> ○ | H56: {=IFERROR(CHOOSE(MATCH('📊 Training Matrix'!$Q$58,{"VALID","EXPIRING","EXPIRED","NOT TRAINED","N/A"},0),"✓","!","✗","○","—"),"—")} -> ✗ | I56: {=IFERROR(CHOOSE(MATCH('📊 Training Matrix'!$S$58,{"VALID","EXPIRING","EXPIRED","NOT TRAINED","N/A"},0),"✓","!","✗","○","—"),"—")} -> ○ | J56: {=IFERROR(CHOOSE(MATCH('📊 Training Matrix'!$U$58,{"VALID","EXPIRING","EXPIRED","NOT TRAINED","N/A"},0),"✓","!","✗","○","—"),"—")} -> ○ | K56: {=IFERROR(CHOOSE(MATCH('📊 Training Matrix'!$W$58,{"VALID","EXPIRING","EXPIRED","NOT TRAINED","N/A"},0),"✓","!","✗","○","—"),"—")} -> ○ | L56: {=IFERROR(CHOOSE(MATCH('📊 Training Matrix'!$Y$58,{"VALID","EXPIRING","EXPIRED","NOT TRAINED","N/A"},0),"✓","!","✗","○","—"),"—")} -> ○ | M56: {=IFERROR(CHOOSE(MATCH('📊 Training Matrix'!$AA$58,{"VALID","EXPIRING","EXPIRED","NOT TRAINED","N/A"},0),"✓","!","✗","○","—"),"—")} -> ○ | N56: {=IFERROR(CHOOSE(MATCH('📊 Training Matrix'!$AC$58,{"VALID","EXPIRING","EXPIRED","NOT TRAINED","N/A"},0),"✓","!","✗","○","—"),"—")} -> ○ | O56: {=IFERROR(CHOOSE(MATCH('📊 Training Matrix'!$AE$58,{"VALID","EXPIRING","EXPIRED","NOT TRAINED","N/A"},0),"✓","!","✗","○","—"),"—")} -> ○ | P56: {=IFERROR(CHOOSE(MATCH('📊 Training Matrix'!$AG$58,{"VALID","EXPIRING","EXPIRED","NOT TRAINED","N/A"},0),"✓","!","✗","○","—"),"—")} -> ○ | Q56: {=IFERROR(CHOOSE(MATCH('📊 Training Matrix'!$AI$58,{"VALID","EXPIRING","EXPIRED","NOT TRAINED","N/A"},0),"✓","!","✗","○","—"),"—")} -> ○ | R56: {=IFERROR(CHOOSE(MATCH('📊 Training Matrix'!$AK$58,{"VALID","EXPIRING","EXPIRED","NOT TRAINED","N/A"},0),"✓","!","✗","○","—"),"—")} -> ○ | S56: {=IFERROR(CHOOSE(MATCH('📊 Training Matrix'!$AM$58,{"VALID","EXPIRING","EXPIRED","NOT TRAINED","N/A"},0),"✓","!","✗","○","—"),"—")} -> ○ | T56: {=IFERROR(CHOOSE(MATCH('📊 Training Matrix'!$AO$58,{"VALID","EXPIRING","EXPIRED","NOT TRAINED","N/A"},0),"✓","!","✗","○","—"),"—")} -> ○ | U56: {=IFERROR(CHOOSE(MATCH('📊 Training Matrix'!$AQ$58,{"VALID","EXPIRING","EXPIRED","NOT TRAINED","N/A"},0),"✓","!","✗","○","—"),"—")} -> ○ | V56: {=IFERROR(CHOOSE(MATCH('📊 Training Matrix'!$AS$58,{"VALID","EXPIRING","EXPIRED","NOT TRAINED","N/A"},0),"✓","!","✗","○","—"),"—")} -> ○ | W56: {=IFERROR(CHOOSE(MATCH('📊 Training Matrix'!$AU$58,{"VALID","EXPIRING","EXPIRED","NOT TRAINED","N/A"},0),"✓","!","✗","○","—"),"—")} -> ○ | X56: {=IFERROR(CHOOSE(MATCH('📊 Training Matrix'!$AW$58,{"VALID","EXPIRING","EXPIRED","NOT TRAINED","N/A"},0),"✓","!","✗","○","—"),"—")} -> ✓
A57: 🔶 Lisa Taylor | B57: Subcontractor | C57: Gas Operations › Gas Technician | D57: ='📊 Training Matrix'!$I$59 -> 0.625 | E57: {=IFERROR(CHOOSE(MATCH('📊 Training Matrix'!$K$59,{"VALID","EXPIRING","EXPIRED","NOT TRAINED","N/A"},0),"✓","!","✗","○","—"),"—")} -> ✓ | F57: {=IFERROR(CHOOSE(MATCH('📊 Training Matrix'!$M$59,{"VALID","EXPIRING","EXPIRED","NOT TRAINED","N/A"},0),"✓","!","✗","○","—"),"—")} -> ✓ | G57: {=IFERROR(CHOOSE(MATCH('📊 Training Matrix'!$O$59,{"VALID","EXPIRING","EXPIRED","NOT TRAINED","N/A"},0),"✓","!","✗","○","—"),"—")} -> ○ | H57: {=IFERROR(CHOOSE(MATCH('📊 Training Matrix'!$Q$59,{"VALID","EXPIRING","EXPIRED","NOT TRAINED","N/A"},0),"✓","!","✗","○","—"),"—")} -> ✓ | I57: {=IFERROR(CHOOSE(MATCH('📊 Training Matrix'!$S$59,{"VALID","EXPIRING","EXPIRED","NOT TRAINED","N/A"},0),"✓","!","✗","○","—"),"—")} -> ✗ | J57: {=IFERROR(CHOOSE(MATCH('📊 Training Matrix'!$U$59,{"VALID","EXPIRING","EXPIRED","NOT TRAINED","N/A"},0),"✓","!","✗","○","—"),"—")} -> ○ | K57: {=IFERROR(CHOOSE(MATCH('📊 Training Matrix'!$W$59,{"VALID","EXPIRING","EXPIRED","NOT TRAINED","N/A"},0),"✓","!","✗","○","—"),"—")} -> ○ | L57: {=IFERROR(CHOOSE(MATCH('📊 Training Matrix'!$Y$59,{"VALID","EXPIRING","EXPIRED","NOT TRAINED","N/A"},0),"✓","!","✗","○","—"),"—")} -> ○ | M57: {=IFERROR(CHOOSE(MATCH('📊 Training Matrix'!$AA$59,{"VALID","EXPIRING","EXPIRED","NOT TRAINED","N/A"},0),"✓","!","✗","○","—"),"—")} -> ○ | N57: {=IFERROR(CHOOSE(MATCH('📊 Training Matrix'!$AC$59,{"VALID","EXPIRING","EXPIRED","NOT TRAINED","N/A"},0),"✓","!","✗","○","—"),"—")} -> ○ | O57: {=IFERROR(CHOOSE(MATCH('📊 Training Matrix'!$AE$59,{"VALID","EXPIRING","EXPIRED","NOT TRAINED","N/A"},0),"✓","!","✗","○","—"),"—")} -> ○ | P57: {=IFERROR(CHOOSE(MATCH('📊 Training Matrix'!$AG$59,{"VALID","EXPIRING","EXPIRED","NOT TRAINED","N/A"},0),"✓","!","✗","○","—"),"—")} -> ○ | Q57: {=IFERROR(CHOOSE(MATCH('📊 Training Matrix'!$AI$59,{"VALID","EXPIRING","EXPIRED","NOT TRAINED","N/A"},0),"✓","!","✗","○","—"),"—")} -> ✗ | R57: {=IFERROR(CHOOSE(MATCH('📊 Training Matrix'!$AK$59,{"VALID","EXPIRING","EXPIRED","NOT TRAINED","N/A"},0),"✓","!","✗","○","—"),"—")} -> ✓ | S57: {=IFERROR(CHOOSE(MATCH('📊 Training Matrix'!$AM$59,{"VALID","EXPIRING","EXPIRED","NOT TRAINED","N/A"},0),"✓","!","✗","○","—"),"—")} -> ✗ | T57: {=IFERROR(CHOOSE(MATCH('📊 Training Matrix'!$AO$59,{"VALID","EXPIRING","EXPIRED","NOT TRAINED","N/A"},0),"✓","!","✗","○","—"),"—")} -> ○ | U57: {=IFERROR(CHOOSE(MATCH('📊 Training Matrix'!$AQ$59,{"VALID","EXPIRING","EXPIRED","NOT TRAINED","N/A"},0),"✓","!","✗","○","—"),"—")} -> ○ | V57: {=IFERROR(CHOOSE(MATCH('📊 Training Matrix'!$AS$59,{"VALID","EXPIRING","EXPIRED","NOT TRAINED","N/A"},0),"✓","!","✗","○","—"),"—")} -> ○ | W57: {=IFERROR(CHOOSE(MATCH('📊 Training Matrix'!$AU$59,{"VALID","EXPIRING","EXPIRED","NOT TRAINED","N/A"},0),"✓","!","✗","○","—"),"—")} -> ○ | X57: {=IFERROR(CHOOSE(MATCH('📊 Training Matrix'!$AW$59,{"VALID","EXPIRING","EXPIRED","NOT TRAINED","N/A"},0),"✓","!","✗","○","—"),"—")} -> ✓
A59: ✓ VALID | C59: ! EXPIRING | E59: ✗ EXPIRED | G59: ○ NOT TRAINED | I59: - N/A

Sheet 📊 Training Matrix
A1: TRAINING, COMPLIANCE & COMPETENCE MATRIX | High-Hazard Workforce
A2: Enter certification dates in yellow cells. Status updates automatically. Last updated: 28 July 2026 | Rows 5–104 = 100 workers max.
A3: WORKER DETAILS | J3: HS-001 H&S Induction | L3: HS-002 Working at Height | N3: HS-003 Confined Space | P3: HS-004 Manual Handling | R3: HS-005 First Aid (FAW) | T3: HS-006 Asbestos Aware. | V3: EL-001 C&G 2391 Inspect | X3: EL-002 18th Edition | Z3: EL-003 HV Auth. Person | AB3: EL-004 LV Switching | AD3: CV-005 NRSWA Supvsr | AF3: CV-006 NRSWA Operative | AH3: CV-002 CSCS Blue | AJ3: GS-001 Gas Safe Reg. | AL3: GS-002 ACS Gas (CCN1) | AN3: WA-001 WIAPS Cert. | AP3: DR-004 CPCS Excavator | AR3: MG-002 SMSTS | AT3: MG-003 SSSTS | AV3: IT-002 GDPR
A4: ID | B4: Surname | C4: First Name | D4: Worker Type | E4: Department | F4: Job Role / Title | G4: Site | H4: Manager | I4: Compliance % | J4: Cert. Date | K4: Status | L4: Cert. Date | M4: Status | N4: Cert. Date | O4: Status | P4: Cert. Date | Q4: Status | R4: Cert. Date | S4: Status | T4: Cert. Date | U4: Status | V4: Cert. Date | W4: Status | X4: Cert. Date | Y4: Status | Z4: Cert. Date | AA4: Status | AB4: Cert. Date | AC4: Status | AD4: Cert. Date | AE4: Status | AF4: Cert. Date | AG4: Status | AH4: Cert. Date | AI4: Status | AJ4: Cert. Date | AK4: Status | AL4: Cert. Date | AM4: Status | AN4: Cert. Date | AO4: Status | AP4: Cert. Date | AQ4: Status | AR4: Cert. Date | AS4: Status | AT4: Cert. Date | AU4: Status | AV4: Cert. Date | AW4: Status
A5: W1001 | B5: Martin | C5: Hannah | D5: Subcontractor | E5: IT & Systems | F5: IT Manager | G5: Wales – Cardiff | H5: S. Patel | I5: =IFERROR((COUNTIF(K5,"VALID")+COUNTIF(M5,"VALID")+COUNTIF(O5,"VALID")+COUNTIF(Q5,"VALID")+COUNTIF(S5,"VALID")+COUNTIF(U5,"VALID")+COUNTIF(W5,"VALID")+COUNTIF(Y5,"VALID")+COUNTIF(AA5,"VALID")+COUNTIF(AC5,"VALID")+COUNTIF(AE5,"VALID")+COUNTIF(AG5,"VALID")+COUNTIF(AI5,"VALID")+COUNTIF(AK5,"VALID")+COUNTIF(AM5,"VALID")+COUNTIF(AO5,"VALID")+COUNTIF(AQ5,"VALID")+COUNTIF(AS5,"VALID")+COUNTIF(AU5,"VALID")+COUNTIF(AW5,"VALID"))/(COUNTIFS(K5,"<>NOT TRAINED",K5,"<>N/A")+COUNTIFS(M5,"<>NOT TRAINED",M5,"<>N/A")+COUNTIFS(O5,"<>NOT TRAINED",O5,"<>N/A")+COUNTIFS(Q5,"<>NOT TRAINED",Q5,"<>N/A")+COUNTIFS(S5,"<>NOT TRAINED",S5,"<>N/A")+COUNTIFS(U5,"<>NOT TRAINED",U5,"<>N/A")+COUNTIFS(W5,"<>NOT TRAINED",W5,"<>N/A")+COUNTIFS(Y5,"<>NOT TRAINED",Y5,"<>N/A")+COUNTIFS(AA5,"<>NOT TRAINED",AA5,"<>N/A")+COUNTIFS(AC5,"<>NOT TRAINED",AC5,"<>N/A")+COUNTIFS(AE5,"<>NOT TRAINED",AE5,"<>N/A")+COUNTIFS(AG5,"<>NOT TRAINED",AG5,"<>N/A")+COUNTIFS(AI5,"<>NOT TRAINED",AI5,"<>N/A")+COUNTIFS(AK5,"<>NOT TRAINED",AK5,"<>N/A")+COUNTIFS(AM5,"<>NOT TRAINED",AM5,"<>N/A")+COUNTIFS(AO5,"<>NOT TRAINED",AO5,"<>N/A")+COUNTIFS(AQ5,"<>NOT TRAINED",AQ5,"<>N/A")+COUNTIFS(AS5,"<>NOT TRAINED",AS5,"<>N/A")+COUNTIFS(AU5,"<>NOT TRAINED",AU5,"<>N/A")+COUNTIFS(AW5,"<>NOT TRAINED",AW5,"<>N/A")),"") -> 0.6 | J5: 46025 | K5: =IF(OR(J5="",J5="N/A"),"NOT TRAINED",IF(J5+365<TODAY(),"EXPIRED",IF(J5+365-TODAY()<=60,"EXPIRING","VALID"))) -> VALID | L5: 46025 | M5: =IF(OR(L5="",L5="N/A"),"NOT TRAINED",IF(L5+365<TODAY(),"EXPIRED",IF(L5+365-TODAY()<=60,"EXPIRING","VALID"))) -> VALID | N5: N/A | O5: =IF(OR(N5="",N5="N/A"),"NOT TRAINED",IF(N5+365<TODAY(),"EXPIRED",IF(N5+365-TODAY()<=60,"EXPIRING","VALID"))) -> NOT TRAINED | P5: 45536 | Q5: =IF(OR(P5="",P5="N/A"),"NOT TRAINED",IF(P5+365<TODAY(),"EXPIRED",IF(P5+365-TODAY()<=60,"EXPIRING","VALID"))) -> EXPIRED | R5: 45826 | S5: =IF(OR(R5="",R5="N/A"),"NOT TRAINED",IF(R5+365<TODAY(),"EXPIRED",IF(R5+365-TODAY()<=60,"EXPIRING","VALID"))) -> EXPIRED | T5: N/A | U5: =IF(OR(T5="",T5="N/A"),"NOT TRAINED",IF(T5+365<TODAY(),"EXPIRED",IF(T5+365-TODAY()<=60,"EXPIRING","VALID"))) -> NOT TRAINED | V5: N/A | W5: =IF(OR(V5="",V5="N/A"),"NOT TRAINED",IF(V5+365<TODAY(),"EXPIRED",IF(V5+365-TODAY()<=60,"EXPIRING","VALID"))) -> NOT TRAINED | X5: N/A | Y5: =IF(OR(X5="",X5="N/A"),"NOT TRAINED",IF(X5+365<TODAY(),"EXPIRED",IF(X5+365-TODAY()<=60,"EXPIRING","VALID"))) -> NOT TRAINED | Z5: N/A | AA5: =IF(OR(Z5="",Z5="N/A"),"NOT TRAINED",IF(Z5+365<TODAY(),"EXPIRED",IF(Z5+365-TODAY()<=60,"EXPIRING","VALID"))) -> NOT TRAINED | AB5: N/A | AC5: =IF(OR(AB5="",AB5="N/A"),"NOT TRAINED",IF(AB5+365<TODAY(),"EXPIRED",IF(AB5+365-TODAY()<=60,"EXPIRING","VALID"))) -> NOT TRAINED | AD5: N/A | AE5: =IF(OR(AD5="",AD5="N/A"),"NOT TRAINED",IF(AD5+365<TODAY(),"EXPIRED",IF(AD5+365-TODAY()<=60,"EXPIRING","VALID"))) -> NOT TRAINED | AF5: N/A | AG5: =IF(OR(AF5="",AF5="N/A"),"NOT TRAINED",IF(AF5+365<TODAY(),"EXPIRED",IF(AF5+365-TODAY()<=60,"EXPIRING","VALID"))) -> NOT TRAINED | AH5: N/A | AI5: =IF(OR(AH5="",AH5="N/A"),"NOT TRAINED",IF(AH5+365<TODAY(),"EXPIRED",IF(AH5+365-TODAY()<=60,"EXPIRING","VALID"))) -> NOT TRAINED | AJ5: N/A | AK5: =IF(OR(AJ5="",AJ5="N/A"),"NOT TRAINED",IF(AJ5+365<TODAY(),"EXPIRED",IF(AJ5+365-TODAY()<=60,"EXPIRING","VALID"))) -> NOT TRAINED | AL5: N/A | AM5: =IF(OR(AL5="",AL5="N/A"),"NOT TRAINED",IF(AL5+365<TODAY(),"EXPIRED",IF(AL5+365-TODAY()<=60,"EXPIRING","VALID"))) -> NOT TRAINED | AN5: N/A | AO5: =IF(OR(AN5="",AN5="N/A"),"NOT TRAINED",IF(AN5+365<TODAY(),"EXPIRED",IF(AN5+365-TODAY()<=60,"EXPIRING","VALID"))) -> NOT TRAINED | AP5: N/A | AQ5: =IF(OR(AP5="",AP5="N/A"),"NOT TRAINED",IF(AP5+365<TODAY(),"EXPIRED",IF(AP5+365-TODAY()<=60,"EXPIRING","VALID"))) -> NOT TRAINED | AR5: N/A | AS5: =IF(OR(AR5="",AR5="N/A"),"NOT TRAINED",IF(AR5+365<TODAY(),"EXPIRED",IF(AR5+365-TODAY()<=60,"EXPIRING","VALID"))) -> NOT TRAINED | AT5: N/A | AU5: =IF(OR(AT5="",AT5="N/A"),"NOT TRAINED",IF(AT5+365<TODAY(),"EXPIRED",IF(AT5+365-TODAY()<=60,"EXPIRING","VALID"))) -> NOT TRAINED | AV5: 46108 | AW5: =IF(OR(AV5="",AV5="N/A"),"NOT TRAINED",IF(AV5+365<TODAY(),"EXPIRED",IF(AV5+365-TODAY()<=60,"EXPIRING","VALID"))) -> VALID
A6: W1002 | B6: Adams | C6: Simon | D6: Employee | E6: HSEQ | F6: HSEQ Manager | G6: Northern Hub – Leeds | H6: R. O'Brien | I6: =IFERROR((COUNTIF(K6,"VALID")+COUNTIF(M6,"VALID")+COUNTIF(O6,"VALID")+COUNTIF(Q6,"VALID")+COUNTIF(S6,"VALID")+COUNTIF(U6,"VALID")+COUNTIF(W6,"VALID")+COUNTIF(Y6,"VALID")+COUNTIF(AA6,"VALID")+COUNTIF(AC6,"VALID")+COUNTIF(AE6,"VALID")+COUNTIF(AG6,"VALID")+COUNTIF(AI6,"VALID")+COUNTIF(AK6,"VALID")+COUNTIF(AM6,"VALID")+COUNTIF(AO6,"VALID")+COUNTIF(AQ6,"VALID")+COUNTIF(AS6,"VALID")+COUNTIF(AU6,"VALID")+COUNTIF(AW6,"VALID"))/(COUNTIFS(K6,"<>NOT TRAINED",K6,"<>N/A")+COUNTIFS(M6,"<>NOT TRAINED",M6,"<>N/A")+COUNTIFS(O6,"<>NOT TRAINED",O6,"<>N/A")+COUNTIFS(Q6,"<>NOT TRAINED",Q6,"<>N/A")+COUNTIFS(S6,"<>NOT TRAINED",S6,"<>N/A")+COUNTIFS(U6,"<>NOT TRAINED",U6,"<>N/A")+COUNTIFS(W6,"<>NOT TRAINED",W6,"<>N/A")+COUNTIFS(Y6,"<>NOT TRAINED",Y6,"<>N/A")+COUNTIFS(AA6,"<>NOT TRAINED",AA6,"<>N/A")+COUNTIFS(AC6,"<>NOT TRAINED",AC6,"<>N/A")+COUNTIFS(AE6,"<>NOT TRAINED",AE6,"<>N/A")+COUNTIFS(AG6,"<>NOT TRAINED",AG6,"<>N/A")+COUNTIFS(AI6,"<>NOT TRAINED",AI6,"<>N/A")+COUNTIFS(AK6,"<>NOT TRAINED",AK6,"<>N/A")+COUNTIFS(AM6,"<>NOT TRAINED",AM6,"<>N/A")+COUNTIFS(AO6,"<>NOT TRAINED",AO6,"<>N/A")+COUNTIFS(AQ6,"<>NOT TRAINED",AQ6,"<>N/A")+COUNTIFS(AS6,"<>NOT TRAINED",AS6,"<>N/A")+COUNTIFS(AU6,"<>NOT TRAINED",AU6,"<>N/A")+COUNTIFS(AW6,"<>NOT TRAINED",AW6,"<>N/A")),"") -> 0.5 | J6: 46113 | K6: =IF(OR(J6="",J6="N/A"),"NOT TRAINED",IF(J6+365<TODAY(),"EXPIRED",IF(J6+365-TODAY()<=60,"EXPIRING","VALID"))) -> VALID | L6: N/A | M6: =IF(OR(L6="",L6="N/A"),"NOT TRAINED",IF(L6+365<TODAY(),"EXPIRED",IF(L6+365-TODAY()<=60,"EXPIRING","VALID"))) -> NOT TRAINED | N6: N/A | O6: =IF(OR(N6="",N6="N/A"),"NOT TRAINED",IF(N6+365<TODAY(),"EXPIRED",IF(N6+365-TODAY()<=60,"EXPIRING","VALID"))) -> NOT TRAINED | P6: 45926 | Q6: =IF(OR(P6="",P6="N/A"),"NOT TRAINED",IF(P6+365<TODAY(),"EXPIRED",IF(P6+365-TODAY()<=60,"EXPIRING","VALID"))) -> EXPIRING | R6: 45868 | S6: =IF(OR(R6="",R6="N/A"),"NOT TRAINED",IF(R6+365<TODAY(),"EXPIRED",IF(R6+365-TODAY()<=60,"EXPIRING","VALID"))) -> EXPIRED | T6: N/A | U6: =IF(OR(T6="",T6="N/A"),"NOT TRAINED",IF(T6+365<TODAY(),"EXPIRED",IF(T6+365-TODAY()<=60,"EXPIRING","VALID"))) -> NOT TRAINED | V6: N/A | W6: =IF(OR(V6="",V6="N/A"),"NOT TRAINED",IF(V6+365<TODAY(),"EXPIRED",IF(V6+365-TODAY()<=60,"EXPIRING","VALID"))) -> NOT TRAINED | X6: N/A | Y6: =IF(OR(X6="",X6="N/A"),"NOT TRAINED",IF(X6+365<TODAY(),"EXPIRED",IF(X6+365-TODAY()<=60,"EXPIRING","VALID"))) -> NOT TRAINED | Z6: N/A | AA6: =IF(OR(Z6="",Z6="N/A"),"NOT TRAINED",IF(Z6+365<TODAY(),"EXPIRED",IF(Z6+365-TODAY()<=60,"EXPIRING","VALID"))) -> NOT TRAINED | AB6: N/A | AC6: =IF(OR(AB6="",AB6="N/A"),"NOT TRAINED",IF(AB6+365<TODAY(),"EXPIRED",IF(AB6+365-TODAY()<=60,"EXPIRING","VALID"))) -> NOT TRAINED | AD6: N/A | AE6: =IF(OR(AD6="",AD6="N/A"),"NOT TRAINED",IF(AD6+365<TODAY(),"EXPIRED",IF(AD6+365-TODAY()<=60,"EXPIRING","VALID"))) -> NOT TRAINED | AF6: N/A | AG6: =IF(OR(AF6="",AF6="N/A"),"NOT TRAINED",IF(AF6+365<TODAY(),"EXPIRED",IF(AF6+365-TODAY()<=60,"EXPIRING","VALID"))) -> NOT TRAINED | AH6: N/A | AI6: =IF(OR(AH6="",AH6="N/A"),"NOT TRAINED",IF(AH6+365<TODAY(),"EXPIRED",IF(AH6+365-TODAY()<=60,"EXPIRING","VALID"))) -> NOT TRAINED | AJ6: N/A | AK6: =IF(OR(AJ6="",AJ6="N/A"),"NOT TRAINED",IF(AJ6+365<TODAY(),"EXPIRED",IF(AJ6+365-TODAY()<=60,"EXPIRING","VALID"))) -> NOT TRAINED | AL6: N/A | AM6: =IF(OR(AL6="",AL6="N/A"),"NOT TRAINED",IF(AL6+365<TODAY(),"EXPIRED",IF(AL6+365-TODAY()<=60,"EXPIRING","VALID"))) -> NOT TRAINED | AN6: N/A | AO6: =IF(OR(AN6="",AN6="N/A"),"NOT TRAINED",IF(AN6+365<TODAY(),"EXPIRED",IF(AN6+365-TODAY()<=60,"EXPIRING","VALID"))) -> NOT TRAINED | AP6: N/A | AQ6: =IF(OR(AP6="",AP6="N/A"),"NOT TRAINED",IF(AP6+365<TODAY(),"EXPIRED",IF(AP6+365-TODAY()<=60,"EXPIRING","VALID"))) -> NOT TRAINED | AR6: N/A | AS6: =IF(OR(AR6="",AR6="N/A"),"NOT TRAINED",IF(AR6+365<TODAY(),"EXPIRED",IF(AR6+365-TODAY()<=60,"EXPIRING","VALID"))) -> NOT TRAINED | AT6: N/A | AU6: =IF(OR(AT6="",AT6="N/A"),"NOT TRAINED",IF(AT6+365<TODAY(),"EXPIRED",IF(AT6+365-TODAY()<=60,"EXPIRING","VALID"))) -> NOT TRAINED | AV6: 46058 | AW6: =IF(OR(AV6="",AV6="N/A"),"NOT TRAINED",IF(AV6+365<TODAY(),"EXPIRED",IF(AV6+365-TODAY()<=60,"EXPIRING","VALID"))) -> VALID
A7: W1003 | B7: Miller | C7: Sophie | D7: Employee | E7: Civil Works | F7: Site Supervisor | G7: Scotland – Glasgow | H7: S. Patel | I7: =IFERROR((COUNTIF(K7,"VALID")+COUNTIF(M7,"VALID")+COUNTIF(O7,"VALID")+COUNTIF(Q7,"VALID")+COUNTIF(S7,"VALID")+COUNTIF(U7,"VALID")+COUNTIF(W7,"VALID")+COUNTIF(Y7,"VALID")+COUNTIF(AA7,"VALID")+COUNTIF(AC7,"VALID")+COUNTIF(AE7,"VALID")+COUNTIF(AG7,"VALID")+COUNTIF(AI7,"VALID")+COUNTIF(AK7,"VALID")+COUNTIF(AM7,"VALID")+COUNTIF(AO7,"VALID")+COUNTIF(AQ7,"VALID")+COUNTIF(AS7,"VALID")+COUNTIF(AU7,"VALID")+COUNTIF(AW7,"VALID"))/(COUNTIFS(K7,"<>NOT TRAINED",K7,"<>N/A")+COUNTIFS(M7,"<>NOT TRAINED",M7,"<>N/A")+COUNTIFS(O7,"<>NOT TRAINED",O7,"<>N/A")+COUNTIFS(Q7,"<>NOT TRAINED",Q7,"<>N/A")+COUNTIFS(S7,"<>NOT TRAINED",S7,"<>N/A")+COUNTIFS(U7,"<>NOT TRAINED",U7,"<>N/A")+COUNTIFS(W7,"<>NOT TRAINED",W7,"<>N/A")+COUNTIFS(Y7,"<>NOT TRAINED",Y7,"<>N/A")+COUNTIFS(AA7,"<>NOT TRAINED",AA7,"<>N/A")+COUNTIFS(AC7,"<>NOT TRAINED",AC7,"<>N/A")+COUNTIFS(AE7,"<>NOT TRAINED",AE7,"<>N/A")+COUNTIFS(AG7,"<>NOT TRAINED",AG7,"<>N/A")+COUNTIFS(AI7,"<>NOT TRAINED",AI7,"<>N/A")+COUNTIFS(AK7,"<>NOT TRAINED",AK7,"<>N/A")+COUNTIFS(AM7,"<>NOT TRAINED",AM7,"<>N/A")+COUNTIFS(AO7,"<>NOT TRAINED",AO7,"<>N/A")+COUNTIFS(AQ7,"<>NOT TRAINED",AQ7,"<>N/A")+COUNTIFS(AS7,"<>NOT TRAINED",AS7,"<>N/A")+COUNTIFS(AU7,"<>NOT TRAINED",AU7,"<>N/A")+COUNTIFS(AW7,"<>NOT TRAINED",AW7,"<>N/A")),"") -> 0.6 | K7: =IF(OR(J7="",J7="N/A"),"NOT TRAINED",IF(J7+365<TODAY(),"EXPIRED",IF(J7+365-TODAY()<=60,"EXPIRING","VALID"))) -> NOT TRAINED | L7: N/A | M7: =IF(OR(L7="",L7="N/A"),"NOT TRAINED",IF(L7+365<TODAY(),"EXPIRED",IF(L7+365-TODAY()<=60,"EXPIRING","VALID"))) -> NOT TRAINED | N7: N/A | O7: =IF(OR(N7="",N7="N/A"),"NOT TRAINED",IF(N7+365<TODAY(),"EXPIRED",IF(N7+365-TODAY()<=60,"EXPIRING","VALID"))) -> NOT TRAINED | P7: 45978 | Q7: =IF(OR(P7="",P7="N/A"),"NOT TRAINED",IF(P7+365<TODAY(),"EXPIRED",IF(P7+365-TODAY()<=60,"EXPIRING","VALID"))) -> VALID | R7: 46101 | S7: =IF(OR(R7="",R7="N/A"),"NOT TRAINED",IF(R7+365<TODAY(),"EXPIRED",IF(R7+365-TODAY()<=60,"EXPIRING","VALID"))) -> VALID | T7: N/A | U7: =IF(OR(T7="",T7="N/A"),"NOT TRAINED",IF(T7+365<TODAY(),"EXPIRED",IF(T7+365-TODAY()<=60,"EXPIRING","VALID"))) -> NOT TRAINED | V7: N/A | W7: =IF(OR(V7="",V7="N/A"),"NOT TRAINED",IF(V7+365<TODAY(),"EXPIRED",IF(V7+365-TODAY()<=60,"EXPIRING","VALID"))) -> NOT TRAINED | X7: N/A | Y7: =IF(OR(X7="",X7="N/A"),"NOT TRAINED",IF(X7+365<TODAY(),"EXPIRED",IF(X7+365-TODAY()<=60,"EXPIRING","VALID"))) -> NOT TRAINED | Z7: N/A | AA7: =IF(OR(Z7="",Z7="N/A"),"NOT TRAINED",IF(Z7+365<TODAY(),"EXPIRED",IF(Z7+365-TODAY()<=60,"EXPIRING","VALID"))) -> NOT TRAINED | AB7: N/A | AC7: =IF(OR(AB7="",AB7="N/A"),"NOT TRAINED",IF(AB7+365<TODAY(),"EXPIRED",IF(AB7+365-TODAY()<=60,"EXPIRING","VALID"))) -> NOT TRAINED | AD7: 45176 | AE7: =IF(OR(AD7="",AD7="N/A"),"NOT TRAINED",IF(AD7+365<TODAY(),"EXPIRED",IF(AD7+365-TODAY()<=60,"EXPIRING","VALID"))) -> EXPIRED | AF7: N/A | AG7: =IF(OR(AF7="",AF7="N/A"),"NOT TRAINED",IF(AF7+365<TODAY(),"EXPIRED",IF(AF7+365-TODAY()<=60,"EXPIRING","VALID"))) -> NOT TRAINED | AH7: N/A | AI7: =IF(OR(AH7="",AH7="N/A"),"NOT TRAINED",IF(AH7+365<TODAY(),"EXPIRED",IF(AH7+365-TODAY()<=60,"EXPIRING","VALID"))) -> NOT TRAINED | AJ7: N/A | AK7: =IF(OR(AJ7="",AJ7="N/A"),"NOT TRAINED",IF(AJ7+365<TODAY(),"EXPIRED",IF(AJ7+365-TODAY()<=60,"EXPIRING","VALID"))) -> NOT TRAINED | AL7: N/A | AM7: =IF(OR(AL7="",AL7="N/A"),"NOT TRAINED",IF(AL7+365<TODAY(),"EXPIRED",IF(AL7+365-TODAY()<=60,"EXPIRING","VALID"))) -> NOT TRAINED | AN7: N/A | AO7: =IF(OR(AN7="",AN7="N/A"),"NOT TRAINED",IF(AN7+365<TODAY(),"EXPIRED",IF(AN7+365-TODAY()<=60,"EXPIRING","VALID"))) -> NOT TRAINED | AP7: N/A | AQ7: =IF(OR(AP7="",AP7="N/A"),"NOT TRAINED",IF(AP7+365<TODAY(),"EXPIRED",IF(AP7+365-TODAY()<=60,"EXPIRING","VALID"))) -> NOT TRAINED | AR7: N/A | AS7: =IF(OR(AR7="",AR7="N/A"),"NOT TRAINED",IF(AR7+365<TODAY(),"EXPIRED",IF(AR7+365-TODAY()<=60,"EXPIRING","VALID"))) -> NOT TRAINED | AT7: 45664 | AU7: =IF(OR(AT7="",AT7="N/A"),"NOT TRAINED",IF(AT7+365<TODAY(),"EXPIRED",IF(AT7+365-TODAY()<=60,"EXPIRING","VALID"))) -> EXPIRED | AV7: 45994 | AW7: =IF(OR(AV7="",AV7="N/A"),"NOT TRAINED",IF(AV7+365<TODAY(),"EXPIRED",IF(AV7+365-TODAY()<=60,"EXPIRING","VALID"))) -> VALID
A8: W1004 | B8: Garcia | C8: Steve | D8: Employee | E8: HSEQ | F8: HSEQ Manager | G8: Eastern Region – Norwich | H8: C. Zhang | I8: =IFERROR((COUNTIF(K8,"VALID")+COUNTIF(M8,"VALID")+COUNTIF(O8,"VALID")+COUNTIF(Q8,"VALID")+COUNTIF(S8,"VALID")+COUNTIF(U8,"VALID")+COUNTIF(W8,"VALID")+COUNTIF(Y8,"VALID")+COUNTIF(AA8,"VALID")+COUNTIF(AC8,"VALID")+COUNTIF(AE8,"VALID")+COUNTIF(AG8,"VALID")+COUNTIF(AI8,"VALID")+COUNTIF(AK8,"VALID")+COUNTIF(AM8,"VALID")+COUNTIF(AO8,"VALID")+COUNTIF(AQ8,"VALID")+COUNTIF(AS8,"VALID")+COUNTIF(AU8,"VALID")+COUNTIF(AW8,"VALID"))/(COUNTIFS(K8,"<>NOT TRAINED",K8,"<>N/A")+COUNTIFS(M8,"<>NOT TRAINED",M8,"<>N/A")+COUNTIFS(O8,"<>NOT TRAINED",O8,"<>N/A")+COUNTIFS(Q8,"<>NOT TRAINED",Q8,"<>N/A")+COUNTIFS(S8,"<>NOT TRAINED",S8,"<>N/A")+COUNTIFS(U8,"<>NOT TRAINED",U8,"<>N/A")+COUNTIFS(W8,"<>NOT TRAINED",W8,"<>N/A")+COUNTIFS(Y8,"<>NOT TRAINED",Y8,"<>N/A")+COUNTIFS(AA8,"<>NOT TRAINED",AA8,"<>N/A")+COUNTIFS(AC8,"<>NOT TRAINED",AC8,"<>N/A")+COUNTIFS(AE8,"<>NOT TRAINED",AE8,"<>N/A")+COUNTIFS(AG8,"<>NOT TRAINED",AG8,"<>N/A")+COUNTIFS(AI8,"<>NOT TRAINED",AI8,"<>N/A")+COUNTIFS(AK8,"<>NOT TRAINED",AK8,"<>N/A")+COUNTIFS(AM8,"<>NOT TRAINED",AM8,"<>N/A")+COUNTIFS(AO8,"<>NOT TRAINED",AO8,"<>N/A")+COUNTIFS(AQ8,"<>NOT TRAINED",AQ8,"<>N/A")+COUNTIFS(AS8,"<>NOT TRAINED",AS8,"<>N/A")+COUNTIFS(AU8,"<>NOT TRAINED",AU8,"<>N/A")+COUNTIFS(AW8,"<>NOT TRAINED",AW8,"<>N/A")),"") -> 0.5 | J8: 46022 | K8: =IF(OR(J8="",J8="N/A"),"NOT TRAINED",IF(J8+365<TODAY(),"EXPIRED",IF(J8+365-TODAY()<=60,"EXPIRING","VALID"))) -> VALID | L8: N/A | M8: =IF(OR(L8="",L8="N/A"),"NOT TRAINED",IF(L8+365<TODAY(),"EXPIRED",IF(L8+365-TODAY()<=60,"EXPIRING","VALID"))) -> NOT TRAINED | N8: N/A | O8: =IF(OR(N8="",N8="N/A"),"NOT TRAINED",IF(N8+365<TODAY(),"EXPIRED",IF(N8+365-TODAY()<=60,"EXPIRING","VALID"))) -> NOT TRAINED | P8: 45092 | Q8: =IF(OR(P8="",P8="N/A"),"NOT TRAINED",IF(P8+365<TODAY(),"EXPIRED",IF(P8+365-TODAY()<=60,"EXPIRING","VALID"))) -> EXPIRED | R8: 45498 | S8: =IF(OR(R8="",R8="N/A"),"NOT TRAINED",IF(R8+365<TODAY(),"EXPIRED",IF(R8+365-TODAY()<=60,"EXPIRING","VALID"))) -> EXPIRED | T8: N/A | U8: =IF(OR(T8="",T8="N/A"),"NOT TRAINED",IF(T8+365<TODAY(),"EXPIRED",IF(T8+365-TODAY()<=60,"EXPIRING","VALID"))) -> NOT TRAINED | V8: N/A | W8: =IF(OR(V8="",V8="N/A"),"NOT TRAINED",IF(V8+365<TODAY(),"EXPIRED",IF(V8+365-TODAY()<=60,"EXPIRING","VALID"))) -> NOT TRAINED | X8: N/A | Y8: =IF(OR(X8="",X8="N/A"),"NOT TRAINED",IF(X8+365<TODAY(),"EXPIRED",IF(X8+365-TODAY()<=60,"EXPIRING","VALID"))) -> NOT TRAINED | Z8: N/A | AA8: =IF(OR(Z8="",Z8="N/A"),"NOT TRAINED",IF(Z8+365<TODAY(),"EXPIRED",IF(Z8+365-TODAY()<=60,"EXPIRING","VALID"))) -> NOT TRAINED | AB8: N/A | AC8: =IF(OR(AB8="",AB8="N/A"),"NOT TRAINED",IF(AB8+365<TODAY(),"EXPIRED",IF(AB8+365-TODAY()<=60,"EXPIRING","VALID"))) -> NOT TRAINED | AD8: N/A | AE8: =IF(OR(AD8="",AD8="N/A"),"NOT TRAINED",IF(AD8+365<TODAY(),"EXPIRED",IF(AD8+365-TODAY()<=60,"EXPIRING","VALID"))) -> NOT TRAINED | AF8: N/A | AG8: =IF(OR(AF8="",AF8="N/A"),"NOT TRAINED",IF(AF8+365<TODAY(),"EXPIRED",IF(AF8+365-TODAY()<=60,"EXPIRING","VALID"))) -> NOT TRAINED | AH8: N/A | AI8: =IF(OR(AH8="",AH8="N/A"),"NOT TRAINED",IF(AH8+365<TODAY(),"EXPIRED",IF(AH8+365-TODAY()<=60,"EXPIRING","VALID"))) -> NOT TRAINED | AJ8: N/A | AK8: =IF(OR(AJ8="",AJ8="N/A"),"NOT TRAINED",IF(AJ8+365<TODAY(),"EXPIRED",IF(AJ8+365-TODAY()<=60,"EXPIRING","VALID"))) -> NOT TRAINED | AL8: N/A | AM8: =IF(OR(AL8="",AL8="N/A"),"NOT TRAINED",IF(AL8+365<TODAY(),"EXPIRED",IF(AL8+365-TODAY()<=60,"EXPIRING","VALID"))) -> NOT TRAINED | AN8: N/A | AO8: =IF(OR(AN8="",AN8="N/A"),"NOT TRAINED",IF(AN8+365<TODAY(),"EXPIRED",IF(AN8+365-TODAY()<=60,"EXPIRING","VALID"))) -> NOT TRAINED | AP8: N/A | AQ8: =IF(OR(AP8="",AP8="N/A"),"NOT TRAINED",IF(AP8+365<TODAY(),"EXPIRED",IF(AP8+365-TODAY()<=60,"EXPIRING","VALID"))) -> NOT TRAINED | AR8: N/A | AS8: =IF(OR(AR8="",AR8="N/A"),"NOT TRAINED",IF(AR8+365<TODAY(),"EXPIRED",IF(AR8+365-TODAY()<=60,"EXPIRING","VALID"))) -> NOT TRAINED | AT8: N/A | AU8: =IF(OR(AT8="",AT8="N/A"),"NOT TRAINED",IF(AT8+365<TODAY(),"EXPIRED",IF(AT8+365-TODAY()<=60,"EXPIRING","VALID"))) -> NOT TRAINED | AV8: 46037 | AW8: =IF(OR(AV8="",AV8="N/A"),"NOT TRAINED",IF(AV8+365<TODAY(),"EXPIRED",IF(AV8+365-TODAY()<=60,"EXPIRING","VALID"))) -> VALID
A9: W1005 | B9: Young | C9: Steve | D9: Employee | E9: Field Engineering | F9: Senior Field Engineer | G9: Scotland – Glasgow | H9: A. Williams | I9: =IFERROR((COUNTIF(K9,"VALID")+COUNTIF(M9,"VALID")+COUNTIF(O9,"VALID")+COUNTIF(Q9,"VALID")+COUNTIF(S9,"VALID")+COUNTIF(U9,"VALID")+COUNTIF(W9,"VALID")+COUNTIF(Y9,"VALID")+COUNTIF(AA9,"VALID")+COUNTIF(AC9,"VALID")+COUNTIF(AE9,"VALID")+COUNTIF(AG9,"VALID")+COUNTIF(AI9,"VALID")+COUNTIF(AK9,"VALID")+COUNTIF(AM9,"VALID")+COUNTIF(AO9,"VALID")+COUNTIF(AQ9,"VALID")+COUNTIF(AS9,"VALID")+COUNTIF(AU9,"VALID")+COUNTIF(AW9,"VALID"))/(COUNTIFS(K9,"<>NOT TRAINED",K9,"<>N/A")+COUNTIFS(M9,"<>NOT TRAINED",M9,"<>N/A")+COUNTIFS(O9,"<>NOT TRAINED",O9,"<>N/A")+COUNTIFS(Q9,"<>NOT TRAINED",Q9,"<>N/A")+COUNTIFS(S9,"<>NOT TRAINED",S9,"<>N/A")+COUNTIFS(U9,"<>NOT TRAINED",U9,"<>N/A")+COUNTIFS(W9,"<>NOT TRAINED",W9,"<>N/A")+COUNTIFS(Y9,"<>NOT TRAINED",Y9,"<>N/A")+COUNTIFS(AA9,"<>NOT TRAINED",AA9,"<>N/A")+COUNTIFS(AC9,"<>NOT TRAINED",AC9,"<>N/A")+COUNTIFS(AE9,"<>NOT TRAINED",AE9,"<>N/A")+COUNTIFS(AG9,"<>NOT TRAINED",AG9,"<>N/A")+COUNTIFS(AI9,"<>NOT TRAINED",AI9,"<>N/A")+COUNTIFS(AK9,"<>NOT TRAINED",AK9,"<>N/A")+COUNTIFS(AM9,"<>NOT TRAINED",AM9,"<>N/A")+COUNTIFS(AO9,"<>NOT TRAINED",AO9,"<>N/A")+COUNTIFS(AQ9,"<>NOT TRAINED",AQ9,"<>N/A")+COUNTIFS(AS9,"<>NOT TRAINED",AS9,"<>N/A")+COUNTIFS(AU9,"<>NOT TRAINED",AU9,"<>N/A")+COUNTIFS(AW9,"<>NOT TRAINED",AW9,"<>N/A")),"") -> 0.5 | J9: 45999 | K9: =IF(OR(J9="",J9="N/A"),"NOT TRAINED",IF(J9+365<TODAY(),"EXPIRED",IF(J9+365-TODAY()<=60,"EXPIRING","VALID"))) -> VALID | M9: =IF(OR(L9="",L9="N/A"),"NOT TRAINED",IF(L9+365<TODAY(),"EXPIRED",IF(L9+365-TODAY()<=60,"EXPIRING","VALID"))) -> NOT TRAINED | N9: 45095 | O9: =IF(OR(N9="",N9="N/A"),"NOT TRAINED",IF(N9+365<TODAY(),"EXPIRED",IF(N9+365-TODAY()<=60,"EXPIRING","VALID"))) -> EXPIRED | P9: 46065 | Q9: =IF(OR(P9="",P9="N/A"),"NOT TRAINED",IF(P9+365<TODAY(),"EXPIRED",IF(P9+365-TODAY()<=60,"EXPIRING","VALID"))) -> VALID | R9: 45128 | S9: =IF(OR(R9="",R9="N/A"),"NOT TRAINED",IF(R9+365<TODAY(),"EXPIRED",IF(R9+365-TODAY()<=60,"EXPIRING","VALID"))) -> EXPIRED | T9: 45993 | U9: =IF(OR(T9="",T9="N/A"),"NOT TRAINED",IF(T9+365<TODAY(),"EXPIRED",IF(T9+365-TODAY()<=60,"EXPIRING","VALID"))) -> VALID | V9: N/A | W9: =IF(OR(V9="",V9="N/A"),"NOT TRAINED",IF(V9+365<TODAY(),"EXPIRED",IF(V9+365-TODAY()<=60,"EXPIRING","VALID"))) -> NOT TRAINED | X9: N/A | Y9: =IF(OR(X9="",X9="N/A"),"NOT TRAINED",IF(X9+365<TODAY(),"EXPIRED",IF(X9+365-TODAY()<=60,"EXPIRING","VALID"))) -> NOT TRAINED | Z9: N/A | AA9: =IF(OR(Z9="",Z9="N/A"),"NOT TRAINED",IF(Z9+365<TODAY(),"EXPIRED",IF(Z9+365-TODAY()<=60,"EXPIRING","VALID"))) -> NOT TRAINED | AB9: N/A | AC9: =IF(OR(AB9="",AB9="N/A"),"NOT TRAINED",IF(AB9+365<TODAY(),"EXPIRED",IF(AB9+365-TODAY()<=60,"EXPIRING","VALID"))) -> NOT TRAINED | AD9: N/A | AE9: =IF(OR(AD9="",AD9="N/A"),"NOT TRAINED",IF(AD9+365<TODAY(),"EXPIRED",IF(AD9+365-TODAY()<=60,"EXPIRING","VALID"))) -> NOT TRAINED | AF9: N/A | AG9: =IF(OR(AF9="",AF9="N/A"),"NOT TRAINED",IF(AF9+365<TODAY(),"EXPIRED",IF(AF9+365-TODAY()<=60,"EXPIRING","VALID"))) -> NOT TRAINED | AH9: N/A | AI9: =IF(OR(AH9="",AH9="N/A"),"NOT TRAINED",IF(AH9+365<TODAY(),"EXPIRED",IF(AH9+365-TODAY()<=60,"EXPIRING","VALID"))) -> NOT TRAINED | AJ9: N/A | AK9: =IF(OR(AJ9="",AJ9="N/A"),"NOT TRAINED",IF(AJ9+365<TODAY(),"EXPIRED",IF(AJ9+365-TODAY()<=60,"EXPIRING","VALID"))) -> NOT TRAINED | AL9: N/A | AM9: =IF(OR(AL9="",AL9="N/A"),"NOT TRAINED",IF(AL9+365<TODAY(),"EXPIRED",IF(AL9+365-TODAY()<=60,"EXPIRING","VALID"))) -> NOT TRAINED | AN9: N/A | AO9: =IF(OR(AN9="",AN9="N/A"),"NOT TRAINED",IF(AN9+365<TODAY(),"EXPIRED",IF(AN9+365-TODAY()<=60,"EXPIRING","VALID"))) -> NOT TRAINED | AP9: N/A | AQ9: =IF(OR(AP9="",AP9="N/A"),"NOT TRAINED",IF(AP9+365<TODAY(),"EXPIRED",IF(AP9+365-TODAY()<=60,"EXPIRING","VALID"))) -> NOT TRAINED | AR9: N/A | AS9: =IF(OR(AR9="",AR9="N/A"),"NOT TRAINED",IF(AR9+365<TODAY(),"EXPIRED",IF(AR9+365-TODAY()<=60,"EXPIRING","VALID"))) -> NOT TRAINED | AT9: N/A | AU9: =IF(OR(AT9="",AT9="N/A"),"NOT TRAINED",IF(AT9+365<TODAY(),"EXPIRED",IF(AT9+365-TODAY()<=60,"EXPIRING","VALID"))) -> NOT TRAINED | AV9: 45914 | AW9: =IF(OR(AV9="",AV9="N/A"),"NOT TRAINED",IF(AV9+365<TODAY(),"EXPIRED",IF(AV9+365-TODAY()<=60,"EXPIRING","VALID"))) -> EXPIRING
A10: W1006 | B10: Green | C10: Nadia | D10: Subcontractor | E10: HSEQ | F10: Environmental Coordinator | G10: Eastern Region – Norwich | H10: J. Henderson | I10: =IFERROR((COUNTIF(K10,"VALID")+COUNTIF(M10,"VALID")+COUNTIF(O10,"VALID")+COUNTIF(Q10,"VALID")+COUNTIF(S10,"VALID")+COUNTIF(U10,"VALID")+COUNTIF(W10,"VALID")+COUNTIF(Y10,"VALID")+COUNTIF(AA10,"VALID")+COUNTIF(AC10,"VALID")+COUNTIF(AE10,"VALID")+COUNTIF(AG10,"VALID")+COUNTIF(AI10,"VALID")+COUNTIF(AK10,"VALID")+COUNTIF(AM10,"VALID")+COUNTIF(AO10,"VALID")+COUNTIF(AQ10,"VALID")+COUNTIF(AS10,"VALID")+COUNTIF(AU10,"VALID")+COUNTIF(AW10,"VALID"))/(COUNTIFS(K10,"<>NOT TRAINED",K10,"<>N/A")+COUNTIFS(M10,"<>NOT TRAINED",M10,"<>N/A")+COUNTIFS(O10,"<>NOT TRAINED",O10,"<>N/A")+COUNTIFS(Q10,"<>NOT TRAINED",Q10,"<>N/A")+COUNTIFS(S10,"<>NOT TRAINED",S10,"<>N/A")+COUNTIFS(U10,"<>NOT TRAINED",U10,"<>N/A")+COUNTIFS(W10,"<>NOT TRAINED",W10,"<>N/A")+COUNTIFS(Y10,"<>NOT TRAINED",Y10,"<>N/A")+COUNTIFS(AA10,"<>NOT TRAINED",AA10,"<>N/A")+COUNTIFS(AC10,"<>NOT TRAINED",AC10,"<>N/A")+COUNTIFS(AE10,"<>NOT TRAINED",AE10,"<>N/A")+COUNTIFS(AG10,"<>NOT TRAINED",AG10,"<>N/A")+COUNTIFS(AI10,"<>NOT TRAINED",AI10,"<>N/A")+COUNTIFS(AK10,"<>NOT TRAINED",AK10,"<>N/A")+COUNTIFS(AM10,"<>NOT TRAINED",AM10,"<>N/A")+COUNTIFS(AO10,"<>NOT TRAINED",AO10,"<>N/A")+COUNTIFS(AQ10,"<>NOT TRAINED",AQ10,"<>N/A")+COUNTIFS(AS10,"<>NOT TRAINED",AS10,"<>N/A")+COUNTIFS(AU10,"<>NOT TRAINED",AU10,"<>N/A")+COUNTIFS(AW10,"<>NOT TRAINED",AW10,"<>N/A")),"") -> 0 | J10: 45852 | K10: =IF(OR(J10="",J10="N/A"),"NOT TRAINED",IF(J10+365<TODAY(),"EXPIRED",IF(J10+365-TODAY()<=60,"EXPIRING","VALID"))) -> EXPIRED | L10: N/A | M10: =IF(OR(L10="",L10="N/A"),"NOT TRAINED",IF(L10+365<TODAY(),"EXPIRED",IF(L10+365-TODAY()<=60,"EXPIRING","VALID"))) -> NOT TRAINED | N10: N/A | O10: =IF(OR(N10="",N10="N/A"),"NOT TRAINED",IF(N10+365<TODAY(),"EXPIRED",IF(N10+365-TODAY()<=60,"EXPIRING","VALID"))) -> NOT TRAINED | P10: 45726 | Q10: =IF(OR(P10="",P10="N/A"),"NOT TRAINED",IF(P10+365<TODAY(),"EXPIRED",IF(P10+365-TODAY()<=60,"EXPIRING","VALID"))) -> EXPIRED | R10: 45626 | S10: =IF(OR(R10="",R10="N/A"),"NOT TRAINED",IF(R10+365<TODAY(),"EXPIRED",IF(R10+365-TODAY()<=60,"EXPIRING","VALID"))) -> EXPIRED | T10: N/A | U10: =IF(OR(T10="",T10="N/A"),"NOT TRAINED",IF(T10+365<TODAY(),"EXPIRED",IF(T10+365-TODAY()<=60,"EXPIRING","VALID"))) -> NOT TRAINED | V10: N/A | W10: =IF(OR(V10="",V10="N/A"),"NOT TRAINED",IF(V10+365<TODAY(),"EXPIRED",IF(V10+365-TODAY()<=60,"EXPIRING","VALID"))) -> NOT TRAINED | X10: N/A | Y10: =IF(OR(X10="",X10="N/A"),"NOT TRAINED",IF(X10+365<TODAY(),"EXPIRED",IF(X10+365-TODAY()<=60,"EXPIRING","VALID"))) -> NOT TRAINED | Z10: N/A | AA10: =IF(OR(Z10="",Z10="N/A"),"NOT TRAINED",IF(Z10+365<TODAY(),"EXPIRED",IF(Z10+365-TODAY()<=60,"EXPIRING","VALID"))) -> NOT TRAINED | AB10: N/A | AC10: =IF(OR(AB10="",AB10="N/A"),"NOT TRAINED",IF(AB10+365<TODAY(),"EXPIRED",IF(AB10+365-TODAY()<=60,"EXPIRING","VALID"))) -> NOT TRAINED | AD10: N/A | AE10: =IF(OR(AD10="",AD10="N/A"),"NOT TRAINED",IF(AD10+365<TODAY(),"EXPIRED",IF(AD10+365-TODAY()<=60,"EXPIRING","VALID"))) -> NOT TRAINED | AF10: N/A | AG10: =IF(OR(AF10="",AF10="N/A"),"NOT TRAINED",IF(AF10+365<TODAY(),"EXPIRED",IF(AF10+365-TODAY()<=60,"EXPIRING","VALID"))) -> NOT TRAINED | AH10: N/A | AI10: =IF(OR(AH10="",AH10="N/A"),"NOT TRAINED",IF(AH10+365<TODAY(),"EXPIRED",IF(AH10+365-TODAY()<=60,"EXPIRING","VALID"))) -> NOT TRAINED | AJ10: N/A | AK10: =IF(OR(AJ10="",AJ10="N/A"),"NOT TRAINED",IF(AJ10+365<TODAY(),"EXPIRED",IF(AJ10+365-TODAY()<=60,"EXPIRING","VALID"))) -> NOT TRAINED | AL10: N/A | AM10: =IF(OR(AL10="",AL10="N/A"),"NOT TRAINED",IF(AL10+365<TODAY(),"EXPIRED",IF(AL10+365-TODAY()<=60,"EXPIRING","VALID"))) -> NOT TRAINED | AN10: N/A | AO10: =IF(OR(AN10="",AN10="N/A"),"NOT TRAINED",IF(AN10+365<TODAY(),"EXPIRED",IF(AN10+365-TODAY()<=60,"EXPIRING","VALID"))) -> NOT TRAINED | AP10: N/A | AQ10: =IF(OR(AP10="",AP10="N/A"),"NOT TRAINED",IF(AP10+365<TODAY(),"EXPIRED",IF(AP10+365-TODAY()<=60,"EXPIRING","VALID"))) -> NOT TRAINED | AR10: N/A | AS10: =IF(OR(AR10="",AR10="N/A"),"NOT TRAINED",IF(AR10+365<TODAY(),"EXPIRED",IF(AR10+365-TODAY()<=60,"EXPIRING","VALID"))) -> NOT TRAINED | AT10: N/A | AU10: =IF(OR(AT10="",AT10="N/A"),"NOT TRAINED",IF(AT10+365<TODAY(),"EXPIRED",IF(AT10+365-TODAY()<=60,"EXPIRING","VALID"))) -> NOT TRAINED | AV10: 45914 | AW10: =IF(OR(AV10="",AV10="N/A"),"NOT TRAINED",IF(AV10+365<TODAY(),"EXPIRED",IF(AV10+365-TODAY()<=60,"EXPIRING","VALID"))) -> EXPIRING
